{"text_format":"1","workbook":"xlsx","n_sheets":14,"sheets":["Input sheet","TCO Calculator","lay-out","OEM PN","Talen","Selection","Calculations TCO","Capacities generators","Capacities Dryers","OVR sizing","Buffer vessel","factors-pull down","Part numbers","Maintenance parts"],"not_rendered":{"charts":3,"images":10,"macros":1,"external_links":0,"defined_names":12,"comments":5,"pivot_tables":0},"unopened":[],"bounds":{"document_bytes":16777216,"sheet_cells":100000,"rows_first":2000,"rows_last":500,"rows_between":2000,"halvings":0,"cell_chars":16384,"cell_head_chars":4096},"cells_cut":0,"cells_raw":0,"read":"whole","date_system":"1900"}

{"sheet":"Input sheet","index":0,"n_rows":56,"n_cols":8,"rows_kept":56,"cut":false,"hidden":false,"merged":[[21,7,23,7],[36,0,36,6],[21,6,23,6],[0,0,0,4],[2,2,2,4],[7,2,7,4],[8,2,8,5],[21,0,23,0],[21,1,23,1],[21,2,23,2],[21,3,23,3],[21,4,23,4],[21,5,23,5]]}
[{"$f":"Talen!A2","v":"INDUSTRIAL NITROGEN GAS GENERATION\nElectronic sizing and selection tool"}]
[{"$f":"Talen!A3","v":"Input gas generator selection"},null,null,null,null,null,{"$f":"Talen!A18","v":"Customer name"}]
[{"$f":"Talen!A4","v":"N2 Flow rate "},20,"m3/hr reference temperature 20°C"]
[{"$f":"Talen!A5","v":"Nitrogen purity (Oxygen Content)"},"0,5%",null,null,null,null,{"$f":"Talen!A19","v":"Project number"}]
[{"$f":"Talen!A6","v":"Factory air pressure available"},"7","barg",{"$f":"VLOOKUP(B5,'factors-pull down'!A106:B126,2,FALSE)","v":101.5},"psig"]
[{"$f":"Talen!A7","v":"Pressure drop over pre-treatment"},1,"barg",{"$f":"VLOOKUP(B6,'factors-pull down'!A129:B130,2,FALSE)","v":14.5},"psig",null,{"$f":"Talen!A20","v":"Date"}]
[{"$f":"Talen!A8","v":"Compressed air pressure to generator"},{"$f":"IF(B6=1,VLOOKUP(B5,'factors-pull down'!A106:C126,3,FALSE),B5)","v":"6"},"barg",{"$f":"VLOOKUP(B7,'factors-pull down'!C106:D126,2,FALSE)","v":87},"psig"]
[{"$f":"Talen!A9","v":"Temperature"},"20°C (68°F)",{"$f":"Talen!A10","v":"Ambient for PSA generators"},null,null,null,{"$f":"Talen!A21","v":"Language"}]
[{"$f":"Talen!A9","v":"Temperature"},"20°C (68°F)",{"$f":"Talen!A11","v":"Compressed air for membrane generators, dryers and OVR"},null,null,null,"English"]
[{"$f":"Talen!A22","v":"Input pre-treatment selection"}]
[{"$f":"Talen!A23","v":"Dryer options"},"Match dryer with number of generators"]
[{"$f":"Talen!A24","v":"Oil vapour removal needed"},"Automatic selection on feed-air temperature"]
[{"$f":"Talen!A30","v":"Input for article number selection and energy consumption"}]
[{"$f":"Talen!A31","v":"Nitrogen output pressure"},{"$f":"Talen!A34","v":"Only needed to select PSA generator part number"},"6","barg",{"$f":"VLOOKUP(C14,'factors-pull down'!C106:D126,2,FALSE)","v":87},"psig"]
[{"$f":"Talen!A32","v":"Power supply "},{"$f":"Talen!A35","v":"Only needed for dryers"},"230V-50 Hz",null,{"$f":"Talen!A39","v":"Energy price per kwh"},0.13,{"$f":"Talen!A40","v":"Cost/kwh"}]
[{"$f":"Talen!A33","v":"Compressor type"},{"$f":"Talen!A36","v":"Only needed for PSA generator at feed-air temperature > 35°C"},"Oil lubricated",null,{"$f":"Talen!A41","v":"Generator running hours per year"},6000,{"$f":"Talen!A42","v":"hour"}]
[{"$f":"Talen!A89","v":"Generator with EST (5 and 10 ppm no EST possible)"},null,"Yes",null,{"$f":"Talen!A60","v":"EST Energy saving per year "},{"$f":"IF(OR(A22=\"MIDIGAS 2\",A22=\"MIDIGAS 4\",A22=\"MIDIGAS 6\",B4=\"10ppm\",B4=\"5ppm\"),0,(((((SUM('TCO Calculator'!E41,'TCO Calculator'!E42)*Selection!I25)*'Calculations TCO'!E24)+SUM('TCO Calculator'!E44,'TCO Calculator'!E45))*'TCO Calculator'!E14)*'TCO Calculator'!O12)-((((((SUM('TCO Calculator'!E41,'TCO Calculator'!E42)*Selection!I25)*'Calculations TCO'!E24)+SUM('TCO Calculator'!E44,'TCO Calculator'!E45))*'TCO Calculator'!E14)*'TCO Calculator'!O12)*'Calculations TCO'!I24))","v":564.22469714525323},{"$f":"CONCATENATE(Talen!A44,\" \",Selection!B16,\"%\")","v":"Calculated PSA generator load based on input data = 91%"}]
[]
[{"$f":"Talen!A45","v":"Selection output"}]
[{"$f":"Selection!A1","v":"Selections are based on 0,5% purity at 6 barg generator feed-air pressure and 20°C (68°F) environmental temperature and 20°C (68°F) Feed-air temperature (m3/hr)"}]
[{"$f":"Selection!A2","v":"PSA generator"},{"$f":"Selection!B2","v":"Nitrogen flow per generator"},{"$f":"Selection!C2","v":"Number of"},{"$f":"Selection!D2","v":"Total nitrogen flow"},{"$f":"Selection!E2","v":"Feed-air flow per generator"},{"$f":"Selection!F2","v":"Generator outlet pressure"},{"$f":"Selection!G2","v":"Total generator feed-air flow"},{"$f":"Selection!H2","v":"Part number"}]
[{"$f":"'OEM PN'!A4","v":"N2-25P"},{"$f":"Selection!B3","v":22},{"$f":"Selection!C3","v":1},{"$f":"Selection!D3","v":22},{"$f":"Selection!E3","v":61.6},{"$f":"Selection!F3","v":4.9000000000000004},{"$f":"Selection!G3","v":61.6},{"$f":"IF(C17='Calculations TCO'!L25,'OEM PN'!A5,'OEM PN'!A6)","v":"N2-25PBLY"}]
[]
[]
[{"$f":"Selection!A5","v":"Buffer vessel (one per generator)"},{"$f":"Selection!B5","v":"size 500 litres"},{"$f":"Selection!C5","v":1},null,null,null,null,{"$f":"IF(B6=0,\"-\",Selection!H5)","v":"606201450"}]
[{"$f":"IF(B6=0,\"-\",Selection!A6)","v":"OVR before generator"},{"$f":"IF(B6=0,\"-\",Selection!B6)","v":"Capacity per OVR"},null,{"$f":"IF(B6=0,\"-\",Selection!D6)","v":"Total capacity"}]
[{"$f":"IF(B6=0,\"-\",Selection!A7)","v":"Not applicable"},{"$f":"IF(B6=0,\"-\",Selection!B7)","v":""},{"$f":"IF(B6=0,\"-\",Selection!C7)","v":""},{"$f":"IF(B6=0,\"-\",Selection!D7)","v":""},null,null,null,{"$f":"IF(B6=0,\"-\",Selection!H7)","v":""}]
[{"$f":"IF(B6=0,\"-\",Selection!A8)","v":"Dust filter behind OVR"},null,{"$f":"IF(B6=0,\"-\",Selection!C8)","v":""},null,null,null,null,{"$f":"IF(B6=0,\"-\",Selection!H8)","v":""}]
[{"$f":"IF(B6=0,\"-\",Selection!A9)","v":"Dryer incl. Filters"},{"$f":"IF(B6=0,\"-\",Selection!B9)","v":"Capacity per dryer"},null,{"$f":"IF(B6=0,\"-\",Selection!D9)","v":"Purge flow per dryer"},{"$f":"IF(B6=0,\"-\",Selection!E9)","v":"Total dryer purge"},null,{"$f":"IF(B6=0,\"-\",Selection!G9)","v":"Total air consumption, generator and dryer"}]
[{"$f":"IF(B6=0,\"-\",'OEM PN'!A7)","v":"DME025"},{"$f":"IF(B6=0,\"-\",Selection!B10)","v":73.91},{"$f":"IF(B6=0,\"-\",Selection!C10)","v":1},{"$f":"IF(B6=0,\"-\",Selection!D10)","v":16.41},{"$f":"IF(B6=0,\"-\",Selection!E10)","v":16.41},null,{"$f":"IF(B6=0,\"-\",Selection!G10)","v":78.010000000000005},{"$f":"IF(B6=0,\"-\",'OEM PN'!A8)","v":"DME025N2-E"}]
[]
[{"$f":"Selection!A11","v":"Membrane generator"},{"$f":"Selection!B11","v":"Nitrogen flow per generator"},{"$f":"Selection!C11","v":"Number of"},{"$f":"Selection!D11","v":"Total nitrogen flow"},{"$f":"Selection!E11","v":"Feed-air flow per generator"},null,{"$f":"Selection!G11","v":"Total generator feed-air flow"},{"$f":"Selection!H11","v":"Part number"}]
[{"$f":"Selection!A12","v":"Nitrosource Main + 4 Subs"},{"$f":"Selection!B12","v":22.8},{"$f":"Selection!C12","v":1},{"$f":"Selection!D12","v":22.8},{"$f":"Selection!E12","v":193.8},null,{"$f":"Selection!G12","v":193.8},{"$f":"Selection!H12","v":"1 x 159.003552 and 4 x 159.003553"}]
[{"$f":"IF(B6=0,\"-\",Selection!A13)","v":"Dryer incl. Filters"},{"$f":"IF(B6=0,\"-\",Selection!B13)","v":"Capacity per dryer"},null,{"$f":"IF(B6=0,\"-\",Selection!D13)","v":"Purge flow per dryer"},{"$f":"IF(B6=0,\"-\",Selection!E13)","v":"Total dryer purge"},null,{"$f":"IF(B6=0,\"-\",Selection!G13)","v":"Total air consumption, generator and dryer"}]
[{"$f":"IF(B6=0,\"-\",Selection!A14)","v":"DME080"},{"$f":"IF(B6=0,\"-\",Selection!B14)","v":244.66},{"$f":"IF(B6=0,\"-\",Selection!C14)","v":1},{"$f":"IF(B6=0,\"-\",Selection!D14)","v":54.37},{"$f":"IF(B6=0,\"-\",Selection!E14)","v":54.37},null,{"$f":"IF(B6=0,\"-\",Selection!G14)","v":248.17000000000002},{"$f":"IF(B6=0,\"-\",Selection!H14)","v":"DME080N2-E"}]
[]
[{"$f":"Talen!A75","v":"DISCLAIMER The Industrial Nitrogen Gas Generation electronic sizing and selection tool provides an indication of nitrogen system components. The user should always use the 'Industrial Gas technical Reference and Sizing Guide' to double check the indications. Parker is not liable for incorrect indications of this electronic sizing and selection tool. Parker can also update this tool without any notice. All information in this file is confidential. The intention of this file is to help select the right product for an application. The responsibility of a selection for an application lies at the user. All other uses of the included data and or outcomes are forbidden."},null,null,null,null,null,null,{"$f":"CONCATENATE(Talen!A76,\" \",\"1.10b\",\"             \",Talen!A77,\" \",\"30/11/2016\")","v":"Revision 1.10b             Expire date 30/11/2016"}]
[]
[]
[]
[]
[]
[]
[]
[]
[]
[]
[]
[]
[]
[]
[]
[]
[]
[]
[null,null,null,null,{"$f":"IF('Input sheet'!C17='Calculations TCO'!L25,'Input sheet'!F17,((((SUM(E41,E42)*Selection!I25)*'Calculations TCO'!E24)+E45)*E14)*N12)","v":564.22469714525323}]

{"sheet":"TCO Calculator","index":1,"n_rows":113,"n_cols":16,"rows_kept":113,"cut":false,"hidden":false,"merged":[[112,1,112,15],[20,14,20,15],[21,14,21,15],[22,14,22,15],[37,9,37,10],[66,4,66,5],[58,4,58,5],[20,9,20,10],[36,9,36,10],[44,4,44,5],[37,14,37,15],[23,9,23,10],[37,4,37,5],[44,14,44,15],[43,4,43,5],[43,14,43,15],[8,4,8,5],[9,4,9,5],[10,4,10,5],[13,4,13,5],[11,4,11,5],[12,4,12,5],[24,4,24,5],[22,4,22,5],[23,4,23,5],[15,14,15,15],[15,9,15,10],[19,9,19,10],[22,9,22,10],[21,9,21,10],[18,14,18,15],[20,4,20,5],[21,4,21,5],[23,14,23,15],[16,9,16,10],[16,14,16,15],[15,4,15,5],[18,4,18,5],[6,9,6,10],[6,14,6,15],[13,9,13,10],[3,9,3,15],[11,14,11,15],[13,14,13,15],[11,9,11,10],[4,14,4,15],[56,4,56,5],[57,4,57,5],[55,4,55,5],[45,4,45,5],[50,9,50,10],[51,9,51,10],[52,9,52,10],[57,9,57,10],[48,9,48,10],[47,4,47,5],[49,9,49,10],[45,14,45,15],[55,14,55,15],[57,14,57,15],[58,14,58,15],[47,14,47,15],[67,4,67,5],[2,1,2,10],[1,1,1,10],[9,9,9,10],[9,14,9,15],[7,9,7,10],[7,14,7,15],[61,14,61,15],[62,14,62,15],[63,14,63,15],[46,14,46,15],[56,14,56,15],[61,4,61,5],[62,4,62,5],[63,4,63,5],[58,9,58,10]]}
[]
[null,{"$f":"Talen!A78","v":"Total Cost of Ownership calculator PSA N2 Gas Generators"}]
[]
[null,{"$f":"Talen!A79","v":"Cells with black  background can be edited"}]
[null,{"$f":"Talen!A80","v":"Cells with blue background are calculated"}]
[]
[null,{"$f":"Talen!A81","v":"NITROGEN REQUIREMENTS"}]
[null,{"$f":"Talen!A4","v":"N2 Flow rate "},null,null,{"$f":"'Input sheet'!B3","v":20},{"$f":"Selection!H25","v":"m3/hr"},null,null,null,{"$f":"Talen!A18","v":"Customer name"},null,null,null,null,{"$f":"IF('Input sheet'!G3=\"\",\" \",'Input sheet'!G3)","v":" "}]
[null,{"$f":"Talen!A5","v":"Nitrogen purity (Oxygen Content)"},null,null,{"$f":"'Input sheet'!B4","v":"0,5%"}]
[null,{"$f":"Talen!A82","v":"Nitrogen usage per year m3"},null,null,{"$f":"E8*E14","v":120000},null,null,null,null,{"$f":"Talen!A85","v":"Application"}]
[null,{"$f":"Talen!A83","v":"Available Air pressure bar(g)"},null,null,{"$f":"'Input sheet'!B5","v":"7"}]
[null,{"$f":"Talen!A84","v":"Maximum ambient temperature"},null,null,{"$f":"'Input sheet'!B8","v":"20°C (68°F)"},null,null,null,null,{"$f":"Talen!A39","v":"Energy price per kwh"},null,null,null,null,{"$f":"'Input sheet'!F15","v":0.13}]
[null,{"$f":"Talen!A132","v":"Compressed air temperature"},null,null,{"$f":"'Input sheet'!B9","v":"20°C (68°F)"}]
[null,{"$f":"Talen!A41","v":"Generator running hours per year"},null,null,{"$f":"'Input sheet'!F16","v":6000},null,null,null,null,{"$f":"Talen!A86","v":"Currency"},null,null,null,null,"€"]
[]
[]
[null,null,null,null,null,null,null,null,null,{"$f":"Talen!A101","v":"BULK GAS"},null,null,null,null,"Alternative"]
[null,{"$f":"Talen!A87","v":"SPECIFICATION"}]
[null,{"$f":"Talen!A51","v":"PSA generator"},null,null,{"$f":"CONCATENATE('Input sheet'!C22,\" x \",'Input sheet'!H22)","v":"1 x N2-25PBLY"},null,null,null,null,null,null,null,null,null,"xx"]
[null,{"$f":"Talen!A54","v":"Total nitrogen flow"},null,null,{"$f":"'Input sheet'!D22","v":22},{"$f":"Selection!H25","v":"m3/hr"},null,null,null,{"$f":"E8","v":20},null,null,null,null,0,{"$f":"Selection!H25","v":"m3/hr"}]
[null,{"$f":"Talen!A5","v":"Nitrogen purity (Oxygen Content)"},null,null,{"$f":"'Input sheet'!B4","v":"0,5%"},null,null,null,null,"10 ppm",null,null,null,null,99.5]
[null,{"$f":"Talen!A83","v":"Available Air pressure bar(g)"},null,null,{"$f":"'Input sheet'!B5","v":"7"},null,null,null,null,null,null,null,null,null,8]
[null,{"$f":"Talen!A88","v":"Nitrogen pressure bar(g)"},null,null,{"$f":"'Input sheet'!F22","v":4.9000000000000004},null,null,null,null,{"$f":"E23","v":4.9000000000000004},null,null,null,null,0]
[null,null,null,null,null,null,null,null,null,null,null,null,null,null,67]
[null,{"$f":"Talen!A90","v":"Use refrigerant dryer"},null,null,"No"]
[]
[null,{"$f":"Talen!A93","v":"INVESTMENT"}]
[null,{"$f":"Talen!A51","v":"PSA generator"},null,null,{"$f":"E19","v":"1 x N2-25PBLY"},null,null,null,null,null,null,null,null,null,{"$f":"O19","v":"xx"},0]
[null,{"$f":"Talen!A68","v":"Dryer incl. Filters"},null,null,{"$f":"IF(E25='Calculations TCO'!L26,CONCATENATE('Input sheet'!C30,\" x \",'Input sheet'!H30),Talen!A100)","v":"1 x DME025N2-E"},null,null,null,null,null,null,null,null,null,null,0]
[null,{"$f":"Talen!A61","v":"Buffer vessel (one per generator)"},null,null,{"$f":"CONCATENATE('Input sheet'!C25,\" x \",'Input sheet'!B25)","v":"1 x size 500 litres"},null,null,null,null,null,null,null,null,null,null,0]
[null,{"$f":"Talen!A64","v":"OVR before generator"},null,null,{"$f":"CONCATENATE('Input sheet'!C27,\" x \",'Input sheet'!H27)","v":" x "},0,null,null,null,null,null,null,null,null,null,0]
[null,{"$f":"Talen!A67","v":"Dust filter behind OVR"},null,null,{"$f":"CONCATENATE('Input sheet'!C28,\" \",\"x\",\" \",'Input sheet'!H28)","v":" x "},0,null,null,null,null,null,null,null,null,null,0]
[null,{"$f":"Talen!A94","v":"N2 storage vessel"},null,null,"-",0,null,null,null,null,null,null,null,null,null,0]
[null,{"$f":"Talen!A95","v":"Compressor"},null,null,"-",0,null,null,null,null,null,null,null,null,null,0]
[null,{"$f":"Talen!A96","v":"Wet air receiver"},null,null,"-",0,null,null,null,null,null,null,null,null,null,0]
[null,{"$f":"Talen!A97","v":"Piping, fittings and labour"},null,null,"-",0,null,null,null,null,null,null,null,null,null,0]
[null,{"$f":"Talen!A98","v":"New cryo tank system installation"},null,null,null,null,null,null,null,0]
[null,{"$f":"Talen!A99","v":"Total Investment"},null,null,{"$f":"SUM(F28:F36)","v":0},null,null,null,null,{"$f":"J37","v":0},null,null,null,null,{"$f":"SUM(P28:P36)","v":0}]
[]
[null,{"$f":"Talen!A102","v":"OPERATIONAL COSTS"}]
[null,{"$f":"Talen!A57","v":"Total generator feed-air flow"},null,null,{"$f":"'Input sheet'!G22","v":61.6},{"$f":"Selection!H25","v":"m3/hr"},null,null,null,null,null,null,null,null,0,{"$f":"Selection!H25","v":"m3/hr"}]
[null,{"$f":"Talen!A71","v":"Total dryer purge"},null,null,{"$f":"IF(E25='Calculations TCO'!L26,'Input sheet'!E30,0)","v":16.41},{"$f":"Selection!H25","v":"m3/hr"},null,null,null,null,null,null,null,null,0,{"$f":"Selection!H25","v":"m3/hr"}]
[null,{"$f":"Talen!A72","v":"Total air consumption, generator and dryer"},null,null,{"$f":"SUM(E41:E42)","v":78.010000000000005},{"$f":"Selection!H25","v":"m3/hr"},null,null,null,null,null,null,null,null,{"$f":"SUM(O41:O42)","v":0},{"$f":"Selection!H25","v":"m3/hr"}]
[null,{"$f":"Talen!A103","v":"Pre-Treatment power consumption Kwh"},null,null,0,null,null,null,null,null,null,null,null,null,0]
[null,{"$f":"Talen!A104","v":"Generator power consumption Kwh"},null,null,{"$f":"'Input sheet'!C22*0.06","v":0.06},null,null,null,null,null,null,null,null,null,0]
[null,{"$f":"Talen!A105","v":"Average yearly maintenance cost over 10 year"},null,null,{"$f":"('Input sheet'!C22*VLOOKUP(O14,'Calculations TCO'!K2:L21,2,FALSE))+('Input sheet'!C30*VLOOKUP(O14,'Calculations TCO'!K2:M21,3,FALSE))","v":1410},null,null,null,null,null,null,null,null,null,0]
[null,{"$f":"Talen!A106","v":"Average yearly cost for Sieve replacement over 10 years, incl. labour"},null,null,null,null,null,null,null,null,null,null,null,null,0]
[null,{"$f":"Talen!A107","v":"Compressor maintenance cost per year"},null,null,0,null,null,null,null,null,null,null,null,null,0]
[null,{"$f":"Talen!A108","v":"Cost of nitrogen per m3 gas"},null,null,null,null,null,null,null,0.2]
[null,{"$f":"Talen!A109","v":"Nitrogen bottle/tank rent per month"},null,null,null,null,null,null,null,500]
[null,{"$f":"Talen!A110","v":"Nitrogen delivery charge per delivery"},null,null,null,null,null,null,null,50]
[null,{"$f":"Talen!A111","v":"No of drops per year"},null,null,null,null,null,null,null,25]
[null,{"$f":"Talen!A112","v":"Costs associated with managing supply per month"},null,null,null,null,null,null,null,250]
[]
[null,{"$f":"Talen!A113","v":"COST OF OWNERSHIP"}]
[null,{"$f":"Talen!A114","v":"Power cost per year"},null,null,{"$f":"IF('Input sheet'!C17='Calculations TCO'!L25,(((((SUM(E41,E42)*Selection!I25)*'Calculations TCO'!E24)+SUM(E44,E45))*E14)*O12)*'Calculations TCO'!I24,((((SUM(E41,E42)*Selection!I25)*'Calculations TCO'!E24)+E45)*E14)*O12)","v":5078.02227430728},null,null,null,null,null,null,null,null,null,{"$f":"(((((SUM(O41,O42))*'Calculations TCO'!E24)+O45)+O44)*E14)*O12","v":0}]
[null,{"$f":"Talen!A115","v":"Total maintenance cost per year"},null,null,{"$f":"E46+E48","v":1410},null,null,null,null,null,null,null,null,null,{"$f":"O46+O47+O48","v":0}]
[null,{"$f":"Talen!A116","v":"Total nitrogen cost per year"},null,null,{"$f":"IFERROR((E56+E57),\"\")","v":6488.02227430728},null,null,null,null,{"$f":"IFERROR(((E14*J20*J49)+(J50*12)+(J51*J52)+(J53*12)),\"\")","v":34250},null,null,null,null,{"$f":"IFERROR((O56+O57),\"\")","v":0}]
[null,{"$f":"Talen!A117","v":"Total cost per m3"},null,null,{"$f":"E58/(E8*E14)","v":5.4066852285894001E-2},null,null,null,null,{"$f":"J58/(E8*E14)","v":0.28541666666666665},null,null,null,null,{"$f":"O58/(E8*E14)","v":0}]
[]
[null,{"$f":"Talen!A118","v":"SAVINGS AGAINST BULK GAS"}]
[null,{"$f":"Talen!A119","v":"Payback time in years against bulk gas"},null,null,{"$f":"(E38-J38)/(J58-E58)","v":0},null,null,null,null,null,null,null,null,null,{"$f":"(O38-J38)/(J58-O58)","v":0}]
[null,{"$f":"Talen!A120","v":"Savings per year on nitrogen costs against bulk gas"},null,null,{"$f":"J58-E58","v":27761.977725692719},null,null,null,null,null,null,null,null,null,{"$f":"J58-O58","v":34250}]
[null,{"$f":"Talen!A121","v":"Savings per m3 of nitrogen gas against bulk gas"},null,null,{"$f":"J59-E59","v":0.23134981438077265},null,null,null,null,null,null,null,null,null,{"$f":"J59-O59","v":0.28541666666666665}]
[]
[null,{"$f":"Talen!A122","v":"SAVINGS AGAINST ALTERNATIVE"}]
[null,{"$f":"Talen!A123","v":"Payback time in years against Alternative"},null,null,{"$f":"IF((E38-O38)/(O58-E58)<0,0,(E38-O38)/(O58-E58))","v":0}]
[null,{"$f":"Talen!A124","v":"10 year nett savings against Alternative"},null,null,{"$f":"+IF(O58=0,Talen!A125,(10*O58)-(10*E58))","v":"Not applicable"}]
[]
[]
[]
[]
[]
[]
[]
[]
[]
[]
[]
[]
[]
[]
[]
[]
[]
[]
[]
[]
[]
[]
[]
[]
[]
[]
[]
[]
[]
[]
[]
[]
[]
[]
[]
[]
[]
[]
[]
[]
[]
[]
[null,null,null,null,{"$f":"Talen!A129","v":"Total Cost time frame"},"5 years"]
[]
[null,{"$f":"Talen!A75","v":"DISCLAIMER The Industrial Nitrogen Gas Generation electronic sizing and selection tool provides an indication of nitrogen system components. The user should always use the 'Industrial Gas technical Reference and Sizing Guide' to double check the indications. Parker is not liable for incorrect indications of this electronic sizing and selection tool. Parker can also update this tool without any notice. All information in this file is confidential. The intention of this file is to help select the right product for an application. The responsibility of a selection for an application lies at the user. All other uses of the included data and or outcomes are forbidden."}]

{"sheet":"lay-out","index":2,"n_rows":43,"n_cols":10,"rows_kept":43,"cut":false,"hidden":false,"merged":[[36,7,36,8],[37,7,37,8],[42,1,42,9],[38,1,39,1],[38,2,39,2],[38,7,39,8],[38,9,39,9]]}
[]
[]
[null,{"$f":"Talen!A61","v":"Buffer vessel (one per generator)"},{"$f":"'TCO Calculator'!E30","v":"1 x size 500 litres"}]
[]
[]
[]
[]
[]
[]
[]
[]
[]
[]
[]
[]
[]
[]
[]
[]
[]
[]
[]
[]
[]
[]
[]
[]
[]
[]
[]
[null,null,null,null,null,null,null,null,{"$f":"CONCATENATE(Talen!A54,\" \",Selection!H25)","v":"Total nitrogen flow m3/hr"},{"$f":"Selection!D3","v":22}]
[null,null,null,null,null,null,null,null,{"$f":"Talen!A5","v":"Nitrogen purity (Oxygen Content)"},{"$f":"'Input sheet'!B4","v":"0,5%"}]
[null,null,null,null,null,null,null,null,{"$f":"Talen!A88","v":"Nitrogen pressure bar(g)"},{"$f":"Selection!F3","v":4.9000000000000004}]
[]
[]
[]
[null,{"$f":"CONCATENATE(Talen!A72,\" \",Selection!H25)","v":"Total air consumption, generator and dryer m3/hr"},{"$f":"'TCO Calculator'!E43","v":78.010000000000005},null,{"$f":"Talen!A68","v":"Dryer incl. Filters"},{"$f":"'TCO Calculator'!E29","v":"1 x DME025N2-E"},null,{"$f":"Talen!A51","v":"PSA generator"},null,{"$f":"'TCO Calculator'!E19","v":"1 x N2-25PBLY"}]
[null,{"$f":"Talen!A83","v":"Available Air pressure bar(g)"},{"$f":"Selection!C22","v":"7"},null,{"$f":"CONCATENATE(Talen!A71,\" \",Selection!H25)","v":"Total dryer purge m3/hr"},{"$f":"'TCO Calculator'!E42","v":16.41},null,{"$f":"CONCATENATE(Talen!A57,\" \",Selection!H25)","v":"Total generator feed-air flow m3/hr"},null,{"$f":"Selection!G3","v":61.6}]
[null,{"$f":"Talen!A84","v":"Maximum ambient temperature"},{"$f":"'Input sheet'!B8","v":"20°C (68°F)"},null,{"$f":"Talen!A64","v":"OVR before generator"},{"$f":"'TCO Calculator'!E31","v":" x "},null,{"$f":"CONCATENATE(Talen!A8,\" \",Selection!H27)","v":"Compressed air pressure to generator barg"},null,{"$f":"'Input sheet'!B7","v":"6"}]
[null,null,null,null,{"$f":"'Input sheet'!A28","v":"Dust filter behind OVR"},{"$f":"CONCATENATE('Input sheet'!C28,\" \",\"x\",\" \",'Input sheet'!H28)","v":" x "}]
[]
[]
[null,{"$f":"Talen!A75","v":"DISCLAIMER The Industrial Nitrogen Gas Generation electronic sizing and selection tool provides an indication of nitrogen system components. The user should always use the 'Industrial Gas technical Reference and Sizing Guide' to double check the indications. Parker is not liable for incorrect indications of this electronic sizing and selection tool. Parker can also update this tool without any notice. All information in this file is confidential. The intention of this file is to help select the right product for an application. The responsibility of a selection for an application lies at the user. All other uses of the included data and or outcomes are forbidden."}]

{"sheet":"OEM PN","index":3,"n_rows":39,"n_cols":7,"rows_kept":39,"cut":false,"hidden":true,"merged":[]}
[]
["OEM","Parker"]
["Output",null,"Location","Parker","Compair","Gardner Denver","SOL"]
[{"$f":"HLOOKUP($B$2,$D$3:$J$8,2,FALSE)","v":"N2-25P"},"PSA Generator","Input sheet A22",{"$f":"Selection!A3","v":"N2-25P"},{"$f":"IF($D$4=\"MIDIGAS 2\",\"CN20033\",IF($D$4=\"MIDIGAS 4\",\"CN20072\",IF($D$4=\"MIDIGAS 6\",\"CN20090\",CONCATENATE(\"C\",$D$4))))","v":"CN2-25P"},{"$f":"IF($D$4=\"MIDIGAS 2\",\"GDN20033\",IF($D$4=\"MIDIGAS 4\",\"GDN20072\",IF($D$4=\"MIDIGAS 6\",\"GDN20090\",CONCATENATE(\"GD\",$D$4))))","v":"GDN2-25P"},{"$f":"CONCATENATE(\"S\",D4)","v":"SN2-25P"}]
[{"$f":"HLOOKUP($B$2,$D$3:$J$8,3,FALSE)","v":"N2-25PBLY"},"Part number with EST","Input sheet H22",{"$f":"Selection!H3","v":"N2-25PBLY"},{"$f":"IF($D$4=\"MIDIGAS 2\",CONCATENATE(\"EST\",\" \",Talen!$A$125),IF($D$4=\"MIDIGAS 4\",CONCATENATE(\"EST\",\" \",Talen!$A$125),IF($D$4=\"MIDIGAS 6\",CONCATENATE(\"EST\",\" \",Talen!$A$125),CONCATENATE(\"C\",$D$5))))","v":"CN2-25PBLY"},{"$f":"IF($D$4=\"MIDIGAS 2\",CONCATENATE(\"EST\",\" \",Talen!$A$125),IF($D$4=\"MIDIGAS 4\",CONCATENATE(\"EST\",\" \",Talen!$A$125),IF($D$4=\"MIDIGAS 6\",CONCATENATE(\"EST\",\" \",Talen!$A$125),CONCATENATE(\"GD\",$D$5))))","v":"GDN2-25PBLY"},{"$f":"CONCATENATE(\"S\",D5)","v":"SN2-25PBLY"}]
[{"$f":"HLOOKUP($B$2,$D$3:$J$8,4,FALSE)","v":"N2-25PBLN"},"Part number without EST","Input sheet H23",{"$f":"Selection!H4","v":"N2-25PBLN"},{"$f":"IF($D$4=\"MIDIGAS 2\",\"CN20033\",IF($D$4=\"MIDIGAS 4\",\"CN20072\",IF($D$4=\"MIDIGAS 6\",\"CN20090\",CONCATENATE(\"C\",$D$6))))","v":"CN2-25PBLN"},{"$f":"IF($D$4=\"MIDIGAS 2\",\"GDN20033\",IF($D$4=\"MIDIGAS 4\",\"GDN20072\",IF($D$4=\"MIDIGAS 6\",\"GDN20090\",CONCATENATE(\"GD\",$D$6))))","v":"GDN2-25PBLN"},{"$f":"CONCATENATE(\"S\",D6)","v":"SN2-25PBLN"}]
[{"$f":"HLOOKUP($B$2,$D$3:$J$8,5,FALSE)","v":"DME025"},"Dryer incl filters","Input sheet A30",{"$f":"Selection!A10","v":"DME025"},{"$f":"VLOOKUP(D7,A13:B31,2,FALSE)","v":"A15XS"},{"$f":"VLOOKUP(D7,A13:C31,3,FALSE)","v":"GD15XS"},{"$f":"D7","v":"DME025"}]
[{"$f":"HLOOKUP($B$2,$D$3:$J$8,6,FALSE)","v":"DME025N2-E"},"Dryer P/N","Input sheet H30",{"$f":"Selection!H10","v":"DME025N2-E"},{"$f":"E7","v":"A15XS"},{"$f":"F7","v":"GD15XS"},{"$f":"D8","v":"DME025N2-E"}]
[]
[]
[]
["dhFNS dryer","Comp Air  model","Gardner Denver model"]
["DAS2","A2LX","GD2LX"]
["DAS3","A3LX","GD3LX"]
["DAS4","A4LX","GD4LX"]
["DAS5","A5LX","GD5LX"]
["DAS6","A6LX","GD6LX"]
["DAS7","A7LX","GD7LX"]
["DME012","A7XS","GD7XS"]
["DME015","A9XS","GD9XS"]
["DME020","A12XS","GD12XS"]
["DME025","A15XS","GD15XS"]
["DME030","A18XS","GD18XS"]
["DME040","A25XS","GD25XS"]
["DME050","A30XS","GD30XS"]
["DME060","A37XS","GD37XS"]
["DME080","A50XS","GD50XS"]
["MXS102c","A068XS","GD068XS"]
["MXS103c","A102XS","GD102XS"]
["MXS103","A127XS","GD127XS"]
["MXS104","A170XS","GD170XS"]
[]
["Manual, change to OEM version"]
["1. Select OEM in list, cell B2 for this sheet."]
["2. Replace logo on Input sheet, TCO Calculator (there are 2 logo's on this sheet) and Lay-out. Use logo's on this sheet. Compair and GD no logo right top corner at TCO calculator"]
["3. Replace layout picture with OEM lay-out. Send picure backward, adjust lines to point to the right item. Use pictures found here below."]
["4. Hide NITROSource Membrane selection result on \"Input sheet\""]
["5. Delete formula on \"input sheet\" cell H25"]
["6. Select all cells at sheet \"Talen\" and replace Parker with OEM name (use find and replace all option)"]

{"sheet":"Talen","index":4,"n_rows":135,"n_cols":10,"rows_kept":135,"cut":false,"hidden":true,"merged":[]}
["Output","English","Nederlands","Italiano","Deutsch","Hebrew","Français","Czech","简体中文","繁體中文"]
[{"$f":"HLOOKUP('Input sheet'!$G$9,$A$1:$AF$199,2,FALSE)","v":"INDUSTRIAL NITROGEN GAS GENERATION\nElectronic sizing and selection tool"},"INDUSTRIAL NITROGEN GAS GENERATION\nElectronic sizing and selection tool","INDUSTRIELE STIKSTOF GAS GENERATIE\nElektronisch selectie programma","GENERAZIONE DI AZOTO INDUSTRIALE\nSoftware di selezione","INDUSTRIELLE STICKSTOFFERZEUGUNG\nElektronisches Auslegungsprogramm","מחולל חנקן תעשייתי תחשיב אלקטרוני לבחירת גודל מחולל","GENERATION D'AZOTE GAZEUX INDUSTRIEL\nOutil de sélection","PRŮMYSLOVÉ GENERÁTORY DUSÍKU\nElektronický selekční program","工业氮气发生机\r\n电子选型工具","工業氮氣產生機\n電子選型工具"]
[{"$f":"HLOOKUP('Input sheet'!$G$9,$A$1:$AF$199,3,FALSE)","v":"Input gas generator selection"},"Input gas generator selection","Gegevens voor generator selectie","Dati per selezione generatore","Eingabe zur Gasgeneratorauswahl","כניסת לחץ","Données d'entrée du Générateur","Vstupní hodnoty pro výběr generátoru","气体发生机选型参数","氣體產生機選型參數"]
[{"$f":"HLOOKUP('Input sheet'!$G$9,$A$1:$AF$199,4,FALSE)","v":"N2 Flow rate "},"N2 Flow rate ","Benodigde stikstof","Portata N2","N2 Volumenstrom","ספיקת חנקן דרושה","Débit N²","Požadovaný průtok dusíku","氮气流量","氮氣流量"]
[{"$f":"HLOOKUP('Input sheet'!$G$9,$A$1:$AF$199,5,FALSE)","v":"Nitrogen purity (Oxygen Content)"},"Nitrogen purity (Oxygen Content)","Stikstof zuiverheid","Purezza azoto (residuo ossigeno)","Stickstoffqualität (Sauerstoffgehalt)","טוהר חנקן (תחולת חמצן)","Pureté d'azote (Oxygène résiduel)","Čistota dusíku (zbytkový obsah kyslíku)","氮气纯度(残氧含量)","氮氣純度(殘氧含量)"]
[{"$f":"HLOOKUP('Input sheet'!$G$9,$A$1:$AF$199,6,FALSE)","v":"Factory air pressure available"},"Factory air pressure available","Beschikbare persluchtdruk","Pressione aria compressa disponibile","Verfügbarer Luftdruck","לחץ אוויר מפעלי קיים","Pression Air réseau disponible","Dostupný tlak vzduchu v rozvodech","现场可供应空气压力","現場可供應空氣壓力"]
[{"$f":"HLOOKUP('Input sheet'!$G$9,$A$1:$AF$199,7,FALSE)","v":"Pressure drop over pre-treatment"},"Pressure drop over pre-treatment","Drukval over perslucht filtratie","Caduta di pressione pre-trattamento","Differenzdruck der Aufbereitung","מפל לחץ על מערכת סינון/יבוש","Perte de charge du pré-traitement","Tlaková ztráta úpravy stlač. Vzduchu","空气前处理设备所产生的压损","空氣前處理設備所產生的壓損"]
[{"$f":"HLOOKUP('Input sheet'!$G$9,$A$1:$AF$199,8,FALSE)","v":"Compressed air pressure to generator"},"Compressed air pressure to generator","Persluchtdruk naar de generator","Pressione aria compressa al generatore","Luftdruck am Generatoreintritt","לחץ כניסת אוויר למחולל","Pression Air comprimé entrée Générateur","Tlak vzduchu na vstupu do generátoru","进入制氮机的空气压力","進入氮氣機的空氣壓力"]
[{"$f":"HLOOKUP('Input sheet'!$G$9,$A$1:$AF$199,9,FALSE)","v":"Temperature"},"Temperature","Temperatuur","Temperatura","Temperatur","טמפרטורה","Température ","Teplota ","温度","溫度"]
[{"$f":"HLOOKUP('Input sheet'!$G$9,$A$1:$AF$199,10,FALSE)","v":"Ambient for PSA generators"},"Ambient for PSA generators","Omgevingstemperatuur, voor PSA generatoren","Ambiente per generatori PSA","Umgebung für PSA Generatoren","טמפ' סביבה של המחולל","Ambiante pour Générateur PSA","prostředí pro PSA generátory","PSA制氮机, 采环境温度 ","PSA氮氣機, 採環境溫度 "]
[{"$f":"HLOOKUP('Input sheet'!$G$9,$A$1:$AF$199,11,FALSE)","v":"Compressed air for membrane generators, dryers and OVR"},"Compressed air for membrane generators, dryers and OVR","Perslucht voor membraan generatoren, drogers en OVR","Aria compressa per generatori a membrana, essiccatori e OVR","Druckluft für Membrangeneratoren, Trockner und OVR","לחץ אוויר עבור מחוללי ממברנות, מיבשים ומסנני OVR","Air Comprimé pour générateurs à membrane, sécheur et OVR","stlačeného vzduchu pro membránové generátory, sušiče a OVR","中空膜制氮机, 乾燥机及OVR, 采空气进气温度 ","中空膜氮氣機, 乾燥機及OVR, 採空氣進氣溫度 "]
[{"$f":"HLOOKUP('Input sheet'!$G$9,$A$1:$AF$199,12,FALSE)","v":"Select flow dimension"},"Select flow dimension","Selecteer eenheid voor debiet","Seleziona unità di misura","Auswahl Mengeneinheit","בחירת סקלות ספיקה","Débit N² souhaité","Zvolte jednotky průtoku","选择气体流量基准 ","選擇氣體流量基準"]
[{"$f":"HLOOKUP('Input sheet'!$G$9,$A$1:$AF$199,13,FALSE)","v":"m3/hr reference temperature 20°C"},"m3/hr reference temperature 20°C","m3/hr referentie temperatuur 20°C","m3/hr riferito a 20°C","m³/h bei 20 °C Referenztemperatur","m3/hr reference temperature 20°C","m3/h se référant à une température de 20°C","m3/hod @ 20°C ","m3/hr, 参照气体温度为 20°C","m3/hr, 參照氣體溫度為 20°C"]
[{"$f":"HLOOKUP('Input sheet'!$G$9,$A$1:$AF$199,14,FALSE)","v":"Nm3/hr reference temperature 0°C"},"Nm3/hr reference temperature 0°C","Nm3/hr referentie temperatuur 0°C","Nm3/hr riferito a 0°C","Nm³/h bei 0 °C Referenztemperatur","Nm3/hr reference temperature 0°C","Nm3/h se référant à une température de 0°C","Nm3/hod @ 0°C","Nm3/hr, 参照气体温度为 0°C","Nm3/hr, 參照氣體溫度為 0°C"]
[{"$f":"HLOOKUP('Input sheet'!$G$9,$A$1:$AF$199,15,FALSE)","v":"SCFM reference temperature 60°F (15,5°C)"},"SCFM reference temperature 60°F (15,5°C)","SCFM referentie temperatuur 60°F (15,5°C)","SCFM riferito a 60°F (15,5°C)","SCFM bei 60 °F (15,5 °C) Referenztemperatur","SCFM reference temperature 60°F (15,5°C)","SCFM  se référant à une température de 60°F (15,5°C)","SCFM @ 60°F (15,5°C)","SCFM, 参照气体温度为 60°F (15.5°C)","SCFM, 參照氣體溫度為 60°F (15.5°C)"]
[{"$f":"HLOOKUP('Input sheet'!$G$9,$A$1:$AF$199,16,FALSE)","v":"SCFH reference temperature 60°F (15,5°C)"},"SCFH reference temperature 60°F (15,5°C)","SCFH referentie temperatuur 60°F (15,5°C)","SCFH riferito a 60°F (15,5°C)","SCFH bei 60 °F (15,5 °C) Referenztemperatur","CFH reference temperature 60°F (15,5°C)","SCFH  se référant à une température de 60°F (15,5°C)","SCFH @ 60°F (15,5°C)","SCFH, 参照气体温度为 60°F (15.5°C)","SCFH, 參照氣體溫度為 60°F (15.5°C)"]
[{"$f":"HLOOKUP('Input sheet'!$G$9,$A$1:$AF$199,17,FALSE)","v":"l/m reference temperature 20°C"},"l/m reference temperature 20°C","l/m referentie temperatuur 20°C","l/min riferito a 20°C","l/min bei 20 °C Referenztemperatur","Lit/Min ref. temperature 20°C","l/m r se référant à une température de 20°C","l/min @ 20°C","l/m, 参照气体温度为 20°C","l/m, 參照氣體溫度為 20°C"]
[{"$f":"HLOOKUP('Input sheet'!$G$9,$A$1:$AF$199,18,FALSE)","v":"Customer name"},"Customer name","Naam klant","Nome cliente","Kundenname","שם הלקוח","Nom du client","Zákazník","客户名称","客戶名稱"]
[{"$f":"HLOOKUP('Input sheet'!$G$9,$A$1:$AF$199,19,FALSE)","v":"Project number"},"Project number","Project nummer","Numero progetto","Projektnummer","מס. פרויקט/הצעה","Nom ou numéro de projet","Projekt","项目代号","案件代號"]
[{"$f":"HLOOKUP('Input sheet'!$G$9,$A$1:$AF$199,20,FALSE)","v":"Date"},"Date","Datum","Data","Datum","תאריך","Date","Datum","日期","日期"]
[{"$f":"HLOOKUP('Input sheet'!$G$9,$A$1:$AF$199,21,FALSE)","v":"Language"},"Language","Taal","Lingua","Sprache","שפה","Langue","Jazyk","语言","語言"]
[{"$f":"HLOOKUP('Input sheet'!$G$9,$A$1:$AF$199,22,FALSE)","v":"Input pre-treatment selection"},"Input pre-treatment selection","Invoer selectie voorbehandeling","Dati per selezione pre-trattamento","Eingabe zur Aufbereitungswahl","שיטת הטיפול באוויר כניסה","Sélection du Traitement d'air","Výběr úpravy stlačeného vzduchu","空气前处理选型参数","空氣前處理選型參數"]
[{"$f":"HLOOKUP('Input sheet'!$G$9,$A$1:$AF$199,23,FALSE)","v":"Dryer options"},"Dryer options","Droger opties","Opzioni essiccatore","Trockneroptionen","סוג מייבש","Options de sécheur","Volba sušiče vzduchu","乾燥机选项","乾燥機選項"]
[{"$f":"HLOOKUP('Input sheet'!$G$9,$A$1:$AF$199,24,FALSE)","v":"Oil vapour removal needed"},"Oil vapour removal needed","Oliedamp verwijderen?","Adsorbitore di vapori d'olio necessario","Erforderliche Öldampfentfernung"," דרוש OVR","Adsorption des vapeurs d'huile requise","Odstranění olejových par","需要去除油汽","需要去除油汽"]
[{"$f":"HLOOKUP('Input sheet'!$G$9,$A$1:$AF$199,25,FALSE)","v":"Minimum number of dryers"},"Minimum number of dryers","Minimum aantal drogers","Numero minimo di essiccatori","Minimale Trockneranzahl","מס. מיבשים דרוש = מינימום","Nombre minimal de sécheurs","Minimální množství sušičů ","最少的乾燥机数量","最少的乾燥機數量"]
[{"$f":"HLOOKUP('Input sheet'!$G$9,$A$1:$AF$199,26,FALSE)","v":"Match dryer with number of generators"},"Match dryer with number of generators","1 droger per generator","Un essiccatore per ogni generatore","Trockneranzahl gleich Generatoranzahl","התאם מס. המייבשים למס. המחוללים","Correspondance du nombre de sécheurs et de générateurs","Počet sušičů shodný s počtem generátorů","乾燥机的数量和制氮机相同","乾燥機的數量和氮氣機相同"]
[{"$f":"HLOOKUP('Input sheet'!$G$9,$A$1:$AF$199,27,FALSE)","v":"2 dryers"},"2 dryers","2 drogers","2 essiccatori","2 Trockner","שני מייבשים","2 sécheurs","Dva sušiče ","两台乾燥机","兩台乾燥機"]
[{"$f":"HLOOKUP('Input sheet'!$G$9,$A$1:$AF$199,28,FALSE)","v":"Yes"},"Yes","Ja","Sì","Ja","כן","Oui","Ano ","是的","是的"]
[{"$f":"HLOOKUP('Input sheet'!$G$9,$A$1:$AF$199,29,FALSE)","v":"Automatic selection on feed-air temperature"},"Automatic selection on feed-air temperature","Automatische selectie afhankelijk van omgevingstemperatuur","Selezione automatica in base alla temperatura ingresso","Automatische Auswahl gemäß Drucklufttemperatur","בחירה אוטומטית של טמפ' אוויר כניסה","Sélection Automatique en fonction de la température","Automatická volba podle teploty stlač. vzduchu ","依进气温度自动筛选","依進氣溫度自動篩選"]
[{"$f":"HLOOKUP('Input sheet'!$G$9,$A$1:$AF$199,30,FALSE)","v":"Input for article number selection and energy consumption"},"Input for article number selection and energy consumption","Gegevens voor artikelnummer selectie en energieverbruik","Dati per selezione codice e consumi energetici","Eingabe für Artikelnummerauswahl und Energieverbrauch","תוספת לבחירת פריט מס. וצריכת אנרגיה","Sélection du modèle et calcul des consommations énergétiques","Vstupní hodnoty pro výběr modelu a výpočet spotřeby energie","其它选型参数及能源消耗量","其它選型參數及能源消耗量"]
[{"$f":"HLOOKUP('Input sheet'!$G$9,$A$1:$AF$199,31,FALSE)","v":"Nitrogen output pressure"},"Nitrogen output pressure","Stikstofdruk","Pressione azoto uscita","Stickstoff Austrittsdruck","לחץ יציאת חנקן","Pression de sortie Azote","Výstupní tlak dusíku","氮气输出压力","氮氣輸出壓力"]
[{"$f":"HLOOKUP('Input sheet'!$G$9,$A$1:$AF$199,32,FALSE)","v":"Power supply "},"Power supply ","Elektrische voeding","Tensione di alimentazione","Stromanschluss","מתח חשמלי","Puissance installée","Napájení ","电源","電源"]
[{"$f":"HLOOKUP('Input sheet'!$G$9,$A$1:$AF$199,33,FALSE)","v":"Compressor type"},"Compressor type","Type compressor","Tipo compressore","Kompressortyp","סוג המדחס","Type de compresseur","Typ kompresoru ","空压机种类","空壓機種類"]
[{"$f":"HLOOKUP('Input sheet'!$G$9,$A$1:$AF$199,34,FALSE)","v":"Only needed to select PSA generator part number"},"Only needed to select PSA generator part number","Alleen nodig voor selectie van PSA artikelnummer","Necessario solo per selezione codice PSA","Nur zur Auswahl der PSA Generator Teilenummer","נחוץ רק לבחירת דגם מחולל NITROSOURCE PSA","Pour sélectionner le  modèle exact  de générateur","Pro výběr konkrétního modelu generátoru PSA","只需在选用 PSA 制氮机型号时提供","只需在選用 PSA 氮氣機型號時提供"]
[{"$f":"HLOOKUP('Input sheet'!$G$9,$A$1:$AF$199,35,FALSE)","v":"Only needed for dryers"},"Only needed for dryers","Alleen nodig voor drogers","Necessario solo per DAS e DME","Nur zur Auswahl die Trockner","נחוץ רק לבחירת דגם מייבש DAS או DME","Nécessaire pour les sécheurs","Pro výběr sušiče vzduchu","只需在采用 DAS 及 DME 乾燥机时选择","只需在採用 DAS 及 DME 乾燥機時選擇"]
[{"$f":"HLOOKUP('Input sheet'!$G$9,$A$1:$AF$199,36,FALSE)","v":"Only needed for PSA generator at feed-air temperature > 35°C"},"Only needed for PSA generator at feed-air temperature > 35°C","Alleen nodig voor PSA generator met perslucht temperatuur > 35°C","Necessario solo per generatore PSA con temperatura aria > 35°C","Nur zur Auswahl bei >35 °C Lufttemperatur am PSA Generator","נחוץ רק למחוללי PSA כשטמפ' כניסה האוויר מעל 35°C","Nécessaire pour les générateurs PSA à une température > 35°C","Pro výběr PSA generátoru při teplotě vstupního vzduchu > 35°C","只需在采用 PSA 制氮机且进气温度 > 35°C 时选择","只需在採用 PSA 氮氣機且進氣溫度 > 35°C 時選擇"]
[{"$f":"HLOOKUP('Input sheet'!$G$9,$A$1:$AF$199,37,FALSE)","v":"Oil lubricated"},"Oil lubricated","Olie gesmeerd","Lubrificato","Ölgeschmiert","מדחס מוזרק שמן","Lubrifié","Olejem mazaný","油润滑式","油潤滑式"]
[{"$f":"HLOOKUP('Input sheet'!$G$9,$A$1:$AF$199,38,FALSE)","v":"Oil-free"},"Oil-free","Olievrij","Oil-free","Ölfrei","מדחס נטול שמן","Non lubrifié","Bezmazný ","无油式","無油式"]
[{"$f":"HLOOKUP('Input sheet'!$G$9,$A$1:$AF$199,39,FALSE)","v":"Energy price per kwh"},"Energy price per kwh","Energieprijs per kWh","Costo energia per kWh","Stromkosten je kWh","עלות חשמל Kwh","Côut du Kwh","Cena elektrické energie","每度(千瓦小时)电价","每度(千瓦小時)電價"]
[{"$f":"HLOOKUP('Input sheet'!$G$9,$A$1:$AF$199,40,FALSE)","v":"Cost/kwh"},"Cost/kwh","Kosten/kWh","Costo/kWh","Kosten/kWh","עלות אנרגטית Kwh","/Kwh","Kč/kWh","价格/kwh","價格/kwh"]
[{"$f":"HLOOKUP('Input sheet'!$G$9,$A$1:$AF$199,41,FALSE)","v":"Generator running hours per year"},"Generator running hours per year","Generator draaiuren per jaar","Ore di esercizio annuali","Betriebsstunden pro Jahr","שעות העבודה של המחולל בשנה","Nombre d'heures de fonctionnement du générateur par an","Počet provozních hodin za rok ","制氮机每年运转时数","氮氣機每年運轉時數"]
[{"$f":"HLOOKUP('Input sheet'!$G$9,$A$1:$AF$199,42,FALSE)","v":"hour"},"hour","Uur","Ore","Stunde","שעות ","heures","hodin","小时","小時"]
[{"$f":"HLOOKUP('Input sheet'!$G$9,$A$1:$AF$199,43,FALSE)","v":"Average generator load % per year"},"Average generator load % per year","Gem. belasting van de generator in % per jaar","Carico medio % per anno","Mittlere Generator-auslastung % pro Jahr","ממוצע % שעות העמסה של המחולל","Taux de charge annuel moyen du générateur.","Průměrné zatížení generátoru za rok","制氮机每年平均负载%","氮氣機每年平均負載%"]
[{"$f":"HLOOKUP('Input sheet'!$G$9,$A$1:$AF$199,44,FALSE)","v":"Calculated PSA generator load based on input data ="},"Calculated PSA generator load based on input data =","Berekende PSA generator belasting gebaseerd op gegevens =","Calcolo carico generatore basato sui dati iniziali","Kalkulierte Generatorauslastung gemäß Eingaben =","חשב עומס העבודה של המחולל מביסס על נתוני כניסה =","Taux de charge du générateur PSA basé sur les données d'entrée","Výpočtové zatížení PSA generátoru v závislosti na vstupních datech =","按输入数据计算的 PSA 制氮机负载 =","按輸入數據計算的 PSA 氮氣機負載 ="]
[{"$f":"HLOOKUP('Input sheet'!$G$9,$A$1:$AF$199,45,FALSE)","v":"Selection output"},"Selection output","Selectie van Stikstof generator systeem","Selezione ottenuta","Berechnete Auswahl","בחר נתוני יציאה","Sélections ","Výsledky výběru","选型结果","選型結果"]
[{"$f":"HLOOKUP('Input sheet'!$G$9,$A$1:$AF$199,46,FALSE)","v":"Selections are based on"},"Selections are based on","Selecties zijn gebaseerd op","Le selezioni sono basate su","Berechnungen basieren auf","הבחירה מבוססת על","Les sélections sont basées sur :","Výběr vychází z","选型依据","選型依據"]
[{"$f":"HLOOKUP('Input sheet'!$G$9,$A$1:$AF$199,47,FALSE)","v":"purity at"},"purity at","zuiverheid met","purezza a","Reinheit bei","טוהר ב-","pureté","čistoty při","纯度在","純度在"]
[{"$f":"HLOOKUP('Input sheet'!$G$9,$A$1:$AF$199,48,FALSE)","v":"generator feed-air pressure and"},"generator feed-air pressure and","generator inlaatdruk en","pressione aria in ingresso e","Generator-Eintrittsdruck und","לחץ אספקת אוויר למחולל ו-","Pression d'air entrée générateur et","tlaku vzduchu na vstupu a","发生机进气压力且","產生機進氣壓力且"]
[{"$f":"HLOOKUP('Input sheet'!$G$9,$A$1:$AF$199,49,FALSE)","v":"environmental temperature and"},"environmental temperature and","omgevingstemperatuur en","temperatura ambiente e","Umgebungstemperatur und","אקלים בסביבת המחולל  ו-","Température ambiante et ","teploty prostředí a","环境温度及","環境溫度及"]
[{"$f":"HLOOKUP('Input sheet'!$G$9,$A$1:$AF$199,50,FALSE)","v":"Feed-air temperature"},"Feed-air temperature","Inlaat persluchttemperatuur","temperatura aria ingresso","Drucklufttemperatur","טמפ' אספקת אוויר","température air comprimé","teploty vstupního vzduchu","进气温度","進氣溫度"]
[{"$f":"HLOOKUP('Input sheet'!$G$9,$A$1:$AF$199,51,FALSE)","v":"PSA generator"},"PSA generator","PSA generator","Generatore PSA","PSA Generator","מחולל PSA","Générateur PSA","Generátor PSA ","PSA 制氮机","PSA 氮氣機"]
[{"$f":"HLOOKUP('Input sheet'!$G$9,$A$1:$AF$199,52,FALSE)","v":"Nitrogen flow per generator"},"Nitrogen flow per generator","Stikstof productie per generator","Portata azoto per generatore","Stickstoffmenge je Generator","ספיקה חנקן של כל מחולל","Débit d'azote par générateur","Průtok dusíku z generátoru ","每台制氮机的氮气流量","每台氮氣機的氮氣流量"]
[{"$f":"HLOOKUP('Input sheet'!$G$9,$A$1:$AF$199,53,FALSE)","v":"Number of"},"Number of","Aantal generatoren","Numero di","Anzahl","מספר ה:","Nombre de","Množství ","数量","數量"]
[{"$f":"HLOOKUP('Input sheet'!$G$9,$A$1:$AF$199,54,FALSE)","v":"Total nitrogen flow"},"Total nitrogen flow","Totaal stikstof productie","Portata totale azoto","Gesamte Stickstoff-menge","סה\"כ תפוקת חנקן","Débit d'azote total","Celkový průtok dusíku ","总氮气流量","總氮氣流量"]
[{"$f":"HLOOKUP('Input sheet'!$G$9,$A$1:$AF$199,55,FALSE)","v":"Feed-air flow per generator"},"Feed-air flow per generator","Persluchtverbruik per generator","Aria in ingresso per generatore","Luftverbrauch je Generator","צריכת אוויר של המחולל","Consommation d'air par générateur","Spotřeba vzduchu generátoru","每台制氮机所需空气流量","每台氮氣機所需空氣流量"]
[{"$f":"HLOOKUP('Input sheet'!$G$9,$A$1:$AF$199,56,FALSE)","v":"Generator outlet pressure"},"Generator outlet pressure","Stikstof druk","Pressione azoto in uscita","Austrittsdruck am Generator","לחץ יציאת חנקן של המחולל","Pression de sortie générateur","Výstupní tlak dusíku","输出氮气压力","輸出氮氣壓力"]
[{"$f":"HLOOKUP('Input sheet'!$G$9,$A$1:$AF$199,57,FALSE)","v":"Total generator feed-air flow"},"Total generator feed-air flow","Totaal generator persluchtverbruik","Portata aria totale","Gesamter Generator Luftverbrauch","סה\"כ צריכת אוויר","Consommation d'air Totale","Celková spotřeba stlač. vzduchu ","所需总空气流量","所需總空氣流量"]
[{"$f":"HLOOKUP('Input sheet'!$G$9,$A$1:$AF$199,58,FALSE)","v":"Part number"},"Part number","Artikelnummer","Codice","Teilenummer","פריט מס.","Référence","Objednací kód","型号","型號"]
[{"$f":"HLOOKUP('Input sheet'!$G$9,$A$1:$AF$199,59,FALSE)","v":"Energy costs indication per year"},"Energy costs indication per year","Indicatie energie kosten per jaar","Costi energetici indicativi per anno","Überschlägige Jahresenergie-kosten","עלות אנרגיה שנתית","Indication de coûts énergétiques annuels","Odhad ročních nákladů na energii","每年能源成本指标","每年能源成本指標"]
[{"$f":"HLOOKUP('Input sheet'!$G$9,$A$1:$AF$199,60,FALSE)","v":"EST Energy saving per year "},"EST Energy saving per year ","EST Energiebesparing /jaar","EST Risparmio energetico per anno","EST Energieersparnis pro Jahr","חסכון אנרגטי שנתית","EST Economie annuelle","EST Úspora energie za rok","EST 每年能源节省","EST 每年能源節省"]
[{"$f":"HLOOKUP('Input sheet'!$G$9,$A$1:$AF$199,61,FALSE)","v":"Buffer vessel (one per generator)"},"Buffer vessel (one per generator)","Buffertank (één per generator)","Serbatoio di buffer (per ogni generatore)","Pufferkessel (einer pro Generator)","מיכל/קולט (1 לכל מחולל)","Réservoir d'homogénéisation (un par générateur)","Pracovní zásobník (pro každý generátor)","缓冲桶(每台制氮机一只)","緩衝桶(每台氮氣機一只)"]
[{"$f":"HLOOKUP('Input sheet'!$G$9,$A$1:$AF$199,62,FALSE)","v":"size"},"size","Grootte","Taglia","Größe","גודל","taille","Velikost ","容量","容量"]
[{"$f":"HLOOKUP('Input sheet'!$G$9,$A$1:$AF$199,63,FALSE)","v":"litres"},"litres","liter","litri","Liter","ליטר","litres","litrů","公升","公升"]
[{"$f":"HLOOKUP('Input sheet'!$G$9,$A$1:$AF$199,64,FALSE)","v":"OVR before generator"},"OVR before generator","OVR voor de generator","OVR prima del generatore","OVR vor Generator","האם OVR לפני המחולל","OVR avant générateur","OVR před generátorem","制氮机的前置 OVR","氮氣機的前置 OVR"]
[{"$f":"HLOOKUP('Input sheet'!$G$9,$A$1:$AF$199,65,FALSE)","v":"Capacity per OVR"},"Capacity per OVR","Capaciteit per OVR","Capacità OVR","Leistung je OVR","ספיקה של OVR","Capacité par OVR","Kapacita OVR","每 OVR 的处理量","每 OVR 的處理量"]
[{"$f":"HLOOKUP('Input sheet'!$G$9,$A$1:$AF$199,66,FALSE)","v":"Total capacity"},"Total capacity","Totale capaciteit","Capacità totale","Gesamt-leistung","סה\"כ תפוקה","Capacité totale","Celková kapacita","总处理量","總處理量"]
[{"$f":"HLOOKUP('Input sheet'!$G$9,$A$1:$AF$199,67,FALSE)","v":"Dust filter behind OVR"},"Dust filter behind OVR","Stoffilter achter de OVR","Filtro antipolvere dopo OVR","Staubfilter nach OVR","מסנני אבק אחרי OVR","Filtre à poussières après OVR","Prachový filtr za OVR ","OVR 的后置粉尘过滤器","OVR 的後置粉塵過濾器"]
[{"$f":"HLOOKUP('Input sheet'!$G$9,$A$1:$AF$199,68,FALSE)","v":"Dryer incl. Filters"},"Dryer incl. Filters","Droger inclusief filters","Essiccatore incl. Filtri","Trockner inkl. Filter","מייבש כולל פילטרים","Sécheur, filtres inclus","Sušič včetně filtrů","乾燥机含过滤器","乾燥機含過濾器"]
[{"$f":"HLOOKUP('Input sheet'!$G$9,$A$1:$AF$199,69,FALSE)","v":"Capacity per dryer"},"Capacity per dryer","Capaciteit per droger","Capacità per essiccatore","Kapazität je Trockner","תפוקה לכל מייבש","Capacité par sécheur","Kapacita sušiče","每台乾燥机处理量","每台乾燥機處理量"]
[{"$f":"HLOOKUP('Input sheet'!$G$9,$A$1:$AF$199,70,FALSE)","v":"Purge flow per dryer"},"Purge flow per dryer","Spoellucht per droger","Aria di purga per essiccatore","Spülluft je Trockner","אוויר לרענון למייבש","Débit air de régénération","Spotřeba vzduchu sušiče","每台乾燥机排气量","每台乾燥機排氣量"]
[{"$f":"HLOOKUP('Input sheet'!$G$9,$A$1:$AF$199,71,FALSE)","v":"Total dryer purge"},"Total dryer purge","Totaal benodigde droger spoellucht","Aria di purga totale","Gesamte Spülluft","סה\"כ אוויר לרענון","Total air de rgénération","Celková spotřeba vzduchu ","总排气流量","總排氣流量"]
[{"$f":"HLOOKUP('Input sheet'!$G$9,$A$1:$AF$199,72,FALSE)","v":"Total air consumption, generator and dryer"},"Total air consumption, generator and dryer","Totaal persluchtverbruik, generator en droger","Portata aria totale generatore e dryer","Gesamter Luftverbrauch, Generator und Trockner","סה\"כ צריכת אוויר, מחולל + מייבש","Consommation d'air Totale (sécheur + générateur)","Celková spotřeba vzduchu, generátor a sušič","总空气消耗量, 制氮机及乾燥机","總空氣消耗量, 氮氣機及乾燥機"]
[{"$f":"HLOOKUP('Input sheet'!$G$9,$A$1:$AF$199,73,FALSE)","v":"Membrane generator"},"Membrane generator","Membraan generator","Generatore a membrana","Membrangenerator","מחולל ממברנות","Générateur à membrane","Membránový generátor ","中空膜制氮机","中空膜氮氣機"]
[{"$f":"HLOOKUP('Input sheet'!$G$9,$A$1:$AF$199,74,FALSE)","v":"Nitrogen flow per generator"},"Nitrogen flow per generator","Stikstof productie per generator","Portata azoto per generatore","Stickstoffmenge je Generator","תפוקה לכל מחולל","Débit d'azote par générateur","Průtok dusíku z generátoru ","每台制氮机的氮气流量","每台氮氣機的氮氣流量"]
[{"$f":"HLOOKUP('Input sheet'!$G$9,$A$1:$AF$199,75,FALSE)","v":"DISCLAIMER The Industrial Nitrogen Gas Generation electronic sizing and selection tool provides an indication of nitrogen system components. The user should always use the 'Industrial Gas technical Reference and Sizing Guide' to double check the indications. Parker is not liable for incorrect indications of this electronic sizing and selection tool. Parker can also update this tool without any notice. All information in this file is confidential. The intention of this file is to help select the right product for an application. The responsibility of a selection for an application lies at the user. All other uses of the included data and or outcomes are forbidden."},"DISCLAIMER The Industrial Nitrogen Gas Generation electronic sizing and selection tool provides an indication of nitrogen system components. The user should always use the 'Industrial Gas technical Reference and Sizing Guide' to double check the indications. Parker is not liable for incorrect indications of this electronic sizing and selection tool. Parker can also update this tool without any notice. All information in this file is confidential. The intention of this file is to help select the right product for an application. The responsibility of a selection for an application lies at the user. All other uses of the included data and or outcomes are forbidden.","VRIJWAARDING Dit elektronisch selectieprogramma geeft een indicatie voor welke componenten gebruikt kunnen worden voor het gewenste stikstof systeem. De gebruiker dient telkens de selectie te verifiëren middels de  'Industrial Gas technical Reference and Sizing Guide'. Parker is niet aansprakelijk voor onjuiste selecties middels dit selectieprogramma en is gemachtigd op ieder moment een update door te voeren zonder kennisgeving. Alle informatie in dit programma is confidentieel. Het doel van dit programma is the selecteren van het juiste product voor een toepassing. De verantwoordelijkheid voor een juiste selectie ligt bij de gebruiker. Het is verboden de informatie in dit programma te gebruiken voor andere doelen dan product selectie.","ESONERO DA RESPONSABILITA': il presente software di selezione da un'indicazione di componenti del sistena. L'utente deve sempre utilizzare 'Industrial Gas Technical Reference and Sizing Guide' per verificare il risultato. Parker non è responsabile per indicazioni errate di questo software. Parker può modificarlo in ogni momento e senza alcun avviso. Ogni formazione contenuta in questo file è confidenziale. L'intento di questo file è di aiutare a selezionare il giusto prodotto per un'applicazione. La responsabilità di ogni selezione è dell'utente. Ogni ulteriore utilizzo dei dati contenuti  e/o dei risultati è vietato.","Anmerkung: Das elektronische Auslegungprogramm für industrielle Stickstofferzeugung berechnet eine Vorauswahl der Stickstoff-Systemkomponenten. Zur Kontrolle sollte immer der 'Industrial Gas Technical Reference and Sizing Guide' verwendet werden. Parker ist nicht für eine unkorrekte Berechnung durch diese Programm verantwortlich. Parker kann ohne Vorankündigung Änderungen am Programm vornehmen. Alle Informationen dieser Datei sind vertraulich. Dieses Programm soll bei der Auswahl des richtigen Produktes für eine Anwendung dienen. Der Nutzer trägt die Verantwortung der Produktauswahl durch dieses Programm. Die weitere Nutzung der gegebenen Daten oder Berechnungen ist untersagt.","מבלי לפגוע בזכויות.                                                                  ברת PARKER HANNIFIN באמצעות טכנולאב סחר מבססת את                     הנתונים המפורטים מטה על המידע שהלקוח מסר לצורך הגשת                     הצעת מחיר בלבד. על הלקוח לבדוק את המפורט בהצעה ולאשר                 את אמיתות הנתונים. המערכת מספקת מידע ונתונים על מרכיבי           המערכת המוצעת.   מטרת המערכת היא לעזור בבחירת המוצר                  הנכון לשימוש הלקוח.  האחריות על הבחירה של המוצר היא                         על הלקוח.                    כל המידע והנתונים בתוכנה זאת חסוי.","AVERTISSEMENT L'outil de sélection \"Générateurs de gaz Industriels\" fournit une indication des composants d'une centrale d'azote. Nous conseillons à l'utilisateur de contrôler la sélection à l'aide du \"Sizing Reference Guide\". En cas de mauvaise sélection, Parker ne saurait être tenu pour responsable. Parker se réserve également le droit de modifier cet outil sans avertissement préalable aux utilisateurs. Toutes les informations contenues dans ce programme sont confidentielles. Le but de cet outil est d'aider sélectionner le bon produit pour une application. La responsabilité de la sélection incombe à l'utilisateur. Toute utilisation à d'autres fins des données contenues dans ce programme sont strictement interdites.","DISCLAIMER The Industrial Nitrogen Gas Generation electronic sizing and selection tool provides an indication of nitrogen system components. The user should always use the 'Industrial Gas technical Reference and Sizing Guide' to double check the indications. Parker is not liable for incorrect indications of this electronic sizing and selection tool. Parker can also update this tool without any notice. All information in this file is confidential. The intention of this file is to help select the right product for an application. The responsibility of a selection for an application lies at the user. All other uses of the included data and or outcomes are forbidden.","声明 : 本工业氮气发生机电子选型工具仅提供筛选氮气系统各部件的参考. 用户应当依 'Industrial Gas technical Reference and Sizing Guide (工业气体技术参考及选型指导)'的内容及指示选型, 作再次的确认. Parker 不负责本电子工具的任何选型或筛选错误. 另外 Parker 有权不经事先通知或公告既更新本选型工具. \r\n本文件中的所资料皆属机密. 本文件的目的在协助用户针对某一应用场合筛选适当的产品, 而该筛选或选型系由用户自行负责. 禁止将本文件的所有资料或筛选结果用做任何其它用途.","聲明 : 本工業氮氣產生機電子選型工具僅提供篩選氮氣系統各部件的參考. 用戶應當依 'Industrial Gas technical Reference and Sizing Guide (工業氣體技術參考及選型指導)'的內容及指示選型, 作再次的確認. Parker 不負責本電子工具的任何選型或篩選錯誤. 另外 Parker 有權不經事先通知或公告既更新本選型工具. \n本文件中的所資料皆屬機密. 本文件的目的在協助用戶針對某一應用場合篩選適當的產品, 而該篩選或選型係由用戶自行負責. 禁止將本文件的所有資料或篩選結果用做任何其它用途."]
[{"$f":"HLOOKUP('Input sheet'!$G$9,$A$1:$AF$199,76,FALSE)","v":"Revision"},"Revision","Revisie","Revisione","Revision","עידכון (רוויזיה)","Révision","Revize ","版本","版本"]
[{"$f":"HLOOKUP('Input sheet'!$G$9,$A$1:$AF$199,77,FALSE)","v":"Expire date"},"Expire date","Vervaldatum","Data di scadenza","Auslaufdatum","תאריך תפוגה","Date d'expiration","Platnost do","有效期限","有效期限"]
[{"$f":"HLOOKUP('Input sheet'!$G$9,$A$1:$AF$199,78,FALSE)","v":"Total Cost of Ownership calculator PSA N2 Gas Generators"},"Total Cost of Ownership calculator PSA N2 Gas Generators","Totale gebruikskosten calculator voor PSA gas generatoren","Calcolo costi totali di possesso del generatore PSA","PSA N2 Gasgenerator Gesamtkostenberechner","סה\"כ עלות רכישה של מחולל PSA","Calcul de rentabilité d'un générateur d'azote PSA","Výpočet celkových nákladů na provoz generátoru dusíku","PSA 氮气机的用户持有总成本计算","PSA 氮氣機的用戶持有總成本計算"]
[{"$f":"HLOOKUP('Input sheet'!$G$9,$A$1:$AF$199,79,FALSE)","v":"Cells with black  background can be edited"},"Cells with black  background can be edited","Cellen met een zwarte achtergrond kunnen bewerkt worden","Le celle a sfondo bianco possono essere scritte","Zellen mit schwarzem Hintergrund können geändert werden","תאים עם רקע שחור יכולים להכנס לחישוב","Les cellules en noir peuvent être complétées","Pole s černým pozadím lze editovat","背景黑色的单元格可供编辑","背景黑色的儲存格可供編輯"]
[{"$f":"HLOOKUP('Input sheet'!$G$9,$A$1:$AF$199,80,FALSE)","v":"Cells with blue background are calculated"},"Cells with blue background are calculated","Cellen met een blauwe achtergrond zijn berekend","Le celle a sfondo blu sono calcolate","Zellen mit blauem Hintergrund wurden berechnet","תאים עם רקע כחול הוכנסו לחישוב","Les cellules en bleu se calculent automatiquement","Pole s modrým pozadím jsou kalkulována","背景蓝色的单元格为自行计算","背景藍色的儲存格為自行計算"]
[{"$f":"HLOOKUP('Input sheet'!$G$9,$A$1:$AF$199,81,FALSE)","v":"NITROGEN REQUIREMENTS"},"NITROGEN REQUIREMENTS","SELECTIE CRITERIA","AZOTO NECESSARIO","STICKSTOFFANFORDERUNGEN","דרישת חנקן","Données Requise ","POŽADAVKY NA DUSÍK","氮气需求","氮氣需求"]
[{"$f":"HLOOKUP('Input sheet'!$G$9,$A$1:$AF$199,82,FALSE)","v":"Nitrogen usage per year m3"},"Nitrogen usage per year m3","Stikstof verbruik per jaar m3","Consumo azoto per anno m3","Stickstoffverbrauch pro Jahr","צריכת חנקן שנתית m3","Nombre de m3 Azote par an","Spotřeba dusíku za rok v m3","每年氮气用量 m3","每年氮氣用量 m3"]
[{"$f":"HLOOKUP('Input sheet'!$G$9,$A$1:$AF$199,83,FALSE)","v":"Available Air pressure bar(g)"},"Available Air pressure bar(g)","Beschikbare persluchtdruk bar(g)","Pressione aria disponibile bar(g)","Verfügbare Druckluft bar(ü)","לחץ אוויר זמין BarG","Pression d'air disponible bar(g)","Dostupný tlak vzduchu bar(g)","可供应空气压力 bar(g)","可供應空氣壓力 bar(g)"]
[{"$f":"HLOOKUP('Input sheet'!$G$9,$A$1:$AF$199,84,FALSE)","v":"Maximum ambient temperature"},"Maximum ambient temperature","Maximale omgevingstemperatuur","Temperatura ambiente massima","Maximale Umgebungstemperatur","טמפ' סביבתי מאכסימאלית","Température ambiante maximum","Maximální teplota prostředí","最高环境温度","最高環境溫度"]
[{"$f":"HLOOKUP('Input sheet'!$G$9,$A$1:$AF$199,85,FALSE)","v":"Application"},"Application","Toepassing","Applicazione","Anwendung","אפליקציה","Application","Aplikace ","应用场合","應用場合"]
[{"$f":"HLOOKUP('Input sheet'!$G$9,$A$1:$AF$199,86,FALSE)","v":"Currency"},"Currency","Valuta","Valuta","Währung","מטבע","Monnaie","Měna ","货币","貨幣"]
[{"$f":"HLOOKUP('Input sheet'!$G$9,$A$1:$AF$199,87,FALSE)","v":"SPECIFICATION"},"SPECIFICATION","SPECIFICATIE","Specifiche","SPEZIFIKATION","ספסיפיקציה","SPECIFICATION","SPECIFIKACE","规格参数","規格參數"]
[{"$f":"HLOOKUP('Input sheet'!$G$9,$A$1:$AF$199,88,FALSE)","v":"Nitrogen pressure bar(g)"},"Nitrogen pressure bar(g)","Stikstofdruk bar(g)","Pressione azoto bar(g)","Stickstoffdruck bar(ü)","לחץ חנקן BarG","Pression de sortie d'azote","Tlak dusíku bar(g)","氮气压力 bar(g)","氮氣壓力 bar(g)"]
[{"$f":"HLOOKUP('Input sheet'!$G$9,$A$1:$AF$199,89,FALSE)","v":"Generator with EST (5 and 10 ppm no EST possible)"},"Generator with EST (5 and 10 ppm no EST possible)","Generator met EST (5 en 10 ppm EST niet mogelijk)","Generatore con EST (non disponibile per 5 e 10 ppm)","Generator mit EST (nicht für 5 bzw. 10 ppm)","NITROSource with EST (5 and 10 ppm no EST possible)","Générateur avec EST (indisponible pour 5 et 10 ppm)","Generátor PSA včetně EST (nelze pro 5 a 10 ppm)","NITROSource 加选 EST 节能套件 (5和10 ppm机型无EST)","NITROSource 加選 EST 節能套件 (5和10 ppm機型無EST)"]
[{"$f":"HLOOKUP('Input sheet'!$G$9,$A$1:$AF$199,90,FALSE)","v":"Use refrigerant dryer"},"Use refrigerant dryer","Gebruik koeldroger","Uso essiccatore frigorifero","Kältetrockner verwenden","השתמש במיבש קירור","Utilisation d'un sécheur par réfrigération","Použití kondenzačního sušiče","采用冷冻乾燥机","採用冷凍乾燥機"]
[{"$f":"HLOOKUP('Input sheet'!$G$9,$A$1:$AF$199,91,FALSE)","v":"Yes"},"Yes","Ja","Sì","Ja","כן","Oui","Ano ","是的","是的"]
[{"$f":"HLOOKUP('Input sheet'!$G$9,$A$1:$AF$199,92,FALSE)","v":"No"},"No","Nee","No","Nein","לא","Non ","Ne","不","不"]
[{"$f":"HLOOKUP('Input sheet'!$G$9,$A$1:$AF$199,93,FALSE)","v":"INVESTMENT"},"INVESTMENT","INVESTERING","INVESTIMENTO","INVESTITION","השקעה","INVESTISSEMENT","INVESTICE","投资成本","投資成本"]
[{"$f":"HLOOKUP('Input sheet'!$G$9,$A$1:$AF$199,94,FALSE)","v":"N2 storage vessel"},"N2 storage vessel","N2 voorraadvat","Serbatoio stoccaggio N2","N2 Speicherkessel","מיכל חנקן","Réservoir de stokage Azote","Koncový zásobník dusíku","氮气储存桶","氮氣儲存桶"]
[{"$f":"HLOOKUP('Input sheet'!$G$9,$A$1:$AF$199,95,FALSE)","v":"Compressor"},"Compressor","Compressor","Compressore","Kompressor","מדחס אוור","Compresseur","Kompresor","空压机","空壓機"]
[{"$f":"HLOOKUP('Input sheet'!$G$9,$A$1:$AF$199,96,FALSE)","v":"Wet air receiver"},"Wet air receiver","Persluchtvat","Serbatoio aria umida","Druckluftkessel","מיכל אוויר ראשוני (רטוב)","Réservoir amont","Vzdušník (za kompresorem)","空气储存槽","空氣儲存槽"]
[{"$f":"HLOOKUP('Input sheet'!$G$9,$A$1:$AF$199,97,FALSE)","v":"Piping, fittings and labour"},"Piping, fittings and labour","Leidingwerk, installatie en arbeid","Tubazioni, connessioni e manodopera","Verrohrung und Arbeitszeit","צנרת, אביזרים ועבודה","Tuyauterie et raccordements","Potrubí, armatury a instalace","配管, 管配件及工资","配管, 管配件及工資"]
[{"$f":"HLOOKUP('Input sheet'!$G$9,$A$1:$AF$199,98,FALSE)","v":"New cryo tank system installation"},"New cryo tank system installation","Nieuwe cryogene tank installatie","Installazione nuovo impianto azoto liquido","Neue Flüssigtankinstallation","מערכת חנקן נוזלי חדשה","Installation d'un nouveau réservoir cryogénique","Instalace nové odpařovací stanice","液态氮桶槽系统安装","液態氮桶槽系統安裝"]
[{"$f":"HLOOKUP('Input sheet'!$G$9,$A$1:$AF$199,99,FALSE)","v":"Total Investment"},"Total Investment","Totale investering","Investimento totale","Gesamtinvestition","סה\"כ השקעה","Investissement total","Celková investice","总投资成本","總投資成本"]
[{"$f":"HLOOKUP('Input sheet'!$G$9,$A$1:$AF$199,100,FALSE)","v":"Refrigerant dryer"},"Refrigerant dryer","Koeldroger","Esiccatore frigorifero","Kältetrockner","מייבש קירור","sécheur par réfrigération","Kondenzační sušič","冷冻乾燥机","冷凍乾燥機"]
[{"$f":"HLOOKUP('Input sheet'!$G$9,$A$1:$AF$199,101,FALSE)","v":"BULK GAS"},"BULK GAS","BULK GAS","GAS IN BOMBOLE / LIQUIDO","Flüssiggas","גלילי חנקן","Gaz en Vrac","KAPALNÝ DUSÍK","钢瓶/液氮","鋼瓶/液氮"]
[{"$f":"HLOOKUP('Input sheet'!$G$9,$A$1:$AF$199,102,FALSE)","v":"OPERATIONAL COSTS"},"OPERATIONAL COSTS","OPERATIONELE KOSTEN","COSTI OPERATIVI","BETRIEBSKOSTEN","עלות תיפעולית","Coûts de fonctionnement","PROVOZNÍ NÁKLADY","操作成本","操作成本"]
[{"$f":"HLOOKUP('Input sheet'!$G$9,$A$1:$AF$199,103,FALSE)","v":"Pre-Treatment power consumption Kwh"},"Pre-Treatment power consumption Kwh","Perslucht conditionering energieverbruik KWh","Consumo elettrico pre-trattamento kWh","Energieverbrauch der Aufbereitung kWh","עלות אנרגיתית למע' יבוש אוויר Kwh","Consommation énergétique du traitement d'air","Příkon předúpravy stlač. vzduchu kWh","空气前处理耗电 Kwh","空氣前處理耗電 Kwh"]
[{"$f":"HLOOKUP('Input sheet'!$G$9,$A$1:$AF$199,104,FALSE)","v":"Generator power consumption Kwh"},"Generator power consumption Kwh","Generator energieverbruik KWh","Consumo elettrico generatore kWh","Energieverbrauch des Generators kWh"," צריכת אנרגיה כללית למערכת Kwh","Consommation énergétique du générateur","Příkon generátoru dusíku kWh","制氮机耗电 Kwh","氮氣機耗電 Kwh"]
[{"$f":"HLOOKUP('Input sheet'!$G$9,$A$1:$AF$199,105,FALSE)","v":"Average yearly maintenance cost over 10 year"},"Average yearly maintenance cost over 10 year","Gemiddelde jaarlijkse onderhoudskosten over 10 jaar","Costo annuale medio manutenzione sui 10 anni","Durchschnittliche jährliche Wartungskosten über 10 Jahre"," עלות אחזקה שנתית ממוצעת ל-10 שנים","Coût moyen de la maintenance sur 10 ans","Průměrné roční náklady na údržbu za 10 let","10年间平均每年的维护费用, 含工资","10年間平均每年的維護費用, 含工資"]
[{"$f":"HLOOKUP('Input sheet'!$G$9,$A$1:$AF$199,106,FALSE)","v":"Average yearly cost for Sieve replacement over 10 years, incl. labour"},"Average yearly cost for Sieve replacement over 10 years, incl. labour","Gemiddelde jaarlijkse kosten voor vervangen adsobent over 10 jaar","Costo medio annuale sostituzione setaccio per 10 anni, incl. manodopera","Durchschnittliche jährliche Kosten für Molekularsiebwechsel über 10 Jahre","עלות שנתית להחלפת מולקולר-סיב ל-10 שנים כולל עלות העבודה","Coût moyen du remplacement de charbon sur 10 ans (M-O incluse)","Průměrné roční náklady na výměnu molekul. síta za 10 let vč. práce","10年间平均每年的碳分子筛更换成本, 含工资","10年間平均每年的碳分子篩更換成本, 含工資"]
[{"$f":"HLOOKUP('Input sheet'!$G$9,$A$1:$AF$199,107,FALSE)","v":"Compressor maintenance cost per year"},"Compressor maintenance cost per year","Compressor onderhoud per jaar","Costo manutenzione annuale compressore","Wartungskosten Kompressor pro Jahr","עלות אחזקה שנתית למדחס","Coût de maintenance du compresseur par an","Náklady na údržbu kompresoru za rok","每年空压机维护成本","每年空壓機維護成本"]
[{"$f":"HLOOKUP('Input sheet'!$G$9,$A$1:$AF$199,108,FALSE)","v":"Cost of nitrogen per m3 gas"},"Cost of nitrogen per m3 gas","Stikstof kosten per m3 gas","Costo azoto al m3","Stickstoffkosten je m³ Gas"," עלות m3 חנקן גזי ","Coût du m3 d'azote","Náklady na 1m3 plynného dusíku","每 m3 氮气的购买价格","每 m3 氮氣的購買價格"]
[{"$f":"HLOOKUP('Input sheet'!$G$9,$A$1:$AF$199,109,FALSE)","v":"Nitrogen bottle/tank rent per month"},"Nitrogen bottle/tank rent per month","Stikstof flessen/tank huur per maand","Costo mensile noleggio bombole/serbatoio azoto","Mietkosten pro Monat für Flaschen/Tank","עלות שכירות סוללות/מיכל חנקן נוזלי","Coût de location du réservoir / bouteilles par an","Měsíční nájemné nádoby / odpařovací stanice","氮气钢瓶/储槽的月租费","氮氣鋼瓶/儲槽的月租費"]
[{"$f":"HLOOKUP('Input sheet'!$G$9,$A$1:$AF$199,110,FALSE)","v":"Nitrogen delivery charge per delivery"},"Nitrogen delivery charge per delivery","Stikstof Leveringstoeslag, per levering","Costi trasporto azoto per spedizione","Lieferkosten je Lieferung","עלות הובלה ומסירה לכל משלוח","Coûts de transport unitaires","Dopravní náklady na jednu dodávku dusíku","每趟运送氮气的费用","每趟運送氮氣的費用"]
[{"$f":"HLOOKUP('Input sheet'!$G$9,$A$1:$AF$199,111,FALSE)","v":"No of drops per year"},"No of drops per year","Aantal leveringen per jaar","Numero di spedizioni annuali","Anzahl Lieferungen pro Jahr","מס. משלוחים בשנה","Nombre de livraisons par an","Počet dodávek za rok","每年运送氮气趟数","每年運送氮氣趟數"]
[{"$f":"HLOOKUP('Input sheet'!$G$9,$A$1:$AF$199,112,FALSE)","v":"Costs associated with managing supply per month"},"Costs associated with managing supply per month","Kosten i.v.m. het managen van de stikstof leveringen per maand","Costi associati alla movimentazione per mese","Monatliche Verwaltungskosten","עלויות נוספות (הזמנה בדיקות) חודשית","Coûts mensuels associés au transport ","Měsíční náklady spojené s organizací nákupu","每月管理氮气供应的相关成本","每月管理氮氣供應的相關成本"]
[{"$f":"HLOOKUP('Input sheet'!$G$9,$A$1:$AF$199,113,FALSE)","v":"COST OF OWNERSHIP"},"COST OF OWNERSHIP","TOTALE GEBRUIKSKOSTEN","COSTO DI PROPRIETA'","GESAMTKOSTEN","עלות רכישה","RENTABILITE","CELKOVÉ NÁKLADY","用户持有成本","用戶持有成本"]
[{"$f":"HLOOKUP('Input sheet'!$G$9,$A$1:$AF$199,114,FALSE)","v":"Power cost per year"},"Power cost per year","Jaarlijkse elektriciteitskosten","Costo energetico annuale","Energiekosten pro Jahr","עלות אנרגיה שנתית","Coûts énergétiques annuels","Náklady na energie za rok","年度电费成本","年度電費成本"]
[{"$f":"HLOOKUP('Input sheet'!$G$9,$A$1:$AF$199,115,FALSE)","v":"Total maintenance cost per year"},"Total maintenance cost per year","Totaal onderhoudskosten per jaar","Costi manutenzione totali annuali","Jährliche Wartungskosten","סה\"כ עלות אחזקה שנתית","Coûts de maintenance annuels","Celkové náklady na údržbu za rok","年度维护成本","年度維護成本"]
[{"$f":"HLOOKUP('Input sheet'!$G$9,$A$1:$AF$199,116,FALSE)","v":"Total nitrogen cost per year"},"Total nitrogen cost per year","Totaal stikstof kosten per jaar","Costo totale azoto per anno","Gesamtkosten für N2 pro Jahr","סה\"כ עלות חנקן שנתית","Coûts d'azote total par an","Celkové náklady na dusík za rok","年度氮气消耗总成本","年度氮氣消耗總成本"]
[{"$f":"HLOOKUP('Input sheet'!$G$9,$A$1:$AF$199,117,FALSE)","v":"Total cost per m3"},"Total cost per m3","Totaal stikstof kosten per m3","Costo totale per m3","Gesamtkosten pro m³","סה\"כ עלות 1m3","Coût total du m3 d'azote","Celkové náklady na 1 m3 plynu","每 m3 氮气成本","每 m3 氮氣成本"]
[{"$f":"HLOOKUP('Input sheet'!$G$9,$A$1:$AF$199,118,FALSE)","v":"SAVINGS AGAINST BULK GAS"},"SAVINGS AGAINST BULK GAS","BESPARING TEN OPZICHTE VAN BULK GAS","RISPARMIO RISPETTO A GAS IN BOMBOLE/LIQUIDO","ERSPARNIS GEGENÜBER FLÜSSIGGAS","חסכון לעומת חנקן סוללות/נוזלי","ECONOMIES vs GAS VRAC","ÚSPORY OPROTI KAPALNÉMU PLYNU","相较钢瓶/液氮节省的成本","相較鋼瓶/液氮節省的成本"]
[{"$f":"HLOOKUP('Input sheet'!$G$9,$A$1:$AF$199,119,FALSE)","v":"Payback time in years against bulk gas"},"Payback time in years against bulk gas","Terugverdientijd in jaren t.o.v. bulk gas","Ritorno dell'investimento in anni","Amortisationszeit gegenüber Flüssiggas","החזר הון בשנים לעומת סוללות/נוזלי","Retour sur investissement (en années)","Návratnost investice v letech oproti kapalnému zdroji","相较钢瓶/液氮的投资回收期间(几年)","相較鋼瓶/液氮的投資回收期間(幾年)"]
[{"$f":"HLOOKUP('Input sheet'!$G$9,$A$1:$AF$199,120,FALSE)","v":"Savings per year on nitrogen costs against bulk gas"},"Savings per year on nitrogen costs against bulk gas","Besparing per jaar t.o.v. bulk gas","Risparmio annuale sul costo dell'azoto","Jährliche Ersparnis für Stickstoff gegenüber Flüssiggas","חסכון שנתי בהוצאות לחנקן מול סוללות/נוזלי","Economies Annuelles vs Gaz en Vrac","Roční úspora nákladů na dusík oproti kapalnému zdroji","相较钢瓶/液氮, 每年节省氮气消耗成本","相較鋼瓶/液氮, 每年節省氮氣消耗成本"]
[{"$f":"HLOOKUP('Input sheet'!$G$9,$A$1:$AF$199,121,FALSE)","v":"Savings per m3 of nitrogen gas against bulk gas"},"Savings per m3 of nitrogen gas against bulk gas","Besparing per m3 stikstof gas t.o.v. bulk gas","Risparmio per m3 sul costo dell'azoto","Ersparnis je m³ Stickstoff gegenüber Flüssiggas","חסכון ל-1m3 בהוצאות לחנקן מול סוללות/נוזלי","Economie par m3 vs Gaz Vrac","Úspora na 1 m3 plynu oproti kapalnému zdroji","相较钢瓶/液氮, 每 m3 氮气节省的成本","相較鋼瓶/液氮, 每 m3 氮氣節省的成本"]
[{"$f":"HLOOKUP('Input sheet'!$G$9,$A$1:$AF$199,122,FALSE)","v":"SAVINGS AGAINST ALTERNATIVE"},"SAVINGS AGAINST ALTERNATIVE","BESPARING T.O.V. ALTERNATIEF","RISPARMIO RISPETTO AD ALTERNATIVE","ERSPARNIS GEGENÜBER ALTERNATIVE","חסכון בהוצאות לחנקן מול האלטרנטיבה","ECONOMIE vs ALTERNATIVE","ÚSPORY OPROTI ALTERNATIVĚ","相较其它替代方案节省的成本","相較其它替代方案節省的成本"]
[{"$f":"HLOOKUP('Input sheet'!$G$9,$A$1:$AF$199,123,FALSE)","v":"Payback time in years against Alternative"},"Payback time in years against Alternative","Terugverdientijd in jaren t.o.v. alternatief","Ritorno dell'investimento in anni rispetto ad alternative","Amortisationszeit in Jahren gegenüber Alternative","החזר השקעה בשנים מול האלטרנטיבה","Retour sur investissement vs Alternative","Návratnost investice v letech oproti alternativě","相较其它替代方案的投资回收期间(几年)","相較其它替代方案的投資回收期間(幾年)"]
[{"$f":"HLOOKUP('Input sheet'!$G$9,$A$1:$AF$199,124,FALSE)","v":"10 year nett savings against Alternative"},"10 year nett savings against Alternative","Netto besparing t.o.v. alternatief over 10 jaar","Risparmio netto in 10 anni rispetto ad alternative","10-Jahresersparnis gegenüber Alternative","חסכון נטו ב-10 שנים מול האלטרנטיבה","Economie en 10 ans vs Alternative","Úspora oproti alternativě za 10 let","相较其它替代方案, 10年期间节省的成本","相較其它替代方案, 10年期間節省的成本"]
[{"$f":"HLOOKUP('Input sheet'!$G$9,$A$1:$AF$199,125,FALSE)","v":"Not applicable"},"Not applicable","Niet van toepassing","Non applicabile","Nicht anwendbar","לא ישים","Non applicable","Neaplikovatelné","不适用","不適用"]
[{"$f":"HLOOKUP('Input sheet'!$G$9,$A$1:$AF$199,126,FALSE)","v":"5 YEAR TOTAL COST OF OWNERSHIP"},"5 YEAR TOTAL COST OF OWNERSHIP","TOTAAL GEBRUIKSKOSTEN OVER 5 JAAR","COSTO TOTALE DI POSSESSO 5 ANNI","GESAMTKOSTEN ÜBER 5 JAHRE","עלות כללית במשך 5 שנים","RETOUR SUR INVESTISSEMENT EN 5 ANS ","CELKOVÉ NÁKLADY ZA 5 LET","5年期用户总持有成本","5年期用戶總持有成本"]
[{"$f":"HLOOKUP('Input sheet'!$G$9,$A$1:$AF$199,127,FALSE)","v":"10 YEAR TOTAL COST OF OWNERSHIP"},"10 YEAR TOTAL COST OF OWNERSHIP","TOTAAL GEBRUIKSKOSTEN OVER 10 JAAR","COSTO TOTALE DI POSSESSO 10 ANNI","GESAMTKOSTEN ÜBER 10 JAHRE","עלות כללית במשך 10 שנים","RETOUR SUR INVESTISSEMENT EN 10 ANS ","CELKOVÉ NÁKLADY ZA 10 LET","10年期用户总持有成本","10年期用戶總持有成本"]
[{"$f":"HLOOKUP('Input sheet'!$G$9,$A$1:$AF$199,128,FALSE)","v":"SERVICE COSTS"},"SERVICE COSTS","SERVICE KOSTEN","COSTI DI MANUTENZIONE","WARTUNGSKOSTEN","עלות השרות","COUTS D'ENTRETIEN","Servisní náklady","维修成本","維修成本"]
[{"$f":"HLOOKUP('Input sheet'!$G$9,$A$1:$AF$199,129,FALSE)","v":"Total Cost time frame"},"Total Cost time frame","Totaal kosten looptijd","Intervallo di tempo considerato","Zeitrahmen für Gesamtkosten","סה\"כ עלות במשך","Période Totale de rentabilité","Celkové náklady za období","总成本时间轴","總成本時間軸"]
[{"$f":"HLOOKUP('Input sheet'!$G$9,$A$1:$AF$199,130,FALSE)","v":"5 years"},"5 years","5 jaar","5 anni","5 Jahre","5 שנים","5 ans","5 let","5年期","5年期"]
[{"$f":"HLOOKUP('Input sheet'!$G$9,$A$1:$AF$199,131,FALSE)","v":"10 years"},"10 years","10 jaar","10 anni","10 Jahre","10 שנים","10 ans","10 let","10年期","10年期"]
[{"$f":"HLOOKUP('Input sheet'!$G$9,$A$1:$AF$199,132,FALSE)","v":"Compressed air temperature"},"Compressed air temperature","Persluchttemperatuur","Temperatura aria compressa","Drucklufttemperatur","טמפ' אספקת אוויר","Température d'air comprimé","Teplota stlačeného vzduchu","压缩空气温度","壓縮空氣溫度"]
[{"$f":"HLOOKUP('Input sheet'!$G$9,$A$1:$AF$199,133,FALSE)","v":"Years"},"Years","Jaren","Anni","Jahre","שנים","Ans","Roky","年","年"]
[]
[null,null,null,"Alessandro Koob","Carsten Beckmann","Haim Goldberg - Technolab","Pascal Brion","Vaclav Kouba","Clark Lee","Clark Lee"]

{"sheet":"Selection","index":5,"n_rows":135,"n_cols":18,"rows_kept":135,"cut":false,"hidden":true,"merged":[[30,1,30,4],[30,5,30,6]]}
[{"$f":"CONCATENATE(Talen!A46,\" \",'Input sheet'!B4,\" \",Talen!A47,\" \",Selection!C21,\" \",'Input sheet'!C5,\" \",Talen!A48,\" \",'Input sheet'!B8,\" \",Talen!A49,\" \",'Input sheet'!B9,\" \",Talen!A50,\" \",\"(\",Selection!H25,\")\")","v":"Selections are based on 0,5% purity at 6 barg generator feed-air pressure and 20°C (68°F) environmental temperature and 20°C (68°F) Feed-air temperature (m3/hr)"}]
[{"$f":"Talen!A51","v":"PSA generator"},{"$f":"Talen!A52","v":"Nitrogen flow per generator"},{"$f":"Talen!A53","v":"Number of"},{"$f":"Talen!A54","v":"Total nitrogen flow"},{"$f":"Talen!A55","v":"Feed-air flow per generator"},{"$f":"Talen!A56","v":"Generator outlet pressure"},{"$f":"Talen!A57","v":"Total generator feed-air flow"},{"$f":"Talen!A58","v":"Part number"},{"$f":"Talen!A59","v":"Energy costs indication per year"},"Looks up the position of the lowest number  and smallest generator that can provide this flow"]
[{"$f":"IFERROR(INDEX(Selection!A33:A99,J3,1),\"N/A\")","v":"N2-25P"},{"$f":"IFERROR(INDEX((Selection!B33:B99),J3,1),\"N/A\")","v":22},{"$f":"IFERROR(INDEX(C33:C99,J3,1),\"N/A\")","v":1},{"$f":"IFERROR(INDEX(Selection!D33:D99,J3,1),\"N/A\")","v":22},{"$f":"IFERROR(INDEX((Selection!F33:F99),J3,1),\"N/A\")","v":61.6},{"$f":"IFERROR(INDEX((Selection!O33:O99),J3,1),\"N/A\")","v":4.9000000000000004},{"$f":"IFERROR(INDEX(Selection!G33:G99,J3,1),\"N/A\")","v":61.6},{"$f":"IFERROR(INDEX(M33:M99,J3,1),\"N/A\")","v":"N2-25PBLY"},{"$f":"IF(H3=\"N/A\",\"N/A\",IFERROR(I4*(100%-(IFERROR(INDEX(N33:N99,J3,1),\"N/A\"))),\"N/A\"))","v":3976.5617241036848},{"$f":"IFERROR(MATCH(MIN(R33:R99),Selection!R33:R99,0),\"N/A\")","v":6}]
[null,null,null,null,null,null,null,{"$f":"IFERROR(INDEX(L33:L99,J3,1),\"N/A\")","v":"N2-25PBLN"},{"$f":"G3*'Input sheet'!F15*'Input sheet'!F16*'Calculations TCO'!E24","v":4418.4019156707609}]
[{"$f":"Talen!A61","v":"Buffer vessel (one per generator)"},{"$f":"IFERROR(CONCATENATE(Talen!A62,\" \",INDEX((Selection!P33:P99),J3,1),\" \",Talen!A63),\"N/A\")","v":"size 500 litres"},{"$f":"IFERROR(INDEX(C33:C99,J3,1),\"N/A\")","v":1},null,null,null,null,{"$f":"IFERROR(INDEX(Q33:Q99,J3,1),\"N/A\")","v":"606201450"}]
[{"$f":"Talen!A64","v":"OVR before generator"},{"$f":"Talen!A65","v":"Capacity per OVR"},null,{"$f":"Talen!A66","v":"Total capacity"}]
[{"$f":"IFERROR(INDEX('OVR sizing'!A44:A56,J7,1),Talen!A125)","v":"Not applicable"},{"$f":"IFERROR(INDEX('OVR sizing'!B44:B56,J7,1),\"\")","v":""},{"$f":"IFERROR(INDEX('OVR sizing'!C44:C56,J7,1),\"\")","v":""},{"$f":"IFERROR(INDEX('OVR sizing'!D44:D56,J7,1),\"\")","v":""},null,null,null,{"$f":"IFERROR(INDEX('OVR sizing'!F44:F56,J7,1),\"\")","v":""},null,{"$f":"IFERROR(MATCH(MIN('OVR sizing'!G44:G56),'OVR sizing'!G44:G56,0),\"N/A\")","v":"N/A"}]
[{"$f":"Talen!A67","v":"Dust filter behind OVR"},null,{"$f":"C7","v":""},null,null,null,null,{"$f":"IFERROR(VLOOKUP(A7,'OVR sizing'!A34:E39,5,FALSE),\"\")","v":""}]
[{"$f":"Talen!A68","v":"Dryer incl. Filters"},{"$f":"Talen!A69","v":"Capacity per dryer"},null,{"$f":"Talen!A70","v":"Purge flow per dryer"},{"$f":"Talen!A71","v":"Total dryer purge"},null,{"$f":"Talen!A72","v":"Total air consumption, generator and dryer"}]
[{"$f":"IFERROR(INDEX('Capacities Dryers'!A47:A188,J10,1),\"N/A\")","v":"DME025"},{"$f":"IFERROR(INDEX('Capacities Dryers'!C47:C188,J10,1),\"N/A\")","v":73.91},{"$f":"IFERROR(INDEX('Capacities Dryers'!E47:E188,J10,1),\"N/A\")","v":1},{"$f":"IFERROR(INDEX('Capacities Dryers'!D47:D188,J10,1),\"N/A\")","v":16.41},{"$f":"IFERROR(INDEX('Capacities Dryers'!G47:G188,J10,1),\"N/A\")","v":16.41},null,{"$f":"IFERROR((G3+E10),\"N/A\")","v":78.010000000000005},{"$f":"IFERROR(INDEX('Capacities Dryers'!K47:K188,J10,1),\"N/A\")","v":"DME025N2-E"},null,{"$f":"IFERROR(MATCH(MAX('Capacities Dryers'!H47:H188),'Capacities Dryers'!H47:H188,0),\"N/A\")","v":43}]
[{"$f":"Talen!A73","v":"Membrane generator"},{"$f":"Talen!A74","v":"Nitrogen flow per generator"},{"$f":"C2","v":"Number of"},"Total nitrogen flow","Feed-air flow per generator","Generator outlet pressure","Total generator feed-air flow","Part number",null,"-"]
[{"$f":"IFERROR(INDEX(Selection!A100:A135,J12,1),\"N/A\")","v":"Nitrosource Main + 4 Subs"},{"$f":"IFERROR(INDEX(B100:B135,J12,1),\"N/A\")","v":22.8},{"$f":"IFERROR(INDEX(C100:C135,J12,1),\"N/A\")","v":1},{"$f":"IFERROR(INDEX(Selection!D100:D135,J12,1),\"N/A\")","v":22.8},{"$f":"IFERROR(INDEX(Selection!F100:F135,J12,1),\"N/A\")","v":193.8},{"$f":"IFERROR(INDEX(Selection!O100:O135,I12,1),\"N/A\")","v":"N/A"},{"$f":"IFERROR(INDEX(Selection!G100:G135,J12,1),\"N/A\")","v":193.8},{"$f":"IFERROR(INDEX(L100:L135,J12,1),\"N/A\")","v":"1 x 159.003552 and 4 x 159.003553"},null,{"$f":"IFERROR(MATCH(MIN(R100:R135),Selection!R100:R135,0),\"N/A\")","v":8}]
[{"$f":"A9","v":"Dryer incl. Filters"},{"$f":"B9","v":"Capacity per dryer"},null,{"$f":"D9","v":"Purge flow per dryer"},{"$f":"E9","v":"Total dryer purge"},null,{"$f":"G9","v":"Total air consumption, generator and dryer"},null,null,"-"]
[{"$f":"IFERROR(INDEX('Capacities Dryers'!A47:A188,J14,1),\"N/A\")","v":"DME080"},{"$f":"IFERROR(INDEX('Capacities Dryers'!C47:C188,J14,1),\"N/A\")","v":244.66},{"$f":"IFERROR(INDEX('Capacities Dryers'!E47:E188,J14,1),\"N/A\")","v":1},{"$f":"IFERROR(INDEX('Capacities Dryers'!D47:D188,J14,1),\"N/A\")","v":54.37},{"$f":"IFERROR(INDEX('Capacities Dryers'!G47:G188,J14,1),\"N/A\")","v":54.37},null,{"$f":"IFERROR((G12+E14),\"N/A\")","v":248.17000000000002},{"$f":"IFERROR(INDEX('Capacities Dryers'!K47:K188,J14,1),\"N/A\")","v":"DME080N2-E"},null,{"$f":"IFERROR(MATCH(MAX('Capacities Dryers'!I47:I188),'Capacities Dryers'!I47:I188,0),\"N/A\")","v":93}]
[]
["Generator load",{"$f":"ROUND('Input sheet'!B3/Selection!D3*100,0)","v":91}]
[]
[]
[]
["selection data"]
["Generator feed-air Pressure",null,{"$f":"'Input sheet'!B7","v":"6"}]
["Dryer feed-air Pressure",null,{"$f":"'Input sheet'!B5","v":"7"}]
["Temperature correction factors",null,null,null,null,null,"Other selections"]
["MIDIGAS range PSA","Temp correction factor","Nitrogen flow ",{"$f":"VLOOKUP('Input sheet'!$B$8,'factors-pull down'!A6:O15,G26+1,FALSE)","v":1},"Feed-air",1,"Flow metric number","Define flow metric","correction to entered metric","Flow corrected to metric"]
["NitroSource PSA range","Temp correction factor","Nitrogen flow ",{"$f":"VLOOKUP('Input sheet'!$B$8,'factors-pull down'!A49:O58,G26+1,FALSE)","v":1},"Feed-air",1,{"$f":"VLOOKUP('Input sheet'!C3,'factors-pull down'!A99:D103,4,FALSE)","v":1},{"$f":"VLOOKUP('Input sheet'!C3,'factors-pull down'!A99:D103,3,FALSE)","v":"m3/hr"},{"$f":"(IF(G25=1,1)) +(IF(G25=2,(293/273)))+(IF(G25=3,(1.699*293/288.5)))+(IF(G25=4,(1/35.31467*293/288.5)))+(IF(G25=5,(60/1000)))","v":1},{"$f":"'Input sheet'!B3*I25","v":20},"m3/hr at 20°C"]
["NitroFlow range membrane","Temp correction factor","Nitrogen flow ",{"$f":"VLOOKUP('Input sheet'!$B$9,'factors-pull down'!A20:V29,G26+1,FALSE)","v":1},"Feed-air",{"$f":"VLOOKUP('Input sheet'!$B$9,'factors-pull down'!A34:AB43,G26+14,FALSE)","v":1},{"$f":"HLOOKUP('Input sheet'!B4,'factors-pull down'!B1:O2,2,FALSE)","v":9},"purity column"]
["Nitrosource Membrane range","Temp correction factor","Nitrogen flow ",{"$f":"VLOOKUP('Input sheet'!$B$9,'factors-pull down'!A20:O29,G26+1,FALSE)","v":1},"Feed-air",{"$f":"VLOOKUP('Input sheet'!$B$9,'factors-pull down'!A20:AB29,G26+14,FALSE)","v":1},{"$f":"C21","v":"6"},"barg"]
["Dryer","Temp correction factor","Nitrogen flow ",{"$f":"VLOOKUP('Input sheet'!$B$9,'factors-pull down'!A84:B93,2,FALSE)","v":" up to 35C"},"Feed-air",{"$f":"VLOOKUP('Input sheet'!$B$9,'factors-pull down'!A35:AB44,'Input sheet'!K33+14,FALSE)","v":1}]
[]
[]
["Sizing data",{"$f":"CONCATENATE(\"Nitrogen flow at \",'Input sheet'!B4,\" purity at \",Selection!C21,\" \",'Input sheet'!C5,\" feed-air pressure and \",'Input sheet'!B8,\" enviromental temperature and \",'Input sheet'!B9,\" feed-air temperature\")","v":"Nitrogen flow at 0,5% purity at 6 barg feed-air pressure and 20°C (68°F) enviromental temperature and 20°C (68°F) feed-air temperature"},null,null,null,{"$f":"CONCATENATE(\"Feed-air consumption at \",'Input sheet'!B4,\" purity at \",Selection!C21,\" \",'Input sheet'!C5,\" feed-air pressure and \",'Input sheet'!B8,\" enviromental temperature and \",'Input sheet'!B9,\" feed-air temperature\")","v":"Feed-air consumption at 0,5% purity at 6 barg feed-air pressure and 20°C (68°F) enviromental temperature and 20°C (68°F) feed-air temperature"},null,{"$f":"CONCATENATE(\"Spare capacity in flow \",Selection!H25)","v":"Spare capacity in flow m3/hr"},"Calculating fields",null,null,"Part number without EST","Part number with EST","EST %","Genearotr output pressre","Buffer vessel size (l)","Art nr Buffer vessel","minimal number of generators"]
["Nitrogen generator typemembrane module",{"$f":"IFERROR((CONCATENATE(\"Per generator corrected for temperature in \",Selection!H25)),\"\")","v":"Per generator corrected for temperature in m3/hr"},"number of generators",{"$f":"IFERROR((CONCATENATE(\"Total in \",Selection!H25)),\"\")","v":"Total in m3/hr"},"% of generators (total)",{"$f":"IFERROR((CONCATENATE(\"Per generator corrected for temperature in \",Selection!H25)),\"\")","v":"Per generator corrected for temperature in m3/hr"},{"$f":"IFERROR((CONCATENATE(\"Total in \",Selection!H25)),\"\")","v":"Total in m3/hr"},null,"Before looking up the capacities, the model numbers and pressure needs to be concatenated first","Nitrogen flow from performance table m3/hr per generator","Feed-air consumption from performance table m3/hr per generator"]
["MIDIGAS 2",{"$f":"J33*Selection!$D$24/$I$25","v":3},1,{"$f":"IFERROR(B33*C33,\"N/A\")","v":3},{"$f":"IFERROR(IF(('Input sheet'!$B$3/D33)<=1,('Input sheet'!$B$3/D33),\"0\"),\"\")","v":"0"},{"$f":"K33*Selection!$F$24/$I$25","v":9.6},{"$f":"IFERROR(F33*C33,\"N/A\")","v":9.6},{"$f":"IFERROR((D33-'Input sheet'!$B$3),\"\")","v":-17},{"$f":"CONCATENATE(A33,Selection!$G$27)","v":"MIDIGAS 26"},{"$f":"VLOOKUP(I33,'Capacities generators'!D:R,Selection!$G$26+1,FALSE)","v":3},{"$f":"VLOOKUP(I33,'Capacities generators'!T:AH,Selection!$G$26+1,FALSE)","v":9.6},{"$f":"CONCATENATE(\"MIDIGAS2\",'Part numbers'!$X$174,'Part numbers'!$AE$164,'Part numbers'!$AF$174,'Part numbers'!$AR$166,'Part numbers'!$AR$174)","v":"MIDIGAS2NCBHA"},{"$f":"CONCATENATE(\"EST\",\" \",Talen!$A$125)","v":"EST Not applicable"},"N/A",{"$f":"VLOOKUP(I33,'Capacities generators'!AY:BM,Selection!$G$26+1,FALSE)","v":4.9000000000000004},{"$f":"IFERROR(INDEX('Buffer vessel'!$E$19:$E$23,'Buffer vessel'!$G$16,1),\"N/A\")","v":500},{"$f":"IFERROR(INDEX('Buffer vessel'!$D$19:$D$23,'Buffer vessel'!$G$16,1),\"N/A\")","v":"60 620 1450"},{"$f":"IFERROR((IF(C33*ROUNDUP(E33,0)=0,\"\",C33*ROUNDUP(E33,0))),\"N/A\")","v":""}]
["MIDIGAS 4",{"$f":"J34*Selection!$D$24/$I$25","v":6.1},1,6.1,{"$f":"IFERROR(IF(('Input sheet'!$B$3/D34)<=1,('Input sheet'!$B$3/D34),\"0\"),\"\")","v":"0"},{"$f":"K34*Selection!$F$24/$I$25","v":19.5},19.5,{"$f":"IFERROR((D34-'Input sheet'!$B$3),\"\")","v":-13.9},{"$f":"CONCATENATE(A34,Selection!$G$27)","v":"MIDIGAS 46"},{"$f":"VLOOKUP(I34,'Capacities generators'!D:R,Selection!$G$26+1,FALSE)","v":6.1},{"$f":"VLOOKUP(I34,'Capacities generators'!T:AH,Selection!$G$26+1,FALSE)","v":19.5},{"$f":"CONCATENATE(\"MIDIGAS4\",'Part numbers'!$X$174,'Part numbers'!$AE$164,'Part numbers'!$AF$174,'Part numbers'!$AR$166,'Part numbers'!$AR$174)","v":"MIDIGAS4NCBHA"},{"$f":"CONCATENATE(\"EST\",\" \",Talen!$A$125)","v":"EST Not applicable"},"N/A",{"$f":"VLOOKUP(I34,'Capacities generators'!AY:BM,Selection!$G$26+1,FALSE)","v":4.9000000000000004},{"$f":"IFERROR(INDEX('Buffer vessel'!$E$19:$E$23,'Buffer vessel'!$G$16,1),\"na\")","v":500},{"$f":"IFERROR(INDEX('Buffer vessel'!$D$19:$D$23,'Buffer vessel'!$G$16,1),\"N/A\")","v":"60 620 1450"},{"$f":"IFERROR((IF(C34*ROUNDUP(E34,0)=0,\"\",C34*ROUNDUP(E34,0))),\"N/A\")","v":""}]
["MIDIGAS 6",{"$f":"J35*Selection!$D$24/$I$25","v":8.4},1,8.4,{"$f":"IFERROR(IF(('Input sheet'!$B$3/D35)<=1,('Input sheet'!$B$3/D35),\"0\"),\"\")","v":"0"},{"$f":"K35*Selection!$F$24/$I$25","v":26.9},26.9,{"$f":"IFERROR((D35-'Input sheet'!$B$3),\"\")","v":-11.6},{"$f":"CONCATENATE(A35,Selection!$G$27)","v":"MIDIGAS 66"},{"$f":"VLOOKUP(I35,'Capacities generators'!D:R,Selection!$G$26+1,FALSE)","v":8.4},{"$f":"VLOOKUP(I35,'Capacities generators'!T:AH,Selection!$G$26+1,FALSE)","v":26.9},{"$f":"CONCATENATE(\"MIDIGAS6\",'Part numbers'!$X$174,'Part numbers'!$AE$164,'Part numbers'!$AF$174,'Part numbers'!$AR$166,'Part numbers'!$AR$174)","v":"MIDIGAS6NCBHA"},{"$f":"CONCATENATE(\"EST\",\" \",Talen!$A$125)","v":"EST Not applicable"},"N/A",{"$f":"VLOOKUP(I35,'Capacities generators'!AY:BM,Selection!$G$26+1,FALSE)","v":4.9000000000000004},{"$f":"IFERROR(INDEX('Buffer vessel'!$E$19:$E$23,'Buffer vessel'!$G$16,1),\"N/A\")","v":500},{"$f":"IFERROR(INDEX('Buffer vessel'!$D$19:$D$23,'Buffer vessel'!$G$16,1),\"N/A\")","v":"60 620 1450"},""]
["MIDIGAS 4",{"$f":"J36*Selection!$D$24/$I$25","v":6.1},2,{"$f":"IFERROR(B36*C36,\"N/A\")","v":12.2},{"$f":"IFERROR(IF(('Input sheet'!$B$3/D36)<=1,('Input sheet'!$B$3/D36),\"0\"),\"\")","v":"0"},{"$f":"K36*Selection!$F$24/$I$25","v":19.5},{"$f":"IFERROR(F36*C36,\"N/A\")","v":39},{"$f":"IFERROR((D36-'Input sheet'!$B$3),\"\")","v":-7.8000000000000007},{"$f":"CONCATENATE(A36,Selection!$G$27)","v":"MIDIGAS 46"},{"$f":"VLOOKUP(I36,'Capacities generators'!D:R,Selection!$G$26+1,FALSE)","v":6.1},{"$f":"VLOOKUP(I36,'Capacities generators'!T:AH,Selection!$G$26+1,FALSE)","v":19.5},{"$f":"CONCATENATE(\"MIDIGAS4\",'Part numbers'!$X$174,'Part numbers'!$AE$164,'Part numbers'!$AF$174,'Part numbers'!$AR$166,'Part numbers'!$AR$174)","v":"MIDIGAS4NCBHA"},{"$f":"CONCATENATE(\"EST\",\" \",Talen!$A$125)","v":"EST Not applicable"},"N/A",{"$f":"VLOOKUP(I36,'Capacities generators'!AY:BM,Selection!$G$26+1,FALSE)","v":4.9000000000000004},{"$f":"IFERROR(INDEX('Buffer vessel'!$E$19:$E$23,'Buffer vessel'!$G$16,1),\"na\")","v":500},{"$f":"IFERROR(INDEX('Buffer vessel'!$D$19:$D$23,'Buffer vessel'!$G$16,1),\"N/A\")","v":"60 620 1450"},""]
["N2-20P",{"$f":"J37*Selection!$D$25/$I$25","v":14.7},1,14.7,{"$f":"IFERROR(IF(('Input sheet'!$B$3/D37)<=1,('Input sheet'!$B$3/D37),\"0\"),\"\")","v":"0"},{"$f":"K37*Selection!$F$25/$I$25","v":41.2},41.2,{"$f":"IFERROR((D37-'Input sheet'!$B$3),\"\")","v":-5.3000000000000007},{"$f":"CONCATENATE(A37,Selection!$G$27)","v":"N2-20P6"},{"$f":"VLOOKUP(I37,'Capacities generators'!D:R,Selection!$G$26+1,FALSE)","v":14.7},{"$f":"VLOOKUP(I37,'Capacities generators'!T:AH,Selection!$G$26+1,FALSE)","v":41.2},{"$f":"CONCATENATE(Selection!A37,'Part numbers'!$Z$16,'Part numbers'!$Z$24,'Part numbers'!$AM$23)","v":"N2-20PBLN"},{"$f":"IF('Part numbers'!$AM$24=\"N\",CONCATENATE(\"EST\",\" \",Talen!$A$125),CONCATENATE(Selection!A37,'Part numbers'!$Z$16,'Part numbers'!$Z$24,'Part numbers'!$AM$24))","v":"N2-20PBLY"},{"$f":"VLOOKUP('Input sheet'!$F$17,'factors-pull down'!$A$62:$B$80,2)","v":0.1},{"$f":"VLOOKUP(I37,'Capacities generators'!AY:BM,Selection!$G$26+1,FALSE)","v":4.9000000000000004},{"$f":"VLOOKUP(A37,'Buffer vessel'!$A$5:$B$13,2,FALSE)","v":250},{"$f":"VLOOKUP(A37,'Buffer vessel'!$A$5:$C$13,3,FALSE)","v":"606201444"},""]
["N2-25P",{"$f":"J38*Selection!$D$25/$I$25","v":22},1,22,{"$f":"IFERROR(IF(('Input sheet'!$B$3/D38)<=1,('Input sheet'!$B$3/D38),\"0\"),\"\")","v":0.90909090909090906},{"$f":"K38*Selection!$F$25/$I$25","v":61.6},61.6,{"$f":"IFERROR((D38-'Input sheet'!$B$3),\"\")","v":2},{"$f":"CONCATENATE(A38,Selection!$G$27)","v":"N2-25P6"},{"$f":"VLOOKUP(I38,'Capacities generators'!D:R,Selection!$G$26+1,FALSE)","v":22},{"$f":"VLOOKUP(I38,'Capacities generators'!T:AH,Selection!$G$26+1,FALSE)","v":61.6},{"$f":"CONCATENATE(Selection!A38,'Part numbers'!$Z$16,'Part numbers'!$Z$24,'Part numbers'!$AM$23)","v":"N2-25PBLN"},{"$f":"IF('Part numbers'!$AM$24=\"N\",CONCATENATE(\"EST\",\" \",Talen!$A$125),CONCATENATE(Selection!A38,'Part numbers'!$Z$16,'Part numbers'!$Z$24,'Part numbers'!$AM$24))","v":"N2-25PBLY"},{"$f":"VLOOKUP('Input sheet'!$F$17,'factors-pull down'!$A$62:$B$80,2)","v":0.1},{"$f":"VLOOKUP(I38,'Capacities generators'!AY:BM,Selection!$G$26+1,FALSE)","v":4.9000000000000004},{"$f":"VLOOKUP(A38,'Buffer vessel'!$A$5:$B$13,2,FALSE)","v":500},{"$f":"VLOOKUP(A38,'Buffer vessel'!$A$5:$C$13,3,FALSE)","v":"606201450"},1]
["N2-35P",{"$f":"J39*Selection!$D$25/$I$25","v":29.4},1,29.4,{"$f":"IFERROR(IF(('Input sheet'!$B$3/D39)<=1,('Input sheet'!$B$3/D39),\"0\"),\"\")","v":0.68027210884353739},{"$f":"K39*Selection!$F$25/$I$25","v":82.3},82.3,{"$f":"IFERROR((D39-'Input sheet'!$B$3),\"\")","v":9.3999999999999986},{"$f":"CONCATENATE(A39,Selection!$G$27)","v":"N2-35P6"},{"$f":"VLOOKUP(I39,'Capacities generators'!D:R,Selection!$G$26+1,FALSE)","v":29.4},{"$f":"VLOOKUP(I39,'Capacities generators'!T:AH,Selection!$G$26+1,FALSE)","v":82.3},{"$f":"CONCATENATE(Selection!A39,'Part numbers'!$Z$16,'Part numbers'!$Z$24,'Part numbers'!$AM$23)","v":"N2-35PBLN"},{"$f":"IF('Part numbers'!$AM$24=\"N\",CONCATENATE(\"EST\",\" \",Talen!$A$125),CONCATENATE(Selection!A39,'Part numbers'!$Z$16,'Part numbers'!$Z$24,'Part numbers'!$AM$24))","v":"N2-35PBLY"},{"$f":"VLOOKUP('Input sheet'!$F$17,'factors-pull down'!$A$62:$B$80,2)","v":0.1},{"$f":"VLOOKUP(I39,'Capacities generators'!AY:BM,Selection!$G$26+1,FALSE)","v":4.9000000000000004},{"$f":"VLOOKUP(A39,'Buffer vessel'!$A$5:$B$13,2,FALSE)","v":500},{"$f":"VLOOKUP(A39,'Buffer vessel'!$A$5:$C$13,3,FALSE)","v":"606201450"},1]
["N2-45P",{"$f":"J40*Selection!$D$25/$I$25","v":36.700000000000003},1,36.700000000000003,{"$f":"IFERROR(IF(('Input sheet'!$B$3/D40)<=1,('Input sheet'!$B$3/D40),\"0\"),\"\")","v":0.54495912806539504},{"$f":"K40*Selection!$F$25/$I$25","v":102.8},102.8,{"$f":"IFERROR((D40-'Input sheet'!$B$3),\"\")","v":16.700000000000003},{"$f":"CONCATENATE(A40,Selection!$G$27)","v":"N2-45P6"},{"$f":"VLOOKUP(I40,'Capacities generators'!D:R,Selection!$G$26+1,FALSE)","v":36.700000000000003},{"$f":"VLOOKUP(I40,'Capacities generators'!T:AH,Selection!$G$26+1,FALSE)","v":102.8},{"$f":"CONCATENATE(Selection!A40,'Part numbers'!$Z$16,'Part numbers'!$Z$24,'Part numbers'!$AM$23)","v":"N2-45PBLN"},{"$f":"IF('Part numbers'!$AM$24=\"N\",CONCATENATE(\"EST\",\" \",Talen!$A$125),CONCATENATE(Selection!A40,'Part numbers'!$Z$16,'Part numbers'!$Z$24,'Part numbers'!$AM$24))","v":"N2-45PBLY"},{"$f":"VLOOKUP('Input sheet'!$F$17,'factors-pull down'!$A$62:$B$80,2)","v":0.1},{"$f":"VLOOKUP(I40,'Capacities generators'!AY:BM,Selection!$G$26+1,FALSE)","v":4.9000000000000004},{"$f":"VLOOKUP(A40,'Buffer vessel'!$A$5:$B$13,2,FALSE)","v":750},{"$f":"VLOOKUP(A40,'Buffer vessel'!$A$5:$C$13,3,FALSE)","v":"606201452"},1]
["N2-55P",{"$f":"J41*Selection!$D$25/$I$25","v":44.1},1,44.1,{"$f":"IFERROR(IF(('Input sheet'!$B$3/D41)<=1,('Input sheet'!$B$3/D41),\"0\"),\"\")","v":0.45351473922902491},{"$f":"K41*Selection!$F$25/$I$25","v":123.5},123.5,{"$f":"IFERROR((D41-'Input sheet'!$B$3),\"\")","v":24.1},{"$f":"CONCATENATE(A41,Selection!$G$27)","v":"N2-55P6"},{"$f":"VLOOKUP(I41,'Capacities generators'!D:R,Selection!$G$26+1,FALSE)","v":44.1},{"$f":"VLOOKUP(I41,'Capacities generators'!T:AH,Selection!$G$26+1,FALSE)","v":123.5},{"$f":"CONCATENATE(Selection!A41,'Part numbers'!$Z$16,'Part numbers'!$Z$24,'Part numbers'!$AM$23)","v":"N2-55PBLN"},{"$f":"IF('Part numbers'!$AM$24=\"N\",CONCATENATE(\"EST\",\" \",Talen!$A$125),CONCATENATE(Selection!A41,'Part numbers'!$Z$16,'Part numbers'!$Z$24,'Part numbers'!$AM$24))","v":"N2-55PBLY"},{"$f":"VLOOKUP('Input sheet'!$F$17,'factors-pull down'!$A$62:$B$80,2)","v":0.1},{"$f":"VLOOKUP(I41,'Capacities generators'!AY:BM,Selection!$G$26+1,FALSE)","v":4.9000000000000004},{"$f":"VLOOKUP(A41,'Buffer vessel'!$A$5:$B$13,2,FALSE)","v":750},{"$f":"VLOOKUP(A41,'Buffer vessel'!$A$5:$C$13,3,FALSE)","v":"606201452"},1]
["N2-60P",{"$f":"J42*Selection!$D$25/$I$25","v":48.8},1,48.8,{"$f":"IFERROR(IF(('Input sheet'!$B$3/D42)<=1,('Input sheet'!$B$3/D42),\"0\"),\"\")","v":0.4098360655737705},{"$f":"K42*Selection!$F$25/$I$25","v":141.5},141.5,{"$f":"IFERROR((D42-'Input sheet'!$B$3),\"\")","v":28.799999999999997},{"$f":"CONCATENATE(A42,Selection!$G$27)","v":"N2-60P6"},{"$f":"VLOOKUP(I42,'Capacities generators'!D:R,Selection!$G$26+1,FALSE)","v":48.8},{"$f":"VLOOKUP(I42,'Capacities generators'!T:AH,Selection!$G$26+1,FALSE)","v":141.5},{"$f":"CONCATENATE(Selection!A42,'Part numbers'!$Z$16,'Part numbers'!$Z$24,'Part numbers'!$AM$23)","v":"N2-60PBLN"},{"$f":"IF('Part numbers'!$AM$24=\"N\",CONCATENATE(\"EST\",\" \",Talen!$A$125),CONCATENATE(Selection!A42,'Part numbers'!$Z$16,'Part numbers'!$Z$24,'Part numbers'!$AM$24))","v":"N2-60PBLY"},{"$f":"VLOOKUP('Input sheet'!$F$17,'factors-pull down'!$A$62:$B$80,2)","v":0.1},{"$f":"VLOOKUP(I42,'Capacities generators'!AY:BM,Selection!$G$26+1,FALSE)","v":4.9000000000000004},{"$f":"VLOOKUP(A42,'Buffer vessel'!$A$5:$B$13,2,FALSE)","v":750},{"$f":"VLOOKUP(A42,'Buffer vessel'!$A$5:$C$13,3,FALSE)","v":"606201452"},1]
["N2-65P",{"$f":"J43*Selection!$D$25/$I$25","v":55.8},1,55.8,{"$f":"IFERROR(IF(('Input sheet'!$B$3/D43)<=1,('Input sheet'!$B$3/D43),\"0\"),\"\")","v":0.35842293906810035},{"$f":"K43*Selection!$F$25/$I$25","v":161.80000000000001},161.80000000000001,{"$f":"IFERROR((D43-'Input sheet'!$B$3),\"\")","v":35.799999999999997},{"$f":"CONCATENATE(A43,Selection!$G$27)","v":"N2-65P6"},{"$f":"VLOOKUP(I43,'Capacities generators'!D:R,Selection!$G$26+1,FALSE)","v":55.8},{"$f":"VLOOKUP(I43,'Capacities generators'!T:AH,Selection!$G$26+1,FALSE)","v":161.80000000000001},{"$f":"CONCATENATE(Selection!A43,'Part numbers'!$Z$16,'Part numbers'!$Z$24,'Part numbers'!$AM$23)","v":"N2-65PBLN"},{"$f":"IF('Part numbers'!$AM$24=\"N\",CONCATENATE(\"EST\",\" \",Talen!$A$125),CONCATENATE(Selection!A43,'Part numbers'!$Z$16,'Part numbers'!$Z$24,'Part numbers'!$AM$24))","v":"N2-65PBLY"},{"$f":"VLOOKUP('Input sheet'!$F$17,'factors-pull down'!$A$62:$B$80,2)","v":0.1},{"$f":"VLOOKUP(I43,'Capacities generators'!AY:BM,Selection!$G$26+1,FALSE)","v":4.9000000000000004},{"$f":"VLOOKUP(A43,'Buffer vessel'!$A$5:$B$13,2,FALSE)","v":1000},{"$f":"VLOOKUP(A43,'Buffer vessel'!$A$5:$C$13,3,FALSE)","v":"606201456"},1]
["N2-75P",{"$f":"J44*Selection!$D$25/$I$25","v":60.8},1,60.8,{"$f":"IFERROR(IF(('Input sheet'!$B$3/D44)<=1,('Input sheet'!$B$3/D44),\"0\"),\"\")","v":0.32894736842105265},{"$f":"K44*Selection!$F$25/$I$25","v":182.4},182.4,{"$f":"IFERROR((D44-'Input sheet'!$B$3),\"\")","v":40.799999999999997},{"$f":"CONCATENATE(A44,Selection!$G$27)","v":"N2-75P6"},{"$f":"VLOOKUP(I44,'Capacities generators'!D:R,Selection!$G$26+1,FALSE)","v":60.8},{"$f":"VLOOKUP(I44,'Capacities generators'!T:AH,Selection!$G$26+1,FALSE)","v":182.4},{"$f":"CONCATENATE(Selection!A44,'Part numbers'!$Z$16,'Part numbers'!$Z$24,'Part numbers'!$AM$23)","v":"N2-75PBLN"},{"$f":"IF('Part numbers'!$AM$24=\"N\",CONCATENATE(\"EST\",\" \",Talen!$A$125),CONCATENATE(Selection!A44,'Part numbers'!$Z$16,'Part numbers'!$Z$24,'Part numbers'!$AM$24))","v":"N2-75PBLY"},{"$f":"VLOOKUP('Input sheet'!$F$17,'factors-pull down'!$A$62:$B$80,2)","v":0.1},{"$f":"VLOOKUP(I44,'Capacities generators'!AY:BM,Selection!$G$26+1,FALSE)","v":4.9000000000000004},{"$f":"VLOOKUP(A44,'Buffer vessel'!$A$5:$B$13,2,FALSE)","v":1000},{"$f":"VLOOKUP(A44,'Buffer vessel'!$A$5:$C$13,3,FALSE)","v":"606201456"},1]
["N2-80P",{"$f":"J45*Selection!$D$25/$I$25","v":67.599999999999994},1,{"$f":"IFERROR(B45*C45,\"N/A\")","v":67.599999999999994},{"$f":"IFERROR(IF(('Input sheet'!$B$3/D45)<=1,('Input sheet'!$B$3/D45),\"0\"),\"\")","v":0.29585798816568049},{"$f":"K45*Selection!$F$25/$I$25","v":202.8},202.8,{"$f":"IFERROR((D45-'Input sheet'!$B$3),\"\")","v":47.599999999999994},{"$f":"CONCATENATE(A45,Selection!$G$27)","v":"N2-80P6"},{"$f":"VLOOKUP(I45,'Capacities generators'!D:R,Selection!$G$26+1,FALSE)","v":67.599999999999994},{"$f":"VLOOKUP(I45,'Capacities generators'!T:AH,Selection!$G$26+1,FALSE)","v":202.8},{"$f":"CONCATENATE(Selection!A45,'Part numbers'!$Z$16,'Part numbers'!$Z$24,'Part numbers'!$AM$23)","v":"N2-80PBLN"},{"$f":"IF('Part numbers'!$AM$24=\"N\",CONCATENATE(\"EST\",\" \",Talen!$A$125),CONCATENATE(Selection!A45,'Part numbers'!$Z$16,'Part numbers'!$Z$24,'Part numbers'!$AM$24))","v":"N2-80PBLY"},{"$f":"VLOOKUP('Input sheet'!$F$17,'factors-pull down'!$A$62:$B$80,2)","v":0.1},{"$f":"VLOOKUP(I45,'Capacities generators'!AY:BM,Selection!$G$26+1,FALSE)","v":4.9000000000000004},{"$f":"VLOOKUP(A45,'Buffer vessel'!$A$5:$B$13,2,FALSE)","v":1000},{"$f":"VLOOKUP(A45,'Buffer vessel'!$A$5:$C$13,3,FALSE)","v":"606201456"},1]
["N2-45P",{"$f":"J46*Selection!$D$25/$I$25","v":36.700000000000003},2,73.400000000000006,{"$f":"IFERROR(IF(('Input sheet'!$B$3/D46)<=1,('Input sheet'!$B$3/D46),\"0\"),\"\")","v":0.27247956403269752},{"$f":"K46*Selection!$F$25/$I$25","v":102.8},205.6,{"$f":"IFERROR((D46-'Input sheet'!$B$3),\"\")","v":53.400000000000006},{"$f":"CONCATENATE(A46,Selection!$G$27)","v":"N2-45P6"},{"$f":"VLOOKUP(I46,'Capacities generators'!D:R,Selection!$G$26+1,FALSE)","v":36.700000000000003},{"$f":"VLOOKUP(I46,'Capacities generators'!T:AH,Selection!$G$26+1,FALSE)","v":102.8},{"$f":"CONCATENATE(Selection!A46,'Part numbers'!$Z$16,'Part numbers'!$Z$24,'Part numbers'!$AM$23)","v":"N2-45PBLN"},{"$f":"IF('Part numbers'!$AM$24=\"N\",CONCATENATE(\"EST\",\" \",Talen!$A$125),CONCATENATE(Selection!A46,'Part numbers'!$Z$16,'Part numbers'!$Z$24,'Part numbers'!$AM$24))","v":"N2-45PBLY"},{"$f":"VLOOKUP('Input sheet'!$F$17,'factors-pull down'!$A$62:$B$80,2)","v":0.1},{"$f":"VLOOKUP(I46,'Capacities generators'!AY:BM,Selection!$G$26+1,FALSE)","v":4.9000000000000004},{"$f":"VLOOKUP(A46,'Buffer vessel'!$A$5:$B$13,2,FALSE)","v":750},{"$f":"VLOOKUP(A46,'Buffer vessel'!$A$5:$C$13,3,FALSE)","v":"606201452"},2]
["N2-55P",{"$f":"J47*Selection!$D$25/$I$25","v":44.1},2,88.2,{"$f":"IFERROR(IF(('Input sheet'!$B$3/D47)<=1,('Input sheet'!$B$3/D47),\"0\"),\"\")","v":0.22675736961451246},{"$f":"K47*Selection!$F$25/$I$25","v":123.5},247,{"$f":"IFERROR((D47-'Input sheet'!$B$3),\"\")","v":68.2},{"$f":"CONCATENATE(A47,Selection!$G$27)","v":"N2-55P6"},{"$f":"VLOOKUP(I47,'Capacities generators'!D:R,Selection!$G$26+1,FALSE)","v":44.1},{"$f":"VLOOKUP(I47,'Capacities generators'!T:AH,Selection!$G$26+1,FALSE)","v":123.5},{"$f":"CONCATENATE(Selection!A47,'Part numbers'!$Z$16,'Part numbers'!$Z$24,'Part numbers'!$AM$23)","v":"N2-55PBLN"},{"$f":"IF('Part numbers'!$AM$24=\"N\",CONCATENATE(\"EST\",\" \",Talen!$A$125),CONCATENATE(Selection!A47,'Part numbers'!$Z$16,'Part numbers'!$Z$24,'Part numbers'!$AM$24))","v":"N2-55PBLY"},{"$f":"VLOOKUP('Input sheet'!$F$17,'factors-pull down'!$A$62:$B$80,2)","v":0.1},{"$f":"VLOOKUP(I47,'Capacities generators'!AY:BM,Selection!$G$26+1,FALSE)","v":4.9000000000000004},{"$f":"VLOOKUP(A47,'Buffer vessel'!$A$5:$B$13,2,FALSE)","v":750},{"$f":"VLOOKUP(A47,'Buffer vessel'!$A$5:$C$13,3,FALSE)","v":"606201452"},2]
["N2-60P",{"$f":"J48*Selection!$D$25/$I$25","v":48.8},2,97.6,{"$f":"IFERROR(IF(('Input sheet'!$B$3/D48)<=1,('Input sheet'!$B$3/D48),\"0\"),\"\")","v":0.20491803278688525},{"$f":"K48*Selection!$F$25/$I$25","v":141.5},283,{"$f":"IFERROR((D48-'Input sheet'!$B$3),\"\")","v":77.599999999999994},{"$f":"CONCATENATE(A48,Selection!$G$27)","v":"N2-60P6"},{"$f":"VLOOKUP(I48,'Capacities generators'!D:R,Selection!$G$26+1,FALSE)","v":48.8},{"$f":"VLOOKUP(I48,'Capacities generators'!T:AH,Selection!$G$26+1,FALSE)","v":141.5},{"$f":"CONCATENATE(Selection!A48,'Part numbers'!$Z$16,'Part numbers'!$Z$24,'Part numbers'!$AM$23)","v":"N2-60PBLN"},{"$f":"IF('Part numbers'!$AM$24=\"N\",CONCATENATE(\"EST\",\" \",Talen!$A$125),CONCATENATE(Selection!A48,'Part numbers'!$Z$16,'Part numbers'!$Z$24,'Part numbers'!$AM$24))","v":"N2-60PBLY"},{"$f":"VLOOKUP('Input sheet'!$F$17,'factors-pull down'!$A$62:$B$80,2)","v":0.1},{"$f":"VLOOKUP(I48,'Capacities generators'!AY:BM,Selection!$G$26+1,FALSE)","v":4.9000000000000004},{"$f":"VLOOKUP(A48,'Buffer vessel'!$A$5:$B$13,2,FALSE)","v":750},{"$f":"VLOOKUP(A48,'Buffer vessel'!$A$5:$C$13,3,FALSE)","v":"606201452"},2]
["N2-65P",{"$f":"J49*Selection!$D$25/$I$25","v":55.8},2,111.6,{"$f":"IFERROR(IF(('Input sheet'!$B$3/D49)<=1,('Input sheet'!$B$3/D49),\"0\"),\"\")","v":0.17921146953405018},{"$f":"K49*Selection!$F$25/$I$25","v":161.80000000000001},323.60000000000002,{"$f":"IFERROR((D49-'Input sheet'!$B$3),\"\")","v":91.6},{"$f":"CONCATENATE(A49,Selection!$G$27)","v":"N2-65P6"},{"$f":"VLOOKUP(I49,'Capacities generators'!D:R,Selection!$G$26+1,FALSE)","v":55.8},{"$f":"VLOOKUP(I49,'Capacities generators'!T:AH,Selection!$G$26+1,FALSE)","v":161.80000000000001},{"$f":"CONCATENATE(Selection!A49,'Part numbers'!$Z$16,'Part numbers'!$Z$24,'Part numbers'!$AM$23)","v":"N2-65PBLN"},{"$f":"IF('Part numbers'!$AM$24=\"N\",CONCATENATE(\"EST\",\" \",Talen!$A$125),CONCATENATE(Selection!A49,'Part numbers'!$Z$16,'Part numbers'!$Z$24,'Part numbers'!$AM$24))","v":"N2-65PBLY"},{"$f":"VLOOKUP('Input sheet'!$F$17,'factors-pull down'!$A$62:$B$80,2)","v":0.1},{"$f":"VLOOKUP(I49,'Capacities generators'!AY:BM,Selection!$G$26+1,FALSE)","v":4.9000000000000004},{"$f":"VLOOKUP(A49,'Buffer vessel'!$A$5:$B$13,2,FALSE)","v":1000},{"$f":"VLOOKUP(A49,'Buffer vessel'!$A$5:$C$13,3,FALSE)","v":"606201456"},2]
["N2-75P",{"$f":"J50*Selection!$D$25/$I$25","v":60.8},2,121.6,{"$f":"IFERROR(IF(('Input sheet'!$B$3/D50)<=1,('Input sheet'!$B$3/D50),\"0\"),\"\")","v":0.16447368421052633},{"$f":"K50*Selection!$F$25/$I$25","v":182.4},364.8,{"$f":"IFERROR((D50-'Input sheet'!$B$3),\"\")","v":101.6},{"$f":"CONCATENATE(A50,Selection!$G$27)","v":"N2-75P6"},{"$f":"VLOOKUP(I50,'Capacities generators'!D:R,Selection!$G$26+1,FALSE)","v":60.8},{"$f":"VLOOKUP(I50,'Capacities generators'!T:AH,Selection!$G$26+1,FALSE)","v":182.4},{"$f":"CONCATENATE(Selection!A50,'Part numbers'!$Z$16,'Part numbers'!$Z$24,'Part numbers'!$AM$23)","v":"N2-75PBLN"},{"$f":"IF('Part numbers'!$AM$24=\"N\",CONCATENATE(\"EST\",\" \",Talen!$A$125),CONCATENATE(Selection!A50,'Part numbers'!$Z$16,'Part numbers'!$Z$24,'Part numbers'!$AM$24))","v":"N2-75PBLY"},{"$f":"VLOOKUP('Input sheet'!$F$17,'factors-pull down'!$A$62:$B$80,2)","v":0.1},{"$f":"VLOOKUP(I50,'Capacities generators'!AY:BM,Selection!$G$26+1,FALSE)","v":4.9000000000000004},{"$f":"VLOOKUP(A50,'Buffer vessel'!$A$5:$B$13,2,FALSE)","v":1000},{"$f":"VLOOKUP(A50,'Buffer vessel'!$A$5:$C$13,3,FALSE)","v":"606201456"},2]
["N2-80P",{"$f":"J51*Selection!$D$25/$I$25","v":67.599999999999994},2,135.19999999999999,{"$f":"IFERROR(IF(('Input sheet'!$B$3/D51)<=1,('Input sheet'!$B$3/D51),\"0\"),\"\")","v":0.14792899408284024},{"$f":"K51*Selection!$F$25/$I$25","v":202.8},405.6,{"$f":"IFERROR((D51-'Input sheet'!$B$3),\"\")","v":115.19999999999999},{"$f":"CONCATENATE(A51,Selection!$G$27)","v":"N2-80P6"},{"$f":"VLOOKUP(I51,'Capacities generators'!D:R,Selection!$G$26+1,FALSE)","v":67.599999999999994},{"$f":"VLOOKUP(I51,'Capacities generators'!T:AH,Selection!$G$26+1,FALSE)","v":202.8},{"$f":"CONCATENATE(Selection!A51,'Part numbers'!$Z$16,'Part numbers'!$Z$24,'Part numbers'!$AM$23)","v":"N2-80PBLN"},{"$f":"IF('Part numbers'!$AM$24=\"N\",CONCATENATE(\"EST\",\" \",Talen!$A$125),CONCATENATE(Selection!A51,'Part numbers'!$Z$16,'Part numbers'!$Z$24,'Part numbers'!$AM$24))","v":"N2-80PBLY"},{"$f":"VLOOKUP('Input sheet'!$F$17,'factors-pull down'!$A$62:$B$80,2)","v":0.1},{"$f":"VLOOKUP(I51,'Capacities generators'!AY:BM,Selection!$G$26+1,FALSE)","v":4.9000000000000004},{"$f":"VLOOKUP(A51,'Buffer vessel'!$A$5:$B$13,2,FALSE)","v":1000},{"$f":"VLOOKUP(A51,'Buffer vessel'!$A$5:$C$13,3,FALSE)","v":"606201456"},2]
["N2-45P",{"$f":"J52*Selection!$D$25/$I$25","v":36.700000000000003},2,73.400000000000006,{"$f":"IFERROR(IF(('Input sheet'!$B$3/D52)<=1,('Input sheet'!$B$3/D52),\"0\"),\"\")","v":0.27247956403269752},{"$f":"K52*Selection!$F$25/$I$25","v":102.8},205.6,{"$f":"IFERROR((D52-'Input sheet'!$B$3),\"\")","v":53.400000000000006},{"$f":"CONCATENATE(A52,Selection!$G$27)","v":"N2-45P6"},{"$f":"VLOOKUP(I52,'Capacities generators'!D:R,Selection!$G$26+1,FALSE)","v":36.700000000000003},{"$f":"VLOOKUP(I52,'Capacities generators'!T:AH,Selection!$G$26+1,FALSE)","v":102.8},{"$f":"CONCATENATE(Selection!A52,'Part numbers'!$Z$16,'Part numbers'!$Z$24,'Part numbers'!$AM$23)","v":"N2-45PBLN"},{"$f":"IF('Part numbers'!$AM$24=\"N\",CONCATENATE(\"EST\",\" \",Talen!$A$125),CONCATENATE(Selection!A52,'Part numbers'!$Z$16,'Part numbers'!$Z$24,'Part numbers'!$AM$24))","v":"N2-45PBLY"},{"$f":"VLOOKUP('Input sheet'!$F$17,'factors-pull down'!$A$62:$B$80,2)","v":0.1},{"$f":"VLOOKUP(I52,'Capacities generators'!AY:BM,Selection!$G$26+1,FALSE)","v":4.9000000000000004},{"$f":"VLOOKUP(A52,'Buffer vessel'!$A$5:$B$13,2,FALSE)","v":750},{"$f":"VLOOKUP(A52,'Buffer vessel'!$A$5:$C$13,3,FALSE)","v":"606201452"},2]
["N2-55P",{"$f":"J53*Selection!$D$25/$I$25","v":44.1},3,132.30000000000001,{"$f":"IFERROR(IF(('Input sheet'!$B$3/D53)<=1,('Input sheet'!$B$3/D53),\"0\"),\"\")","v":0.15117157974300829},{"$f":"K53*Selection!$F$25/$I$25","v":123.5},370.5,{"$f":"IFERROR((D53-'Input sheet'!$B$3),\"\")","v":112.30000000000001},{"$f":"CONCATENATE(A53,Selection!$G$27)","v":"N2-55P6"},{"$f":"VLOOKUP(I53,'Capacities generators'!D:R,Selection!$G$26+1,FALSE)","v":44.1},{"$f":"VLOOKUP(I53,'Capacities generators'!T:AH,Selection!$G$26+1,FALSE)","v":123.5},{"$f":"CONCATENATE(Selection!A53,'Part numbers'!$Z$16,'Part numbers'!$Z$24,'Part numbers'!$AM$23)","v":"N2-55PBLN"},{"$f":"IF('Part numbers'!$AM$24=\"N\",CONCATENATE(\"EST\",\" \",Talen!$A$125),CONCATENATE(Selection!A53,'Part numbers'!$Z$16,'Part numbers'!$Z$24,'Part numbers'!$AM$24))","v":"N2-55PBLY"},{"$f":"VLOOKUP('Input sheet'!$F$17,'factors-pull down'!$A$62:$B$80,2)","v":0.1},{"$f":"VLOOKUP(I53,'Capacities generators'!AY:BM,Selection!$G$26+1,FALSE)","v":4.9000000000000004},{"$f":"VLOOKUP(A53,'Buffer vessel'!$A$5:$B$13,2,FALSE)","v":750},{"$f":"VLOOKUP(A53,'Buffer vessel'!$A$5:$C$13,3,FALSE)","v":"606201452"},3]
["N2-60P",{"$f":"J54*Selection!$D$25/$I$25","v":48.8},3,146.39999999999998,{"$f":"IFERROR(IF(('Input sheet'!$B$3/D54)<=1,('Input sheet'!$B$3/D54),\"0\"),\"\")","v":0.13661202185792351},{"$f":"K54*Selection!$F$25/$I$25","v":141.5},424.5,{"$f":"IFERROR((D54-'Input sheet'!$B$3),\"\")","v":126.39999999999998},{"$f":"CONCATENATE(A54,Selection!$G$27)","v":"N2-60P6"},{"$f":"VLOOKUP(I54,'Capacities generators'!D:R,Selection!$G$26+1,FALSE)","v":48.8},{"$f":"VLOOKUP(I54,'Capacities generators'!T:AH,Selection!$G$26+1,FALSE)","v":141.5},{"$f":"CONCATENATE(Selection!A54,'Part numbers'!$Z$16,'Part numbers'!$Z$24,'Part numbers'!$AM$23)","v":"N2-60PBLN"},{"$f":"IF('Part numbers'!$AM$24=\"N\",CONCATENATE(\"EST\",\" \",Talen!$A$125),CONCATENATE(Selection!A54,'Part numbers'!$Z$16,'Part numbers'!$Z$24,'Part numbers'!$AM$24))","v":"N2-60PBLY"},{"$f":"VLOOKUP('Input sheet'!$F$17,'factors-pull down'!$A$62:$B$80,2)","v":0.1},{"$f":"VLOOKUP(I54,'Capacities generators'!AY:BM,Selection!$G$26+1,FALSE)","v":4.9000000000000004},{"$f":"VLOOKUP(A54,'Buffer vessel'!$A$5:$B$13,2,FALSE)","v":750},{"$f":"VLOOKUP(A54,'Buffer vessel'!$A$5:$C$13,3,FALSE)","v":"606201452"},3]
["N2-65P",{"$f":"J55*Selection!$D$25/$I$25","v":55.8},3,167.39999999999998,{"$f":"IFERROR(IF(('Input sheet'!$B$3/D55)<=1,('Input sheet'!$B$3/D55),\"0\"),\"\")","v":0.11947431302270013},{"$f":"K55*Selection!$F$25/$I$25","v":161.80000000000001},485.40000000000003,{"$f":"IFERROR((D55-'Input sheet'!$B$3),\"\")","v":147.39999999999998},{"$f":"CONCATENATE(A55,Selection!$G$27)","v":"N2-65P6"},{"$f":"VLOOKUP(I55,'Capacities generators'!D:R,Selection!$G$26+1,FALSE)","v":55.8},{"$f":"VLOOKUP(I55,'Capacities generators'!T:AH,Selection!$G$26+1,FALSE)","v":161.80000000000001},{"$f":"CONCATENATE(Selection!A55,'Part numbers'!$Z$16,'Part numbers'!$Z$24,'Part numbers'!$AM$23)","v":"N2-65PBLN"},{"$f":"IF('Part numbers'!$AM$24=\"N\",CONCATENATE(\"EST\",\" \",Talen!$A$125),CONCATENATE(Selection!A55,'Part numbers'!$Z$16,'Part numbers'!$Z$24,'Part numbers'!$AM$24))","v":"N2-65PBLY"},{"$f":"VLOOKUP('Input sheet'!$F$17,'factors-pull down'!$A$62:$B$80,2)","v":0.1},{"$f":"VLOOKUP(I55,'Capacities generators'!AY:BM,Selection!$G$26+1,FALSE)","v":4.9000000000000004},{"$f":"VLOOKUP(A55,'Buffer vessel'!$A$5:$B$13,2,FALSE)","v":1000},{"$f":"VLOOKUP(A55,'Buffer vessel'!$A$5:$C$13,3,FALSE)","v":"606201456"},3]
["N2-75P",{"$f":"J56*Selection!$D$25/$I$25","v":60.8},3,182.39999999999998,{"$f":"IFERROR(IF(('Input sheet'!$B$3/D56)<=1,('Input sheet'!$B$3/D56),\"0\"),\"\")","v":0.10964912280701755},{"$f":"K56*Selection!$F$25/$I$25","v":182.4},547.20000000000005,{"$f":"IFERROR((D56-'Input sheet'!$B$3),\"\")","v":162.39999999999998},{"$f":"CONCATENATE(A56,Selection!$G$27)","v":"N2-75P6"},{"$f":"VLOOKUP(I56,'Capacities generators'!D:R,Selection!$G$26+1,FALSE)","v":60.8},{"$f":"VLOOKUP(I56,'Capacities generators'!T:AH,Selection!$G$26+1,FALSE)","v":182.4},{"$f":"CONCATENATE(Selection!A56,'Part numbers'!$Z$16,'Part numbers'!$Z$24,'Part numbers'!$AM$23)","v":"N2-75PBLN"},{"$f":"IF('Part numbers'!$AM$24=\"N\",CONCATENATE(\"EST\",\" \",Talen!$A$125),CONCATENATE(Selection!A56,'Part numbers'!$Z$16,'Part numbers'!$Z$24,'Part numbers'!$AM$24))","v":"N2-75PBLY"},{"$f":"VLOOKUP('Input sheet'!$F$17,'factors-pull down'!$A$62:$B$80,2)","v":0.1},{"$f":"VLOOKUP(I56,'Capacities generators'!AY:BM,Selection!$G$26+1,FALSE)","v":4.9000000000000004},{"$f":"VLOOKUP(A56,'Buffer vessel'!$A$5:$B$13,2,FALSE)","v":1000},{"$f":"VLOOKUP(A56,'Buffer vessel'!$A$5:$C$13,3,FALSE)","v":"606201456"},3]
["N2-80P",{"$f":"J57*Selection!$D$25/$I$25","v":67.599999999999994},3,202.79999999999998,{"$f":"IFERROR(IF(('Input sheet'!$B$3/D57)<=1,('Input sheet'!$B$3/D57),\"0\"),\"\")","v":9.8619329388560162E-2},{"$f":"K57*Selection!$F$25/$I$25","v":202.8},608.40000000000009,{"$f":"IFERROR((D57-'Input sheet'!$B$3),\"\")","v":182.79999999999998},{"$f":"CONCATENATE(A57,Selection!$G$27)","v":"N2-80P6"},{"$f":"VLOOKUP(I57,'Capacities generators'!D:R,Selection!$G$26+1,FALSE)","v":67.599999999999994},{"$f":"VLOOKUP(I57,'Capacities generators'!T:AH,Selection!$G$26+1,FALSE)","v":202.8},{"$f":"CONCATENATE(Selection!A57,'Part numbers'!$Z$16,'Part numbers'!$Z$24,'Part numbers'!$AM$23)","v":"N2-80PBLN"},{"$f":"IF('Part numbers'!$AM$24=\"N\",CONCATENATE(\"EST\",\" \",Talen!$A$125),CONCATENATE(Selection!A57,'Part numbers'!$Z$16,'Part numbers'!$Z$24,'Part numbers'!$AM$24))","v":"N2-80PBLY"},{"$f":"VLOOKUP('Input sheet'!$F$17,'factors-pull down'!$A$62:$B$80,2)","v":0.1},{"$f":"VLOOKUP(I57,'Capacities generators'!AY:BM,Selection!$G$26+1,FALSE)","v":4.9000000000000004},{"$f":"VLOOKUP(A57,'Buffer vessel'!$A$5:$B$13,2,FALSE)","v":1000},{"$f":"VLOOKUP(A57,'Buffer vessel'!$A$5:$C$13,3,FALSE)","v":"606201456"},3]
["N2-45P",{"$f":"J58*Selection!$D$25/$I$25","v":36.700000000000003},4,146.80000000000001,{"$f":"IFERROR(IF(('Input sheet'!$B$3/D58)<=1,('Input sheet'!$B$3/D58),\"0\"),\"\")","v":0.13623978201634876},{"$f":"K58*Selection!$F$25/$I$25","v":102.8},411.2,{"$f":"IFERROR((D58-'Input sheet'!$B$3),\"\")","v":126.80000000000001},{"$f":"CONCATENATE(A58,Selection!$G$27)","v":"N2-45P6"},{"$f":"VLOOKUP(I58,'Capacities generators'!D:R,Selection!$G$26+1,FALSE)","v":36.700000000000003},{"$f":"VLOOKUP(I58,'Capacities generators'!T:AH,Selection!$G$26+1,FALSE)","v":102.8},{"$f":"CONCATENATE(Selection!A58,'Part numbers'!$Z$16,'Part numbers'!$Z$24,'Part numbers'!$AM$23)","v":"N2-45PBLN"},{"$f":"IF('Part numbers'!$AM$24=\"N\",CONCATENATE(\"EST\",\" \",Talen!$A$125),CONCATENATE(Selection!A58,'Part numbers'!$Z$16,'Part numbers'!$Z$24,'Part numbers'!$AM$24))","v":"N2-45PBLY"},{"$f":"VLOOKUP('Input sheet'!$F$17,'factors-pull down'!$A$62:$B$80,2)","v":0.1},{"$f":"VLOOKUP(I58,'Capacities generators'!AY:BM,Selection!$G$26+1,FALSE)","v":4.9000000000000004},{"$f":"VLOOKUP(A58,'Buffer vessel'!$A$5:$B$13,2,FALSE)","v":750},{"$f":"VLOOKUP(A58,'Buffer vessel'!$A$5:$C$13,3,FALSE)","v":"606201452"},4]
["N2-55P",{"$f":"J59*Selection!$D$25/$I$25","v":44.1},4,176.4,{"$f":"IFERROR(IF(('Input sheet'!$B$3/D59)<=1,('Input sheet'!$B$3/D59),\"0\"),\"\")","v":0.11337868480725623},{"$f":"K59*Selection!$F$25/$I$25","v":123.5},494,{"$f":"IFERROR((D59-'Input sheet'!$B$3),\"\")","v":156.4},{"$f":"CONCATENATE(A59,Selection!$G$27)","v":"N2-55P6"},{"$f":"VLOOKUP(I59,'Capacities generators'!D:R,Selection!$G$26+1,FALSE)","v":44.1},{"$f":"VLOOKUP(I59,'Capacities generators'!T:AH,Selection!$G$26+1,FALSE)","v":123.5},{"$f":"CONCATENATE(Selection!A59,'Part numbers'!$Z$16,'Part numbers'!$Z$24,'Part numbers'!$AM$23)","v":"N2-55PBLN"},{"$f":"IF('Part numbers'!$AM$24=\"N\",CONCATENATE(\"EST\",\" \",Talen!$A$125),CONCATENATE(Selection!A59,'Part numbers'!$Z$16,'Part numbers'!$Z$24,'Part numbers'!$AM$24))","v":"N2-55PBLY"},{"$f":"VLOOKUP('Input sheet'!$F$17,'factors-pull down'!$A$62:$B$80,2)","v":0.1},{"$f":"VLOOKUP(I59,'Capacities generators'!AY:BM,Selection!$G$26+1,FALSE)","v":4.9000000000000004},{"$f":"VLOOKUP(A59,'Buffer vessel'!$A$5:$B$13,2,FALSE)","v":750},{"$f":"VLOOKUP(A59,'Buffer vessel'!$A$5:$C$13,3,FALSE)","v":"606201452"},4]
["N2-60P",{"$f":"J60*Selection!$D$25/$I$25","v":48.8},4,195.2,{"$f":"IFERROR(IF(('Input sheet'!$B$3/D60)<=1,('Input sheet'!$B$3/D60),\"0\"),\"\")","v":0.10245901639344263},{"$f":"K60*Selection!$F$25/$I$25","v":141.5},566,{"$f":"IFERROR((D60-'Input sheet'!$B$3),\"\")","v":175.2},{"$f":"CONCATENATE(A60,Selection!$G$27)","v":"N2-60P6"},{"$f":"VLOOKUP(I60,'Capacities generators'!D:R,Selection!$G$26+1,FALSE)","v":48.8},{"$f":"VLOOKUP(I60,'Capacities generators'!T:AH,Selection!$G$26+1,FALSE)","v":141.5},{"$f":"CONCATENATE(Selection!A60,'Part numbers'!$Z$16,'Part numbers'!$Z$24,'Part numbers'!$AM$23)","v":"N2-60PBLN"},{"$f":"IF('Part numbers'!$AM$24=\"N\",CONCATENATE(\"EST\",\" \",Talen!$A$125),CONCATENATE(Selection!A60,'Part numbers'!$Z$16,'Part numbers'!$Z$24,'Part numbers'!$AM$24))","v":"N2-60PBLY"},{"$f":"VLOOKUP('Input sheet'!$F$17,'factors-pull down'!$A$62:$B$80,2)","v":0.1},{"$f":"VLOOKUP(I60,'Capacities generators'!AY:BM,Selection!$G$26+1,FALSE)","v":4.9000000000000004},{"$f":"VLOOKUP(A60,'Buffer vessel'!$A$5:$B$13,2,FALSE)","v":750},{"$f":"VLOOKUP(A60,'Buffer vessel'!$A$5:$C$13,3,FALSE)","v":"606201452"},4]
["N2-65P",{"$f":"J61*Selection!$D$25/$I$25","v":55.8},4,223.2,{"$f":"IFERROR(IF(('Input sheet'!$B$3/D61)<=1,('Input sheet'!$B$3/D61),\"0\"),\"\")","v":8.9605734767025089E-2},{"$f":"K61*Selection!$F$25/$I$25","v":161.80000000000001},647.20000000000005,{"$f":"IFERROR((D61-'Input sheet'!$B$3),\"\")","v":203.2},{"$f":"CONCATENATE(A61,Selection!$G$27)","v":"N2-65P6"},{"$f":"VLOOKUP(I61,'Capacities generators'!D:R,Selection!$G$26+1,FALSE)","v":55.8},{"$f":"VLOOKUP(I61,'Capacities generators'!T:AH,Selection!$G$26+1,FALSE)","v":161.80000000000001},{"$f":"CONCATENATE(Selection!A61,'Part numbers'!$Z$16,'Part numbers'!$Z$24,'Part numbers'!$AM$23)","v":"N2-65PBLN"},{"$f":"IF('Part numbers'!$AM$24=\"N\",CONCATENATE(\"EST\",\" \",Talen!$A$125),CONCATENATE(Selection!A61,'Part numbers'!$Z$16,'Part numbers'!$Z$24,'Part numbers'!$AM$24))","v":"N2-65PBLY"},{"$f":"VLOOKUP('Input sheet'!$F$17,'factors-pull down'!$A$62:$B$80,2)","v":0.1},{"$f":"VLOOKUP(I61,'Capacities generators'!AY:BM,Selection!$G$26+1,FALSE)","v":4.9000000000000004},{"$f":"VLOOKUP(A61,'Buffer vessel'!$A$5:$B$13,2,FALSE)","v":1000},{"$f":"VLOOKUP(A61,'Buffer vessel'!$A$5:$C$13,3,FALSE)","v":"606201456"},4]
["N2-75P",{"$f":"J62*Selection!$D$25/$I$25","v":60.8},4,243.2,{"$f":"IFERROR(IF(('Input sheet'!$B$3/D62)<=1,('Input sheet'!$B$3/D62),\"0\"),\"\")","v":8.2236842105263164E-2},{"$f":"K62*Selection!$F$25/$I$25","v":182.4},729.6,{"$f":"IFERROR((D62-'Input sheet'!$B$3),\"\")","v":223.2},{"$f":"CONCATENATE(A62,Selection!$G$27)","v":"N2-75P6"},{"$f":"VLOOKUP(I62,'Capacities generators'!D:R,Selection!$G$26+1,FALSE)","v":60.8},{"$f":"VLOOKUP(I62,'Capacities generators'!T:AH,Selection!$G$26+1,FALSE)","v":182.4},{"$f":"CONCATENATE(Selection!A62,'Part numbers'!$Z$16,'Part numbers'!$Z$24,'Part numbers'!$AM$23)","v":"N2-75PBLN"},{"$f":"IF('Part numbers'!$AM$24=\"N\",CONCATENATE(\"EST\",\" \",Talen!$A$125),CONCATENATE(Selection!A62,'Part numbers'!$Z$16,'Part numbers'!$Z$24,'Part numbers'!$AM$24))","v":"N2-75PBLY"},{"$f":"VLOOKUP('Input sheet'!$F$17,'factors-pull down'!$A$62:$B$80,2)","v":0.1},{"$f":"VLOOKUP(I62,'Capacities generators'!AY:BM,Selection!$G$26+1,FALSE)","v":4.9000000000000004},{"$f":"VLOOKUP(A62,'Buffer vessel'!$A$5:$B$13,2,FALSE)","v":1000},{"$f":"VLOOKUP(A62,'Buffer vessel'!$A$5:$C$13,3,FALSE)","v":"606201456"},4]
["N2-80P",{"$f":"J63*Selection!$D$25/$I$25","v":67.599999999999994},4,270.39999999999998,{"$f":"IFERROR(IF(('Input sheet'!$B$3/D63)<=1,('Input sheet'!$B$3/D63),\"0\"),\"\")","v":7.3964497041420121E-2},{"$f":"K63*Selection!$F$25/$I$25","v":202.8},811.2,{"$f":"IFERROR((D63-'Input sheet'!$B$3),\"\")","v":250.39999999999998},{"$f":"CONCATENATE(A63,Selection!$G$27)","v":"N2-80P6"},{"$f":"VLOOKUP(I63,'Capacities generators'!D:R,Selection!$G$26+1,FALSE)","v":67.599999999999994},{"$f":"VLOOKUP(I63,'Capacities generators'!T:AH,Selection!$G$26+1,FALSE)","v":202.8},{"$f":"CONCATENATE(Selection!A63,'Part numbers'!$Z$16,'Part numbers'!$Z$24,'Part numbers'!$AM$23)","v":"N2-80PBLN"},{"$f":"IF('Part numbers'!$AM$24=\"N\",CONCATENATE(\"EST\",\" \",Talen!$A$125),CONCATENATE(Selection!A63,'Part numbers'!$Z$16,'Part numbers'!$Z$24,'Part numbers'!$AM$24))","v":"N2-80PBLY"},{"$f":"VLOOKUP('Input sheet'!$F$17,'factors-pull down'!$A$62:$B$80,2)","v":0.1},{"$f":"VLOOKUP(I63,'Capacities generators'!AY:BM,Selection!$G$26+1,FALSE)","v":4.9000000000000004},{"$f":"VLOOKUP(A63,'Buffer vessel'!$A$5:$B$13,2,FALSE)","v":1000},{"$f":"VLOOKUP(A63,'Buffer vessel'!$A$5:$C$13,3,FALSE)","v":"606201456"},4]
["N2-45P",{"$f":"J64*Selection!$D$25/$I$25","v":36.700000000000003},5,183.5,{"$f":"IFERROR(IF(('Input sheet'!$B$3/D64)<=1,('Input sheet'!$B$3/D64),\"0\"),\"\")","v":0.10899182561307902},{"$f":"K64*Selection!$F$25/$I$25","v":102.8},514,{"$f":"IFERROR((D64-'Input sheet'!$B$3),\"\")","v":163.5},{"$f":"CONCATENATE(A64,Selection!$G$27)","v":"N2-45P6"},{"$f":"VLOOKUP(I64,'Capacities generators'!D:R,Selection!$G$26+1,FALSE)","v":36.700000000000003},{"$f":"VLOOKUP(I64,'Capacities generators'!T:AH,Selection!$G$26+1,FALSE)","v":102.8},{"$f":"CONCATENATE(Selection!A64,'Part numbers'!$Z$16,'Part numbers'!$Z$24,'Part numbers'!$AM$23)","v":"N2-45PBLN"},{"$f":"IF('Part numbers'!$AM$24=\"N\",CONCATENATE(\"EST\",\" \",Talen!$A$125),CONCATENATE(Selection!A64,'Part numbers'!$Z$16,'Part numbers'!$Z$24,'Part numbers'!$AM$24))","v":"N2-45PBLY"},{"$f":"VLOOKUP('Input sheet'!$F$17,'factors-pull down'!$A$62:$B$80,2)","v":0.1},{"$f":"VLOOKUP(I64,'Capacities generators'!AY:BM,Selection!$G$26+1,FALSE)","v":4.9000000000000004},{"$f":"VLOOKUP(A64,'Buffer vessel'!$A$5:$B$13,2,FALSE)","v":750},{"$f":"VLOOKUP(A64,'Buffer vessel'!$A$5:$C$13,3,FALSE)","v":"606201452"},5]
["N2-55P",{"$f":"J65*Selection!$D$25/$I$25","v":44.1},5,220.5,{"$f":"IFERROR(IF(('Input sheet'!$B$3/D65)<=1,('Input sheet'!$B$3/D65),\"0\"),\"\")","v":9.0702947845804988E-2},{"$f":"K65*Selection!$F$25/$I$25","v":123.5},617.5,{"$f":"IFERROR((D65-'Input sheet'!$B$3),\"\")","v":200.5},{"$f":"CONCATENATE(A65,Selection!$G$27)","v":"N2-55P6"},{"$f":"VLOOKUP(I65,'Capacities generators'!D:R,Selection!$G$26+1,FALSE)","v":44.1},{"$f":"VLOOKUP(I65,'Capacities generators'!T:AH,Selection!$G$26+1,FALSE)","v":123.5},{"$f":"CONCATENATE(Selection!A65,'Part numbers'!$Z$16,'Part numbers'!$Z$24,'Part numbers'!$AM$23)","v":"N2-55PBLN"},{"$f":"IF('Part numbers'!$AM$24=\"N\",CONCATENATE(\"EST\",\" \",Talen!$A$125),CONCATENATE(Selection!A65,'Part numbers'!$Z$16,'Part numbers'!$Z$24,'Part numbers'!$AM$24))","v":"N2-55PBLY"},{"$f":"VLOOKUP('Input sheet'!$F$17,'factors-pull down'!$A$62:$B$80,2)","v":0.1},{"$f":"VLOOKUP(I65,'Capacities generators'!AY:BM,Selection!$G$26+1,FALSE)","v":4.9000000000000004},{"$f":"VLOOKUP(A65,'Buffer vessel'!$A$5:$B$13,2,FALSE)","v":750},{"$f":"VLOOKUP(A65,'Buffer vessel'!$A$5:$C$13,3,FALSE)","v":"606201452"},5]
["N2-60P",{"$f":"J66*Selection!$D$25/$I$25","v":48.8},5,{"$f":"IFERROR(B66*C66,\"N/A\")","v":244},{"$f":"IFERROR(IF(('Input sheet'!$B$3/D66)<=1,('Input sheet'!$B$3/D66),\"0\"),\"\")","v":8.1967213114754092E-2},{"$f":"K66*Selection!$F$25/$I$25","v":141.5},{"$f":"IFERROR(F66*C66,\"N/A\")","v":707.5},{"$f":"IFERROR((D66-'Input sheet'!$B$3),\"\")","v":224},{"$f":"CONCATENATE(A66,Selection!$G$27)","v":"N2-60P6"},{"$f":"VLOOKUP(I66,'Capacities generators'!D:R,Selection!$G$26+1,FALSE)","v":48.8},{"$f":"VLOOKUP(I66,'Capacities generators'!T:AH,Selection!$G$26+1,FALSE)","v":141.5},{"$f":"CONCATENATE(Selection!A66,'Part numbers'!$Z$16,'Part numbers'!$Z$24,'Part numbers'!$AM$23)","v":"N2-60PBLN"},{"$f":"IF('Part numbers'!$AM$24=\"N\",CONCATENATE(\"EST\",\" \",Talen!$A$125),CONCATENATE(Selection!A66,'Part numbers'!$Z$16,'Part numbers'!$Z$24,'Part numbers'!$AM$24))","v":"N2-60PBLY"},{"$f":"VLOOKUP('Input sheet'!$F$17,'factors-pull down'!$A$62:$B$80,2)","v":0.1},{"$f":"VLOOKUP(I66,'Capacities generators'!AY:BM,Selection!$G$26+1,FALSE)","v":4.9000000000000004},{"$f":"VLOOKUP(A66,'Buffer vessel'!$A$5:$B$13,2,FALSE)","v":750},{"$f":"VLOOKUP(A66,'Buffer vessel'!$A$5:$C$13,3,FALSE)","v":"606201452"},5]
["N2-65P",{"$f":"J67*Selection!$D$25/$I$25","v":55.8},5,279,{"$f":"IFERROR(IF(('Input sheet'!$B$3/D67)<=1,('Input sheet'!$B$3/D67),\"0\"),\"\")","v":7.1684587813620068E-2},{"$f":"K67*Selection!$F$25/$I$25","v":161.80000000000001},809,{"$f":"IFERROR((D67-'Input sheet'!$B$3),\"\")","v":259},{"$f":"CONCATENATE(A67,Selection!$G$27)","v":"N2-65P6"},{"$f":"VLOOKUP(I67,'Capacities generators'!D:R,Selection!$G$26+1,FALSE)","v":55.8},{"$f":"VLOOKUP(I67,'Capacities generators'!T:AH,Selection!$G$26+1,FALSE)","v":161.80000000000001},{"$f":"CONCATENATE(Selection!A67,'Part numbers'!$Z$16,'Part numbers'!$Z$24,'Part numbers'!$AM$23)","v":"N2-65PBLN"},{"$f":"IF('Part numbers'!$AM$24=\"N\",CONCATENATE(\"EST\",\" \",Talen!$A$125),CONCATENATE(Selection!A67,'Part numbers'!$Z$16,'Part numbers'!$Z$24,'Part numbers'!$AM$24))","v":"N2-65PBLY"},{"$f":"VLOOKUP('Input sheet'!$F$17,'factors-pull down'!$A$62:$B$80,2)","v":0.1},{"$f":"VLOOKUP(I67,'Capacities generators'!AY:BM,Selection!$G$26+1,FALSE)","v":4.9000000000000004},{"$f":"VLOOKUP(A67,'Buffer vessel'!$A$5:$B$13,2,FALSE)","v":1000},{"$f":"VLOOKUP(A67,'Buffer vessel'!$A$5:$C$13,3,FALSE)","v":"606201456"},5]
["N2-75P",{"$f":"J68*Selection!$D$25/$I$25","v":60.8},5,304,{"$f":"IFERROR(IF(('Input sheet'!$B$3/D68)<=1,('Input sheet'!$B$3/D68),\"0\"),\"\")","v":6.5789473684210523E-2},{"$f":"K68*Selection!$F$25/$I$25","v":182.4},912,{"$f":"IFERROR((D68-'Input sheet'!$B$3),\"\")","v":284},{"$f":"CONCATENATE(A68,Selection!$G$27)","v":"N2-75P6"},{"$f":"VLOOKUP(I68,'Capacities generators'!D:R,Selection!$G$26+1,FALSE)","v":60.8},{"$f":"VLOOKUP(I68,'Capacities generators'!T:AH,Selection!$G$26+1,FALSE)","v":182.4},{"$f":"CONCATENATE(Selection!A68,'Part numbers'!$Z$16,'Part numbers'!$Z$24,'Part numbers'!$AM$23)","v":"N2-75PBLN"},{"$f":"IF('Part numbers'!$AM$24=\"N\",CONCATENATE(\"EST\",\" \",Talen!$A$125),CONCATENATE(Selection!A68,'Part numbers'!$Z$16,'Part numbers'!$Z$24,'Part numbers'!$AM$24))","v":"N2-75PBLY"},{"$f":"VLOOKUP('Input sheet'!$F$17,'factors-pull down'!$A$62:$B$80,2)","v":0.1},{"$f":"VLOOKUP(I68,'Capacities generators'!AY:BM,Selection!$G$26+1,FALSE)","v":4.9000000000000004},{"$f":"VLOOKUP(A68,'Buffer vessel'!$A$5:$B$13,2,FALSE)","v":1000},{"$f":"VLOOKUP(A68,'Buffer vessel'!$A$5:$C$13,3,FALSE)","v":"606201456"},5]
["N2-80P",{"$f":"J69*Selection!$D$25/$I$25","v":67.599999999999994},5,338,{"$f":"IFERROR(IF(('Input sheet'!$B$3/D69)<=1,('Input sheet'!$B$3/D69),\"0\"),\"\")","v":5.9171597633136092E-2},{"$f":"K69*Selection!$F$25/$I$25","v":202.8},1014,{"$f":"IFERROR((D69-'Input sheet'!$B$3),\"\")","v":318},{"$f":"CONCATENATE(A69,Selection!$G$27)","v":"N2-80P6"},{"$f":"VLOOKUP(I69,'Capacities generators'!D:R,Selection!$G$26+1,FALSE)","v":67.599999999999994},{"$f":"VLOOKUP(I69,'Capacities generators'!T:AH,Selection!$G$26+1,FALSE)","v":202.8},{"$f":"CONCATENATE(Selection!A69,'Part numbers'!$Z$16,'Part numbers'!$Z$24,'Part numbers'!$AM$23)","v":"N2-80PBLN"},{"$f":"IF('Part numbers'!$AM$24=\"N\",CONCATENATE(\"EST\",\" \",Talen!$A$125),CONCATENATE(Selection!A69,'Part numbers'!$Z$16,'Part numbers'!$Z$24,'Part numbers'!$AM$24))","v":"N2-80PBLY"},{"$f":"VLOOKUP('Input sheet'!$F$17,'factors-pull down'!$A$62:$B$80,2)","v":0.1},{"$f":"VLOOKUP(I69,'Capacities generators'!AY:BM,Selection!$G$26+1,FALSE)","v":4.9000000000000004},{"$f":"VLOOKUP(A69,'Buffer vessel'!$A$5:$B$13,2,FALSE)","v":1000},{"$f":"VLOOKUP(A69,'Buffer vessel'!$A$5:$C$13,3,FALSE)","v":"606201456"},5]
["N2-45P",{"$f":"J70*Selection!$D$25/$I$25","v":36.700000000000003},6,220.20000000000002,{"$f":"IFERROR(IF(('Input sheet'!$B$3/D70)<=1,('Input sheet'!$B$3/D70),\"0\"),\"\")","v":9.0826521344232511E-2},{"$f":"K70*Selection!$F$25/$I$25","v":102.8},616.79999999999995,{"$f":"IFERROR((D70-'Input sheet'!$B$3),\"\")","v":200.20000000000002},{"$f":"CONCATENATE(A70,Selection!$G$27)","v":"N2-45P6"},{"$f":"VLOOKUP(I70,'Capacities generators'!D:R,Selection!$G$26+1,FALSE)","v":36.700000000000003},{"$f":"VLOOKUP(I70,'Capacities generators'!T:AH,Selection!$G$26+1,FALSE)","v":102.8},{"$f":"CONCATENATE(Selection!A70,'Part numbers'!$Z$16,'Part numbers'!$Z$24,'Part numbers'!$AM$23)","v":"N2-45PBLN"},{"$f":"IF('Part numbers'!$AM$24=\"N\",CONCATENATE(\"EST\",\" \",Talen!$A$125),CONCATENATE(Selection!A70,'Part numbers'!$Z$16,'Part numbers'!$Z$24,'Part numbers'!$AM$24))","v":"N2-45PBLY"},{"$f":"VLOOKUP('Input sheet'!$F$17,'factors-pull down'!$A$62:$B$80,2)","v":0.1},{"$f":"VLOOKUP(I70,'Capacities generators'!AY:BM,Selection!$G$26+1,FALSE)","v":4.9000000000000004},{"$f":"VLOOKUP(A70,'Buffer vessel'!$A$5:$B$13,2,FALSE)","v":750},{"$f":"VLOOKUP(A70,'Buffer vessel'!$A$5:$C$13,3,FALSE)","v":"606201452"},6]
["N2-55P",{"$f":"J71*Selection!$D$25/$I$25","v":44.1},6,264.60000000000002,{"$f":"IFERROR(IF(('Input sheet'!$B$3/D71)<=1,('Input sheet'!$B$3/D71),\"0\"),\"\")","v":7.5585789871504147E-2},{"$f":"K71*Selection!$F$25/$I$25","v":123.5},741,{"$f":"IFERROR((D71-'Input sheet'!$B$3),\"\")","v":244.60000000000002},{"$f":"CONCATENATE(A71,Selection!$G$27)","v":"N2-55P6"},{"$f":"VLOOKUP(I71,'Capacities generators'!D:R,Selection!$G$26+1,FALSE)","v":44.1},{"$f":"VLOOKUP(I71,'Capacities generators'!T:AH,Selection!$G$26+1,FALSE)","v":123.5},{"$f":"CONCATENATE(Selection!A71,'Part numbers'!$Z$16,'Part numbers'!$Z$24,'Part numbers'!$AM$23)","v":"N2-55PBLN"},{"$f":"IF('Part numbers'!$AM$24=\"N\",CONCATENATE(\"EST\",\" \",Talen!$A$125),CONCATENATE(Selection!A71,'Part numbers'!$Z$16,'Part numbers'!$Z$24,'Part numbers'!$AM$24))","v":"N2-55PBLY"},{"$f":"VLOOKUP('Input sheet'!$F$17,'factors-pull down'!$A$62:$B$80,2)","v":0.1},{"$f":"VLOOKUP(I71,'Capacities generators'!AY:BM,Selection!$G$26+1,FALSE)","v":4.9000000000000004},{"$f":"VLOOKUP(A71,'Buffer vessel'!$A$5:$B$13,2,FALSE)","v":750},{"$f":"VLOOKUP(A71,'Buffer vessel'!$A$5:$C$13,3,FALSE)","v":"606201452"},6]
["N2-60P",{"$f":"J72*Selection!$D$25/$I$25","v":48.8},6,292.79999999999995,{"$f":"IFERROR(IF(('Input sheet'!$B$3/D72)<=1,('Input sheet'!$B$3/D72),\"0\"),\"\")","v":6.8306010928961755E-2},{"$f":"K72*Selection!$F$25/$I$25","v":141.5},849,{"$f":"IFERROR((D72-'Input sheet'!$B$3),\"\")","v":272.79999999999995},{"$f":"CONCATENATE(A72,Selection!$G$27)","v":"N2-60P6"},{"$f":"VLOOKUP(I72,'Capacities generators'!D:R,Selection!$G$26+1,FALSE)","v":48.8},{"$f":"VLOOKUP(I72,'Capacities generators'!T:AH,Selection!$G$26+1,FALSE)","v":141.5},{"$f":"CONCATENATE(Selection!A72,'Part numbers'!$Z$16,'Part numbers'!$Z$24,'Part numbers'!$AM$23)","v":"N2-60PBLN"},{"$f":"IF('Part numbers'!$AM$24=\"N\",CONCATENATE(\"EST\",\" \",Talen!$A$125),CONCATENATE(Selection!A72,'Part numbers'!$Z$16,'Part numbers'!$Z$24,'Part numbers'!$AM$24))","v":"N2-60PBLY"},{"$f":"VLOOKUP('Input sheet'!$F$17,'factors-pull down'!$A$62:$B$80,2)","v":0.1},{"$f":"VLOOKUP(I72,'Capacities generators'!AY:BM,Selection!$G$26+1,FALSE)","v":4.9000000000000004},{"$f":"VLOOKUP(A72,'Buffer vessel'!$A$5:$B$13,2,FALSE)","v":750},{"$f":"VLOOKUP(A72,'Buffer vessel'!$A$5:$C$13,3,FALSE)","v":"606201452"},6]
["N2-65P",{"$f":"J73*Selection!$D$25/$I$25","v":55.8},6,334.79999999999995,{"$f":"IFERROR(IF(('Input sheet'!$B$3/D73)<=1,('Input sheet'!$B$3/D73),\"0\"),\"\")","v":5.9737156511350066E-2},{"$f":"K73*Selection!$F$25/$I$25","v":161.80000000000001},970.80000000000007,{"$f":"IFERROR((D73-'Input sheet'!$B$3),\"\")","v":314.79999999999995},{"$f":"CONCATENATE(A73,Selection!$G$27)","v":"N2-65P6"},{"$f":"VLOOKUP(I73,'Capacities generators'!D:R,Selection!$G$26+1,FALSE)","v":55.8},{"$f":"VLOOKUP(I73,'Capacities generators'!T:AH,Selection!$G$26+1,FALSE)","v":161.80000000000001},{"$f":"CONCATENATE(Selection!A73,'Part numbers'!$Z$16,'Part numbers'!$Z$24,'Part numbers'!$AM$23)","v":"N2-65PBLN"},{"$f":"IF('Part numbers'!$AM$24=\"N\",CONCATENATE(\"EST\",\" \",Talen!$A$125),CONCATENATE(Selection!A73,'Part numbers'!$Z$16,'Part numbers'!$Z$24,'Part numbers'!$AM$24))","v":"N2-65PBLY"},{"$f":"VLOOKUP('Input sheet'!$F$17,'factors-pull down'!$A$62:$B$80,2)","v":0.1},{"$f":"VLOOKUP(I73,'Capacities generators'!AY:BM,Selection!$G$26+1,FALSE)","v":4.9000000000000004},{"$f":"VLOOKUP(A73,'Buffer vessel'!$A$5:$B$13,2,FALSE)","v":1000},{"$f":"VLOOKUP(A73,'Buffer vessel'!$A$5:$C$13,3,FALSE)","v":"606201456"},6]
["N2-75P",{"$f":"J74*Selection!$D$25/$I$25","v":60.8},6,364.79999999999995,{"$f":"IFERROR(IF(('Input sheet'!$B$3/D74)<=1,('Input sheet'!$B$3/D74),\"0\"),\"\")","v":5.4824561403508776E-2},{"$f":"K74*Selection!$F$25/$I$25","v":182.4},1094.4000000000001,{"$f":"IFERROR((D74-'Input sheet'!$B$3),\"\")","v":344.79999999999995},{"$f":"CONCATENATE(A74,Selection!$G$27)","v":"N2-75P6"},{"$f":"VLOOKUP(I74,'Capacities generators'!D:R,Selection!$G$26+1,FALSE)","v":60.8},{"$f":"VLOOKUP(I74,'Capacities generators'!T:AH,Selection!$G$26+1,FALSE)","v":182.4},{"$f":"CONCATENATE(Selection!A74,'Part numbers'!$Z$16,'Part numbers'!$Z$24,'Part numbers'!$AM$23)","v":"N2-75PBLN"},{"$f":"IF('Part numbers'!$AM$24=\"N\",CONCATENATE(\"EST\",\" \",Talen!$A$125),CONCATENATE(Selection!A74,'Part numbers'!$Z$16,'Part numbers'!$Z$24,'Part numbers'!$AM$24))","v":"N2-75PBLY"},{"$f":"VLOOKUP('Input sheet'!$F$17,'factors-pull down'!$A$62:$B$80,2)","v":0.1},{"$f":"VLOOKUP(I74,'Capacities generators'!AY:BM,Selection!$G$26+1,FALSE)","v":4.9000000000000004},{"$f":"VLOOKUP(A74,'Buffer vessel'!$A$5:$B$13,2,FALSE)","v":1000},{"$f":"VLOOKUP(A74,'Buffer vessel'!$A$5:$C$13,3,FALSE)","v":"606201456"},6]
["N2-80P",{"$f":"J75*Selection!$D$25/$I$25","v":67.599999999999994},6,405.59999999999997,{"$f":"IFERROR(IF(('Input sheet'!$B$3/D75)<=1,('Input sheet'!$B$3/D75),\"0\"),\"\")","v":4.9309664694280081E-2},{"$f":"K75*Selection!$F$25/$I$25","v":202.8},1216.8000000000002,{"$f":"IFERROR((D75-'Input sheet'!$B$3),\"\")","v":385.59999999999997},{"$f":"CONCATENATE(A75,Selection!$G$27)","v":"N2-80P6"},{"$f":"VLOOKUP(I75,'Capacities generators'!D:R,Selection!$G$26+1,FALSE)","v":67.599999999999994},{"$f":"VLOOKUP(I75,'Capacities generators'!T:AH,Selection!$G$26+1,FALSE)","v":202.8},{"$f":"CONCATENATE(Selection!A75,'Part numbers'!$Z$16,'Part numbers'!$Z$24,'Part numbers'!$AM$23)","v":"N2-80PBLN"},{"$f":"IF('Part numbers'!$AM$24=\"N\",CONCATENATE(\"EST\",\" \",Talen!$A$125),CONCATENATE(Selection!A75,'Part numbers'!$Z$16,'Part numbers'!$Z$24,'Part numbers'!$AM$24))","v":"N2-80PBLY"},{"$f":"VLOOKUP('Input sheet'!$F$17,'factors-pull down'!$A$62:$B$80,2)","v":0.1},{"$f":"VLOOKUP(I75,'Capacities generators'!AY:BM,Selection!$G$26+1,FALSE)","v":4.9000000000000004},{"$f":"VLOOKUP(A75,'Buffer vessel'!$A$5:$B$13,2,FALSE)","v":1000},{"$f":"VLOOKUP(A75,'Buffer vessel'!$A$5:$C$13,3,FALSE)","v":"606201456"},6]
["N2-45P",{"$f":"J76*Selection!$D$25/$I$25","v":36.700000000000003},6,220.20000000000002,{"$f":"IFERROR(IF(('Input sheet'!$B$3/D76)<=1,('Input sheet'!$B$3/D76),\"0\"),\"\")","v":9.0826521344232511E-2},{"$f":"K76*Selection!$F$25/$I$25","v":102.8},616.79999999999995,{"$f":"IFERROR((D76-'Input sheet'!$B$3),\"\")","v":200.20000000000002},{"$f":"CONCATENATE(A76,Selection!$G$27)","v":"N2-45P6"},{"$f":"VLOOKUP(I76,'Capacities generators'!D:R,Selection!$G$26+1,FALSE)","v":36.700000000000003},{"$f":"VLOOKUP(I76,'Capacities generators'!T:AH,Selection!$G$26+1,FALSE)","v":102.8},{"$f":"CONCATENATE(Selection!A76,'Part numbers'!$Z$16,'Part numbers'!$Z$24,'Part numbers'!$AM$23)","v":"N2-45PBLN"},{"$f":"IF('Part numbers'!$AM$24=\"N\",CONCATENATE(\"EST\",\" \",Talen!$A$125),CONCATENATE(Selection!A76,'Part numbers'!$Z$16,'Part numbers'!$Z$24,'Part numbers'!$AM$24))","v":"N2-45PBLY"},{"$f":"VLOOKUP('Input sheet'!$F$17,'factors-pull down'!$A$62:$B$80,2)","v":0.1},{"$f":"VLOOKUP(I76,'Capacities generators'!AY:BM,Selection!$G$26+1,FALSE)","v":4.9000000000000004},{"$f":"VLOOKUP(A76,'Buffer vessel'!$A$5:$B$13,2,FALSE)","v":750},{"$f":"VLOOKUP(A76,'Buffer vessel'!$A$5:$C$13,3,FALSE)","v":"606201452"},6]
["N2-55P",{"$f":"J77*Selection!$D$25/$I$25","v":44.1},7,308.7,{"$f":"IFERROR(IF(('Input sheet'!$B$3/D77)<=1,('Input sheet'!$B$3/D77),\"0\"),\"\")","v":6.4787819889860709E-2},{"$f":"K77*Selection!$F$25/$I$25","v":123.5},864.5,{"$f":"IFERROR((D77-'Input sheet'!$B$3),\"\")","v":288.7},{"$f":"CONCATENATE(A77,Selection!$G$27)","v":"N2-55P6"},{"$f":"VLOOKUP(I77,'Capacities generators'!D:R,Selection!$G$26+1,FALSE)","v":44.1},{"$f":"VLOOKUP(I77,'Capacities generators'!T:AH,Selection!$G$26+1,FALSE)","v":123.5},{"$f":"CONCATENATE(Selection!A77,'Part numbers'!$Z$16,'Part numbers'!$Z$24,'Part numbers'!$AM$23)","v":"N2-55PBLN"},{"$f":"IF('Part numbers'!$AM$24=\"N\",CONCATENATE(\"EST\",\" \",Talen!$A$125),CONCATENATE(Selection!A77,'Part numbers'!$Z$16,'Part numbers'!$Z$24,'Part numbers'!$AM$24))","v":"N2-55PBLY"},{"$f":"VLOOKUP('Input sheet'!$F$17,'factors-pull down'!$A$62:$B$80,2)","v":0.1},{"$f":"VLOOKUP(I77,'Capacities generators'!AY:BM,Selection!$G$26+1,FALSE)","v":4.9000000000000004},{"$f":"VLOOKUP(A77,'Buffer vessel'!$A$5:$B$13,2,FALSE)","v":750},{"$f":"VLOOKUP(A77,'Buffer vessel'!$A$5:$C$13,3,FALSE)","v":"606201452"},7]
["N2-60P",{"$f":"J78*Selection!$D$25/$I$25","v":48.8},7,341.59999999999997,{"$f":"IFERROR(IF(('Input sheet'!$B$3/D78)<=1,('Input sheet'!$B$3/D78),\"0\"),\"\")","v":5.8548009367681501E-2},{"$f":"K78*Selection!$F$25/$I$25","v":141.5},990.5,{"$f":"IFERROR((D78-'Input sheet'!$B$3),\"\")","v":321.59999999999997},{"$f":"CONCATENATE(A78,Selection!$G$27)","v":"N2-60P6"},{"$f":"VLOOKUP(I78,'Capacities generators'!D:R,Selection!$G$26+1,FALSE)","v":48.8},{"$f":"VLOOKUP(I78,'Capacities generators'!T:AH,Selection!$G$26+1,FALSE)","v":141.5},{"$f":"CONCATENATE(Selection!A78,'Part numbers'!$Z$16,'Part numbers'!$Z$24,'Part numbers'!$AM$23)","v":"N2-60PBLN"},{"$f":"IF('Part numbers'!$AM$24=\"N\",CONCATENATE(\"EST\",\" \",Talen!$A$125),CONCATENATE(Selection!A78,'Part numbers'!$Z$16,'Part numbers'!$Z$24,'Part numbers'!$AM$24))","v":"N2-60PBLY"},{"$f":"VLOOKUP('Input sheet'!$F$17,'factors-pull down'!$A$62:$B$80,2)","v":0.1},{"$f":"VLOOKUP(I78,'Capacities generators'!AY:BM,Selection!$G$26+1,FALSE)","v":4.9000000000000004},{"$f":"VLOOKUP(A78,'Buffer vessel'!$A$5:$B$13,2,FALSE)","v":750},{"$f":"VLOOKUP(A78,'Buffer vessel'!$A$5:$C$13,3,FALSE)","v":"606201452"},7]
["N2-65P",{"$f":"J79*Selection!$D$25/$I$25","v":55.8},7,390.59999999999997,{"$f":"IFERROR(IF(('Input sheet'!$B$3/D79)<=1,('Input sheet'!$B$3/D79),\"0\"),\"\")","v":5.1203277009728626E-2},{"$f":"K79*Selection!$F$25/$I$25","v":161.80000000000001},1132.6000000000001,{"$f":"IFERROR((D79-'Input sheet'!$B$3),\"\")","v":370.59999999999997},{"$f":"CONCATENATE(A79,Selection!$G$27)","v":"N2-65P6"},{"$f":"VLOOKUP(I79,'Capacities generators'!D:R,Selection!$G$26+1,FALSE)","v":55.8},{"$f":"VLOOKUP(I79,'Capacities generators'!T:AH,Selection!$G$26+1,FALSE)","v":161.80000000000001},{"$f":"CONCATENATE(Selection!A79,'Part numbers'!$Z$16,'Part numbers'!$Z$24,'Part numbers'!$AM$23)","v":"N2-65PBLN"},{"$f":"IF('Part numbers'!$AM$24=\"N\",CONCATENATE(\"EST\",\" \",Talen!$A$125),CONCATENATE(Selection!A79,'Part numbers'!$Z$16,'Part numbers'!$Z$24,'Part numbers'!$AM$24))","v":"N2-65PBLY"},{"$f":"VLOOKUP('Input sheet'!$F$17,'factors-pull down'!$A$62:$B$80,2)","v":0.1},{"$f":"VLOOKUP(I79,'Capacities generators'!AY:BM,Selection!$G$26+1,FALSE)","v":4.9000000000000004},{"$f":"VLOOKUP(A79,'Buffer vessel'!$A$5:$B$13,2,FALSE)","v":1000},{"$f":"VLOOKUP(A79,'Buffer vessel'!$A$5:$C$13,3,FALSE)","v":"606201456"},7]
["N2-75P",{"$f":"J80*Selection!$D$25/$I$25","v":60.8},7,425.59999999999997,{"$f":"IFERROR(IF(('Input sheet'!$B$3/D80)<=1,('Input sheet'!$B$3/D80),\"0\"),\"\")","v":4.6992481203007523E-2},{"$f":"K80*Selection!$F$25/$I$25","v":182.4},1276.8,{"$f":"IFERROR((D80-'Input sheet'!$B$3),\"\")","v":405.59999999999997},{"$f":"CONCATENATE(A80,Selection!$G$27)","v":"N2-75P6"},{"$f":"VLOOKUP(I80,'Capacities generators'!D:R,Selection!$G$26+1,FALSE)","v":60.8},{"$f":"VLOOKUP(I80,'Capacities generators'!T:AH,Selection!$G$26+1,FALSE)","v":182.4},{"$f":"CONCATENATE(Selection!A80,'Part numbers'!$Z$16,'Part numbers'!$Z$24,'Part numbers'!$AM$23)","v":"N2-75PBLN"},{"$f":"IF('Part numbers'!$AM$24=\"N\",CONCATENATE(\"EST\",\" \",Talen!$A$125),CONCATENATE(Selection!A80,'Part numbers'!$Z$16,'Part numbers'!$Z$24,'Part numbers'!$AM$24))","v":"N2-75PBLY"},{"$f":"VLOOKUP('Input sheet'!$F$17,'factors-pull down'!$A$62:$B$80,2)","v":0.1},{"$f":"VLOOKUP(I80,'Capacities generators'!AY:BM,Selection!$G$26+1,FALSE)","v":4.9000000000000004},{"$f":"VLOOKUP(A80,'Buffer vessel'!$A$5:$B$13,2,FALSE)","v":1000},{"$f":"VLOOKUP(A80,'Buffer vessel'!$A$5:$C$13,3,FALSE)","v":"606201456"},7]
["N2-80P",{"$f":"J81*Selection!$D$25/$I$25","v":67.599999999999994},7,473.19999999999993,{"$f":"IFERROR(IF(('Input sheet'!$B$3/D81)<=1,('Input sheet'!$B$3/D81),\"0\"),\"\")","v":4.2265426880811502E-2},{"$f":"K81*Selection!$F$25/$I$25","v":202.8},1419.6000000000001,{"$f":"IFERROR((D81-'Input sheet'!$B$3),\"\")","v":453.19999999999993},{"$f":"CONCATENATE(A81,Selection!$G$27)","v":"N2-80P6"},{"$f":"VLOOKUP(I81,'Capacities generators'!D:R,Selection!$G$26+1,FALSE)","v":67.599999999999994},{"$f":"VLOOKUP(I81,'Capacities generators'!T:AH,Selection!$G$26+1,FALSE)","v":202.8},{"$f":"CONCATENATE(Selection!A81,'Part numbers'!$Z$16,'Part numbers'!$Z$24,'Part numbers'!$AM$23)","v":"N2-80PBLN"},{"$f":"IF('Part numbers'!$AM$24=\"N\",CONCATENATE(\"EST\",\" \",Talen!$A$125),CONCATENATE(Selection!A81,'Part numbers'!$Z$16,'Part numbers'!$Z$24,'Part numbers'!$AM$24))","v":"N2-80PBLY"},{"$f":"VLOOKUP('Input sheet'!$F$17,'factors-pull down'!$A$62:$B$80,2)","v":0.1},{"$f":"VLOOKUP(I81,'Capacities generators'!AY:BM,Selection!$G$26+1,FALSE)","v":4.9000000000000004},{"$f":"VLOOKUP(A81,'Buffer vessel'!$A$5:$B$13,2,FALSE)","v":1000},{"$f":"VLOOKUP(A81,'Buffer vessel'!$A$5:$C$13,3,FALSE)","v":"606201456"},7]
["N2-45P",{"$f":"J82*Selection!$D$25/$I$25","v":36.700000000000003},8,293.60000000000002,{"$f":"IFERROR(IF(('Input sheet'!$B$3/D82)<=1,('Input sheet'!$B$3/D82),\"0\"),\"\")","v":6.811989100817438E-2},{"$f":"K82*Selection!$F$25/$I$25","v":102.8},822.4,{"$f":"IFERROR((D82-'Input sheet'!$B$3),\"\")","v":273.60000000000002},{"$f":"CONCATENATE(A82,Selection!$G$27)","v":"N2-45P6"},{"$f":"VLOOKUP(I82,'Capacities generators'!D:R,Selection!$G$26+1,FALSE)","v":36.700000000000003},{"$f":"VLOOKUP(I82,'Capacities generators'!T:AH,Selection!$G$26+1,FALSE)","v":102.8},{"$f":"CONCATENATE(Selection!A82,'Part numbers'!$Z$16,'Part numbers'!$Z$24,'Part numbers'!$AM$23)","v":"N2-45PBLN"},{"$f":"IF('Part numbers'!$AM$24=\"N\",CONCATENATE(\"EST\",\" \",Talen!$A$125),CONCATENATE(Selection!A82,'Part numbers'!$Z$16,'Part numbers'!$Z$24,'Part numbers'!$AM$24))","v":"N2-45PBLY"},{"$f":"VLOOKUP('Input sheet'!$F$17,'factors-pull down'!$A$62:$B$80,2)","v":0.1},{"$f":"VLOOKUP(I82,'Capacities generators'!AY:BM,Selection!$G$26+1,FALSE)","v":4.9000000000000004},{"$f":"VLOOKUP(A82,'Buffer vessel'!$A$5:$B$13,2,FALSE)","v":750},{"$f":"VLOOKUP(A82,'Buffer vessel'!$A$5:$C$13,3,FALSE)","v":"606201452"},8]
["N2-55P",{"$f":"J83*Selection!$D$25/$I$25","v":44.1},8,352.8,{"$f":"IFERROR(IF(('Input sheet'!$B$3/D83)<=1,('Input sheet'!$B$3/D83),\"0\"),\"\")","v":5.6689342403628114E-2},{"$f":"K83*Selection!$F$25/$I$25","v":123.5},988,{"$f":"IFERROR((D83-'Input sheet'!$B$3),\"\")","v":332.8},{"$f":"CONCATENATE(A83,Selection!$G$27)","v":"N2-55P6"},{"$f":"VLOOKUP(I83,'Capacities generators'!D:R,Selection!$G$26+1,FALSE)","v":44.1},{"$f":"VLOOKUP(I83,'Capacities generators'!T:AH,Selection!$G$26+1,FALSE)","v":123.5},{"$f":"CONCATENATE(Selection!A83,'Part numbers'!$Z$16,'Part numbers'!$Z$24,'Part numbers'!$AM$23)","v":"N2-55PBLN"},{"$f":"IF('Part numbers'!$AM$24=\"N\",CONCATENATE(\"EST\",\" \",Talen!$A$125),CONCATENATE(Selection!A83,'Part numbers'!$Z$16,'Part numbers'!$Z$24,'Part numbers'!$AM$24))","v":"N2-55PBLY"},{"$f":"VLOOKUP('Input sheet'!$F$17,'factors-pull down'!$A$62:$B$80,2)","v":0.1},{"$f":"VLOOKUP(I83,'Capacities generators'!AY:BM,Selection!$G$26+1,FALSE)","v":4.9000000000000004},{"$f":"VLOOKUP(A83,'Buffer vessel'!$A$5:$B$13,2,FALSE)","v":750},{"$f":"VLOOKUP(A83,'Buffer vessel'!$A$5:$C$13,3,FALSE)","v":"606201452"},8]
["N2-60P",{"$f":"J84*Selection!$D$25/$I$25","v":48.8},8,390.4,{"$f":"IFERROR(IF(('Input sheet'!$B$3/D84)<=1,('Input sheet'!$B$3/D84),\"0\"),\"\")","v":5.1229508196721313E-2},{"$f":"K84*Selection!$F$25/$I$25","v":141.5},1132,{"$f":"IFERROR((D84-'Input sheet'!$B$3),\"\")","v":370.4},{"$f":"CONCATENATE(A84,Selection!$G$27)","v":"N2-60P6"},{"$f":"VLOOKUP(I84,'Capacities generators'!D:R,Selection!$G$26+1,FALSE)","v":48.8},{"$f":"VLOOKUP(I84,'Capacities generators'!T:AH,Selection!$G$26+1,FALSE)","v":141.5},{"$f":"CONCATENATE(Selection!A84,'Part numbers'!$Z$16,'Part numbers'!$Z$24,'Part numbers'!$AM$23)","v":"N2-60PBLN"},{"$f":"IF('Part numbers'!$AM$24=\"N\",CONCATENATE(\"EST\",\" \",Talen!$A$125),CONCATENATE(Selection!A84,'Part numbers'!$Z$16,'Part numbers'!$Z$24,'Part numbers'!$AM$24))","v":"N2-60PBLY"},{"$f":"VLOOKUP('Input sheet'!$F$17,'factors-pull down'!$A$62:$B$80,2)","v":0.1},{"$f":"VLOOKUP(I84,'Capacities generators'!AY:BM,Selection!$G$26+1,FALSE)","v":4.9000000000000004},{"$f":"VLOOKUP(A84,'Buffer vessel'!$A$5:$B$13,2,FALSE)","v":750},{"$f":"VLOOKUP(A84,'Buffer vessel'!$A$5:$C$13,3,FALSE)","v":"606201452"},8]
["N2-65P",{"$f":"J85*Selection!$D$25/$I$25","v":55.8},8,446.4,{"$f":"IFERROR(IF(('Input sheet'!$B$3/D85)<=1,('Input sheet'!$B$3/D85),\"0\"),\"\")","v":4.4802867383512544E-2},{"$f":"K85*Selection!$F$25/$I$25","v":161.80000000000001},1294.4000000000001,{"$f":"IFERROR((D85-'Input sheet'!$B$3),\"\")","v":426.4},{"$f":"CONCATENATE(A85,Selection!$G$27)","v":"N2-65P6"},{"$f":"VLOOKUP(I85,'Capacities generators'!D:R,Selection!$G$26+1,FALSE)","v":55.8},{"$f":"VLOOKUP(I85,'Capacities generators'!T:AH,Selection!$G$26+1,FALSE)","v":161.80000000000001},{"$f":"CONCATENATE(Selection!A85,'Part numbers'!$Z$16,'Part numbers'!$Z$24,'Part numbers'!$AM$23)","v":"N2-65PBLN"},{"$f":"IF('Part numbers'!$AM$24=\"N\",CONCATENATE(\"EST\",\" \",Talen!$A$125),CONCATENATE(Selection!A85,'Part numbers'!$Z$16,'Part numbers'!$Z$24,'Part numbers'!$AM$24))","v":"N2-65PBLY"},{"$f":"VLOOKUP('Input sheet'!$F$17,'factors-pull down'!$A$62:$B$80,2)","v":0.1},{"$f":"VLOOKUP(I85,'Capacities generators'!AY:BM,Selection!$G$26+1,FALSE)","v":4.9000000000000004},{"$f":"VLOOKUP(A85,'Buffer vessel'!$A$5:$B$13,2,FALSE)","v":1000},{"$f":"VLOOKUP(A85,'Buffer vessel'!$A$5:$C$13,3,FALSE)","v":"606201456"},8]
["N2-75P",{"$f":"J86*Selection!$D$25/$I$25","v":60.8},8,486.4,{"$f":"IFERROR(IF(('Input sheet'!$B$3/D86)<=1,('Input sheet'!$B$3/D86),\"0\"),\"\")","v":4.1118421052631582E-2},{"$f":"K86*Selection!$F$25/$I$25","v":182.4},1459.2,{"$f":"IFERROR((D86-'Input sheet'!$B$3),\"\")","v":466.4},{"$f":"CONCATENATE(A86,Selection!$G$27)","v":"N2-75P6"},{"$f":"VLOOKUP(I86,'Capacities generators'!D:R,Selection!$G$26+1,FALSE)","v":60.8},{"$f":"VLOOKUP(I86,'Capacities generators'!T:AH,Selection!$G$26+1,FALSE)","v":182.4},{"$f":"CONCATENATE(Selection!A86,'Part numbers'!$Z$16,'Part numbers'!$Z$24,'Part numbers'!$AM$23)","v":"N2-75PBLN"},{"$f":"IF('Part numbers'!$AM$24=\"N\",CONCATENATE(\"EST\",\" \",Talen!$A$125),CONCATENATE(Selection!A86,'Part numbers'!$Z$16,'Part numbers'!$Z$24,'Part numbers'!$AM$24))","v":"N2-75PBLY"},{"$f":"VLOOKUP('Input sheet'!$F$17,'factors-pull down'!$A$62:$B$80,2)","v":0.1},{"$f":"VLOOKUP(I86,'Capacities generators'!AY:BM,Selection!$G$26+1,FALSE)","v":4.9000000000000004},{"$f":"VLOOKUP(A86,'Buffer vessel'!$A$5:$B$13,2,FALSE)","v":1000},{"$f":"VLOOKUP(A86,'Buffer vessel'!$A$5:$C$13,3,FALSE)","v":"606201456"},8]
["N2-80P",{"$f":"J87*Selection!$D$25/$I$25","v":67.599999999999994},8,540.79999999999995,{"$f":"IFERROR(IF(('Input sheet'!$B$3/D87)<=1,('Input sheet'!$B$3/D87),\"0\"),\"\")","v":3.6982248520710061E-2},{"$f":"K87*Selection!$F$25/$I$25","v":202.8},1622.4,{"$f":"IFERROR((D87-'Input sheet'!$B$3),\"\")","v":520.79999999999995},{"$f":"CONCATENATE(A87,Selection!$G$27)","v":"N2-80P6"},{"$f":"VLOOKUP(I87,'Capacities generators'!D:R,Selection!$G$26+1,FALSE)","v":67.599999999999994},{"$f":"VLOOKUP(I87,'Capacities generators'!T:AH,Selection!$G$26+1,FALSE)","v":202.8},{"$f":"CONCATENATE(Selection!A87,'Part numbers'!$Z$16,'Part numbers'!$Z$24,'Part numbers'!$AM$23)","v":"N2-80PBLN"},{"$f":"IF('Part numbers'!$AM$24=\"N\",CONCATENATE(\"EST\",\" \",Talen!$A$125),CONCATENATE(Selection!A87,'Part numbers'!$Z$16,'Part numbers'!$Z$24,'Part numbers'!$AM$24))","v":"N2-80PBLY"},{"$f":"VLOOKUP('Input sheet'!$F$17,'factors-pull down'!$A$62:$B$80,2)","v":0.1},{"$f":"VLOOKUP(I87,'Capacities generators'!AY:BM,Selection!$G$26+1,FALSE)","v":4.9000000000000004},{"$f":"VLOOKUP(A87,'Buffer vessel'!$A$5:$B$13,2,FALSE)","v":1000},{"$f":"VLOOKUP(A87,'Buffer vessel'!$A$5:$C$13,3,FALSE)","v":"606201456"},8]
["N2-45P",{"$f":"J88*Selection!$D$25/$I$25","v":36.700000000000003},9,330.3,{"$f":"IFERROR(IF(('Input sheet'!$B$3/D88)<=1,('Input sheet'!$B$3/D88),\"0\"),\"\")","v":6.0551014229488345E-2},{"$f":"K88*Selection!$F$25/$I$25","v":102.8},925.19999999999993,{"$f":"IFERROR((D88-'Input sheet'!$B$3),\"\")","v":310.3},{"$f":"CONCATENATE(A88,Selection!$G$27)","v":"N2-45P6"},{"$f":"VLOOKUP(I88,'Capacities generators'!D:R,Selection!$G$26+1,FALSE)","v":36.700000000000003},{"$f":"VLOOKUP(I88,'Capacities generators'!T:AH,Selection!$G$26+1,FALSE)","v":102.8},{"$f":"CONCATENATE(Selection!A88,'Part numbers'!$Z$16,'Part numbers'!$Z$24,'Part numbers'!$AM$23)","v":"N2-45PBLN"},{"$f":"IF('Part numbers'!$AM$24=\"N\",CONCATENATE(\"EST\",\" \",Talen!$A$125),CONCATENATE(Selection!A88,'Part numbers'!$Z$16,'Part numbers'!$Z$24,'Part numbers'!$AM$24))","v":"N2-45PBLY"},{"$f":"VLOOKUP('Input sheet'!$F$17,'factors-pull down'!$A$62:$B$80,2)","v":0.1},{"$f":"VLOOKUP(I88,'Capacities generators'!AY:BM,Selection!$G$26+1,FALSE)","v":4.9000000000000004},{"$f":"VLOOKUP(A88,'Buffer vessel'!$A$5:$B$13,2,FALSE)","v":750},{"$f":"VLOOKUP(A88,'Buffer vessel'!$A$5:$C$13,3,FALSE)","v":"606201452"},9]
["N2-55P",{"$f":"J89*Selection!$D$25/$I$25","v":44.1},9,396.90000000000003,{"$f":"IFERROR(IF(('Input sheet'!$B$3/D89)<=1,('Input sheet'!$B$3/D89),\"0\"),\"\")","v":5.0390526581002765E-2},{"$f":"K89*Selection!$F$25/$I$25","v":123.5},1111.5,{"$f":"IFERROR((D89-'Input sheet'!$B$3),\"\")","v":376.90000000000003},{"$f":"CONCATENATE(A89,Selection!$G$27)","v":"N2-55P6"},{"$f":"VLOOKUP(I89,'Capacities generators'!D:R,Selection!$G$26+1,FALSE)","v":44.1},{"$f":"VLOOKUP(I89,'Capacities generators'!T:AH,Selection!$G$26+1,FALSE)","v":123.5},{"$f":"CONCATENATE(Selection!A89,'Part numbers'!$Z$16,'Part numbers'!$Z$24,'Part numbers'!$AM$23)","v":"N2-55PBLN"},{"$f":"IF('Part numbers'!$AM$24=\"N\",CONCATENATE(\"EST\",\" \",Talen!$A$125),CONCATENATE(Selection!A89,'Part numbers'!$Z$16,'Part numbers'!$Z$24,'Part numbers'!$AM$24))","v":"N2-55PBLY"},{"$f":"VLOOKUP('Input sheet'!$F$17,'factors-pull down'!$A$62:$B$80,2)","v":0.1},{"$f":"VLOOKUP(I89,'Capacities generators'!AY:BM,Selection!$G$26+1,FALSE)","v":4.9000000000000004},{"$f":"VLOOKUP(A89,'Buffer vessel'!$A$5:$B$13,2,FALSE)","v":750},{"$f":"VLOOKUP(A89,'Buffer vessel'!$A$5:$C$13,3,FALSE)","v":"606201452"},9]
["N2-60P",{"$f":"J90*Selection!$D$25/$I$25","v":48.8},9,{"$f":"IFERROR(B90*C90,\"N/A\")","v":439.2},{"$f":"IFERROR(IF(('Input sheet'!$B$3/D90)<=1,('Input sheet'!$B$3/D90),\"0\"),\"\")","v":4.5537340619307837E-2},{"$f":"K90*Selection!$F$25/$I$25","v":141.5},{"$f":"IFERROR(F90*C90,\"N/A\")","v":1273.5},{"$f":"IFERROR((D90-'Input sheet'!$B$3),\"\")","v":419.2},{"$f":"CONCATENATE(A90,Selection!$G$27)","v":"N2-60P6"},{"$f":"VLOOKUP(I90,'Capacities generators'!D:R,Selection!$G$26+1,FALSE)","v":48.8},{"$f":"VLOOKUP(I90,'Capacities generators'!T:AH,Selection!$G$26+1,FALSE)","v":141.5},{"$f":"CONCATENATE(Selection!A90,'Part numbers'!$Z$16,'Part numbers'!$Z$24,'Part numbers'!$AM$23)","v":"N2-60PBLN"},{"$f":"IF('Part numbers'!$AM$24=\"N\",CONCATENATE(\"EST\",\" \",Talen!$A$125),CONCATENATE(Selection!A90,'Part numbers'!$Z$16,'Part numbers'!$Z$24,'Part numbers'!$AM$24))","v":"N2-60PBLY"},{"$f":"VLOOKUP('Input sheet'!$F$17,'factors-pull down'!$A$62:$B$80,2)","v":0.1},{"$f":"VLOOKUP(I90,'Capacities generators'!AY:BM,Selection!$G$26+1,FALSE)","v":4.9000000000000004},{"$f":"VLOOKUP(A90,'Buffer vessel'!$A$5:$B$13,2,FALSE)","v":750},{"$f":"VLOOKUP(A90,'Buffer vessel'!$A$5:$C$13,3,FALSE)","v":"606201452"},9]
["N2-65P",{"$f":"J91*Selection!$D$25/$I$25","v":55.8},9,502.2,{"$f":"IFERROR(IF(('Input sheet'!$B$3/D91)<=1,('Input sheet'!$B$3/D91),\"0\"),\"\")","v":3.9824771007566706E-2},{"$f":"K91*Selection!$F$25/$I$25","v":161.80000000000001},1456.2,{"$f":"IFERROR((D91-'Input sheet'!$B$3),\"\")","v":482.2},{"$f":"CONCATENATE(A91,Selection!$G$27)","v":"N2-65P6"},{"$f":"VLOOKUP(I91,'Capacities generators'!D:R,Selection!$G$26+1,FALSE)","v":55.8},{"$f":"VLOOKUP(I91,'Capacities generators'!T:AH,Selection!$G$26+1,FALSE)","v":161.80000000000001},{"$f":"CONCATENATE(Selection!A91,'Part numbers'!$Z$16,'Part numbers'!$Z$24,'Part numbers'!$AM$23)","v":"N2-65PBLN"},{"$f":"IF('Part numbers'!$AM$24=\"N\",CONCATENATE(\"EST\",\" \",Talen!$A$125),CONCATENATE(Selection!A91,'Part numbers'!$Z$16,'Part numbers'!$Z$24,'Part numbers'!$AM$24))","v":"N2-65PBLY"},{"$f":"VLOOKUP('Input sheet'!$F$17,'factors-pull down'!$A$62:$B$80,2)","v":0.1},{"$f":"VLOOKUP(I91,'Capacities generators'!AY:BM,Selection!$G$26+1,FALSE)","v":4.9000000000000004},{"$f":"VLOOKUP(A91,'Buffer vessel'!$A$5:$B$13,2,FALSE)","v":1000},{"$f":"VLOOKUP(A91,'Buffer vessel'!$A$5:$C$13,3,FALSE)","v":"606201456"},9]
["N2-75P",{"$f":"J92*Selection!$D$25/$I$25","v":60.8},9,547.19999999999993,{"$f":"IFERROR(IF(('Input sheet'!$B$3/D92)<=1,('Input sheet'!$B$3/D92),\"0\"),\"\")","v":3.6549707602339186E-2},{"$f":"K92*Selection!$F$25/$I$25","v":182.4},1641.6000000000001,{"$f":"IFERROR((D92-'Input sheet'!$B$3),\"\")","v":527.19999999999993},{"$f":"CONCATENATE(A92,Selection!$G$27)","v":"N2-75P6"},{"$f":"VLOOKUP(I92,'Capacities generators'!D:R,Selection!$G$26+1,FALSE)","v":60.8},{"$f":"VLOOKUP(I92,'Capacities generators'!T:AH,Selection!$G$26+1,FALSE)","v":182.4},{"$f":"CONCATENATE(Selection!A92,'Part numbers'!$Z$16,'Part numbers'!$Z$24,'Part numbers'!$AM$23)","v":"N2-75PBLN"},{"$f":"IF('Part numbers'!$AM$24=\"N\",CONCATENATE(\"EST\",\" \",Talen!$A$125),CONCATENATE(Selection!A92,'Part numbers'!$Z$16,'Part numbers'!$Z$24,'Part numbers'!$AM$24))","v":"N2-75PBLY"},{"$f":"VLOOKUP('Input sheet'!$F$17,'factors-pull down'!$A$62:$B$80,2)","v":0.1},{"$f":"VLOOKUP(I92,'Capacities generators'!AY:BM,Selection!$G$26+1,FALSE)","v":4.9000000000000004},{"$f":"VLOOKUP(A92,'Buffer vessel'!$A$5:$B$13,2,FALSE)","v":1000},{"$f":"VLOOKUP(A92,'Buffer vessel'!$A$5:$C$13,3,FALSE)","v":"606201456"},9]
["N2-80P",{"$f":"J93*Selection!$D$25/$I$25","v":67.599999999999994},9,608.4,{"$f":"IFERROR(IF(('Input sheet'!$B$3/D93)<=1,('Input sheet'!$B$3/D93),\"0\"),\"\")","v":3.2873109796186718E-2},{"$f":"K93*Selection!$F$25/$I$25","v":202.8},1825.2,{"$f":"IFERROR((D93-'Input sheet'!$B$3),\"\")","v":588.4},{"$f":"CONCATENATE(A93,Selection!$G$27)","v":"N2-80P6"},{"$f":"VLOOKUP(I93,'Capacities generators'!D:R,Selection!$G$26+1,FALSE)","v":67.599999999999994},{"$f":"VLOOKUP(I93,'Capacities generators'!T:AH,Selection!$G$26+1,FALSE)","v":202.8},{"$f":"CONCATENATE(Selection!A93,'Part numbers'!$Z$16,'Part numbers'!$Z$24,'Part numbers'!$AM$23)","v":"N2-80PBLN"},{"$f":"IF('Part numbers'!$AM$24=\"N\",CONCATENATE(\"EST\",\" \",Talen!$A$125),CONCATENATE(Selection!A93,'Part numbers'!$Z$16,'Part numbers'!$Z$24,'Part numbers'!$AM$24))","v":"N2-80PBLY"},{"$f":"VLOOKUP('Input sheet'!$F$17,'factors-pull down'!$A$62:$B$80,2)","v":0.1},{"$f":"VLOOKUP(I93,'Capacities generators'!AY:BM,Selection!$G$26+1,FALSE)","v":4.9000000000000004},{"$f":"VLOOKUP(A93,'Buffer vessel'!$A$5:$B$13,2,FALSE)","v":1000},{"$f":"VLOOKUP(A93,'Buffer vessel'!$A$5:$C$13,3,FALSE)","v":"606201456"},9]
["N2-45P",{"$f":"J94*Selection!$D$25/$I$25","v":36.700000000000003},10,367,{"$f":"IFERROR(IF(('Input sheet'!$B$3/D94)<=1,('Input sheet'!$B$3/D94),\"0\"),\"\")","v":5.4495912806539509E-2},{"$f":"K94*Selection!$F$25/$I$25","v":102.8},1028,{"$f":"IFERROR((D94-'Input sheet'!$B$3),\"\")","v":347},{"$f":"CONCATENATE(A94,Selection!$G$27)","v":"N2-45P6"},{"$f":"VLOOKUP(I94,'Capacities generators'!D:R,Selection!$G$26+1,FALSE)","v":36.700000000000003},{"$f":"VLOOKUP(I94,'Capacities generators'!T:AH,Selection!$G$26+1,FALSE)","v":102.8},{"$f":"CONCATENATE(Selection!A94,'Part numbers'!$Z$16,'Part numbers'!$Z$24,'Part numbers'!$AM$23)","v":"N2-45PBLN"},{"$f":"IF('Part numbers'!$AM$24=\"N\",CONCATENATE(\"EST\",\" \",Talen!$A$125),CONCATENATE(Selection!A94,'Part numbers'!$Z$16,'Part numbers'!$Z$24,'Part numbers'!$AM$24))","v":"N2-45PBLY"},{"$f":"VLOOKUP('Input sheet'!$F$17,'factors-pull down'!$A$62:$B$80,2)","v":0.1},{"$f":"VLOOKUP(I94,'Capacities generators'!AY:BM,Selection!$G$26+1,FALSE)","v":4.9000000000000004},{"$f":"VLOOKUP(A94,'Buffer vessel'!$A$5:$B$13,2,FALSE)","v":750},{"$f":"VLOOKUP(A94,'Buffer vessel'!$A$5:$C$13,3,FALSE)","v":"606201452"},10]
["N2-55P",{"$f":"J95*Selection!$D$25/$I$25","v":44.1},10,441,{"$f":"IFERROR(IF(('Input sheet'!$B$3/D95)<=1,('Input sheet'!$B$3/D95),\"0\"),\"\")","v":4.5351473922902494E-2},{"$f":"K95*Selection!$F$25/$I$25","v":123.5},1235,{"$f":"IFERROR((D95-'Input sheet'!$B$3),\"\")","v":421},{"$f":"CONCATENATE(A95,Selection!$G$27)","v":"N2-55P6"},{"$f":"VLOOKUP(I95,'Capacities generators'!D:R,Selection!$G$26+1,FALSE)","v":44.1},{"$f":"VLOOKUP(I95,'Capacities generators'!T:AH,Selection!$G$26+1,FALSE)","v":123.5},{"$f":"CONCATENATE(Selection!A95,'Part numbers'!$Z$16,'Part numbers'!$Z$24,'Part numbers'!$AM$23)","v":"N2-55PBLN"},{"$f":"IF('Part numbers'!$AM$24=\"N\",CONCATENATE(\"EST\",\" \",Talen!$A$125),CONCATENATE(Selection!A95,'Part numbers'!$Z$16,'Part numbers'!$Z$24,'Part numbers'!$AM$24))","v":"N2-55PBLY"},{"$f":"VLOOKUP('Input sheet'!$F$17,'factors-pull down'!$A$62:$B$80,2)","v":0.1},{"$f":"VLOOKUP(I95,'Capacities generators'!AY:BM,Selection!$G$26+1,FALSE)","v":4.9000000000000004},{"$f":"VLOOKUP(A95,'Buffer vessel'!$A$5:$B$13,2,FALSE)","v":750},{"$f":"VLOOKUP(A95,'Buffer vessel'!$A$5:$C$13,3,FALSE)","v":"606201452"},10]
["N2-60P",{"$f":"J96*Selection!$D$25/$I$25","v":48.8},10,{"$f":"IFERROR(B96*C96,\"N/A\")","v":488},{"$f":"IFERROR(IF(('Input sheet'!$B$3/D96)<=1,('Input sheet'!$B$3/D96),\"0\"),\"\")","v":4.0983606557377046E-2},{"$f":"K96*Selection!$F$25/$I$25","v":141.5},{"$f":"IFERROR(F96*C96,\"N/A\")","v":1415},{"$f":"IFERROR((D96-'Input sheet'!$B$3),\"\")","v":468},{"$f":"CONCATENATE(A96,Selection!$G$27)","v":"N2-60P6"},{"$f":"VLOOKUP(I96,'Capacities generators'!D:R,Selection!$G$26+1,FALSE)","v":48.8},{"$f":"VLOOKUP(I96,'Capacities generators'!T:AH,Selection!$G$26+1,FALSE)","v":141.5},{"$f":"CONCATENATE(Selection!A96,'Part numbers'!$Z$16,'Part numbers'!$Z$24,'Part numbers'!$AM$23)","v":"N2-60PBLN"},{"$f":"IF('Part numbers'!$AM$24=\"N\",CONCATENATE(\"EST\",\" \",Talen!$A$125),CONCATENATE(Selection!A96,'Part numbers'!$Z$16,'Part numbers'!$Z$24,'Part numbers'!$AM$24))","v":"N2-60PBLY"},{"$f":"VLOOKUP('Input sheet'!$F$17,'factors-pull down'!$A$62:$B$80,2)","v":0.1},{"$f":"VLOOKUP(I96,'Capacities generators'!AY:BM,Selection!$G$26+1,FALSE)","v":4.9000000000000004},{"$f":"VLOOKUP(A96,'Buffer vessel'!$A$5:$B$13,2,FALSE)","v":750},{"$f":"VLOOKUP(A96,'Buffer vessel'!$A$5:$C$13,3,FALSE)","v":"606201452"},10]
["N2-65P",{"$f":"J97*Selection!$D$25/$I$25","v":55.8},10,558,{"$f":"IFERROR(IF(('Input sheet'!$B$3/D97)<=1,('Input sheet'!$B$3/D97),\"0\"),\"\")","v":3.5842293906810034E-2},{"$f":"K97*Selection!$F$25/$I$25","v":161.80000000000001},1618,{"$f":"IFERROR((D97-'Input sheet'!$B$3),\"\")","v":538},{"$f":"CONCATENATE(A97,Selection!$G$27)","v":"N2-65P6"},{"$f":"VLOOKUP(I97,'Capacities generators'!D:R,Selection!$G$26+1,FALSE)","v":55.8},{"$f":"VLOOKUP(I97,'Capacities generators'!T:AH,Selection!$G$26+1,FALSE)","v":161.80000000000001},{"$f":"CONCATENATE(Selection!A97,'Part numbers'!$Z$16,'Part numbers'!$Z$24,'Part numbers'!$AM$23)","v":"N2-65PBLN"},{"$f":"IF('Part numbers'!$AM$24=\"N\",CONCATENATE(\"EST\",\" \",Talen!$A$125),CONCATENATE(Selection!A97,'Part numbers'!$Z$16,'Part numbers'!$Z$24,'Part numbers'!$AM$24))","v":"N2-65PBLY"},{"$f":"VLOOKUP('Input sheet'!$F$17,'factors-pull down'!$A$62:$B$80,2)","v":0.1},{"$f":"VLOOKUP(I97,'Capacities generators'!AY:BM,Selection!$G$26+1,FALSE)","v":4.9000000000000004},{"$f":"VLOOKUP(A97,'Buffer vessel'!$A$5:$B$13,2,FALSE)","v":1000},{"$f":"VLOOKUP(A97,'Buffer vessel'!$A$5:$C$13,3,FALSE)","v":"606201456"},10]
["N2-75P",{"$f":"J98*Selection!$D$25/$I$25","v":60.8},10,608,{"$f":"IFERROR(IF(('Input sheet'!$B$3/D98)<=1,('Input sheet'!$B$3/D98),\"0\"),\"\")","v":3.2894736842105261E-2},{"$f":"K98*Selection!$F$25/$I$25","v":182.4},1824,{"$f":"IFERROR((D98-'Input sheet'!$B$3),\"\")","v":588},{"$f":"CONCATENATE(A98,Selection!$G$27)","v":"N2-75P6"},{"$f":"VLOOKUP(I98,'Capacities generators'!D:R,Selection!$G$26+1,FALSE)","v":60.8},{"$f":"VLOOKUP(I98,'Capacities generators'!T:AH,Selection!$G$26+1,FALSE)","v":182.4},{"$f":"CONCATENATE(Selection!A98,'Part numbers'!$Z$16,'Part numbers'!$Z$24,'Part numbers'!$AM$23)","v":"N2-75PBLN"},{"$f":"IF('Part numbers'!$AM$24=\"N\",CONCATENATE(\"EST\",\" \",Talen!$A$125),CONCATENATE(Selection!A98,'Part numbers'!$Z$16,'Part numbers'!$Z$24,'Part numbers'!$AM$24))","v":"N2-75PBLY"},{"$f":"VLOOKUP('Input sheet'!$F$17,'factors-pull down'!$A$62:$B$80,2)","v":0.1},{"$f":"VLOOKUP(I98,'Capacities generators'!AY:BM,Selection!$G$26+1,FALSE)","v":4.9000000000000004},{"$f":"VLOOKUP(A98,'Buffer vessel'!$A$5:$B$13,2,FALSE)","v":1000},{"$f":"VLOOKUP(A98,'Buffer vessel'!$A$5:$C$13,3,FALSE)","v":"606201456"},{"$f":"IFERROR((IF(C98*ROUNDUP(E98,0)=0,\"\",C98*ROUNDUP(E98,0))),\"N/A\")","v":10}]
["N2-80P",{"$f":"J99*Selection!$D$25/$I$25","v":67.599999999999994},10,676,{"$f":"IFERROR(IF(('Input sheet'!$B$3/D99)<=1,('Input sheet'!$B$3/D99),\"0\"),\"\")","v":2.9585798816568046E-2},{"$f":"K99*Selection!$F$25/$I$25","v":202.8},2028,{"$f":"IFERROR((D99-'Input sheet'!$B$3),\"\")","v":656},{"$f":"CONCATENATE(A99,Selection!$G$27)","v":"N2-80P6"},{"$f":"VLOOKUP(I99,'Capacities generators'!D:R,Selection!$G$26+1,FALSE)","v":67.599999999999994},{"$f":"VLOOKUP(I99,'Capacities generators'!T:AH,Selection!$G$26+1,FALSE)","v":202.8},{"$f":"CONCATENATE(Selection!A99,'Part numbers'!$Z$16,'Part numbers'!$Z$24,'Part numbers'!$AM$23)","v":"N2-80PBLN"},{"$f":"IF('Part numbers'!$AM$24=\"N\",CONCATENATE(\"EST\",\" \",Talen!$A$125),CONCATENATE(Selection!A99,'Part numbers'!$Z$16,'Part numbers'!$Z$24,'Part numbers'!$AM$24))","v":"N2-80PBLY"},{"$f":"VLOOKUP('Input sheet'!$F$17,'factors-pull down'!$A$62:$B$80,2)","v":0.1},{"$f":"VLOOKUP(I99,'Capacities generators'!AY:BM,Selection!$G$26+1,FALSE)","v":4.9000000000000004},{"$f":"VLOOKUP(A99,'Buffer vessel'!$A$5:$B$13,2,FALSE)","v":1000},{"$f":"VLOOKUP(A99,'Buffer vessel'!$A$5:$C$13,3,FALSE)","v":"606201456"},10]
["Nitroflow HP1",{"$f":"J100*Selection!$D$26/$I$25","v":1.4},1,1.4,{"$f":"IFERROR(IF(('Input sheet'!$B$3/D100)<=1,('Input sheet'!$B$3/D100),\"0\"),\"\")","v":"0"},{"$f":"K100*Selection!$F$26/$I$25","v":11.9},11.9,{"$f":"IFERROR((D100-'Input sheet'!$B$3),\"\")","v":-18.600000000000001},{"$f":"CONCATENATE(A100,Selection!$G$27)","v":"Nitroflow HP16"},{"$f":"VLOOKUP(I100,'Capacities generators'!D:R,Selection!$G$26+1,FALSE)","v":1.4},{"$f":"VLOOKUP(I100,'Capacities generators'!T:AH,Selection!$G$26+1,FALSE)","v":11.9},{"$f":"'Part numbers'!B185","v":"159.004032"},null,"N/A",{"$f":"VLOOKUP(I100,'Capacities generators'!AY:BM,Selection!$G$26+1,FALSE)","v":0},"N/A",null,{"$f":"IFERROR(IF(C100*ROUNDUP(E100,0)=0,\"\",C100*ROUNDUP(E100,0)),\"N/A\")","v":""}]
["Nitroflow HP2",{"$f":"J101*Selection!$D$26/$I$25","v":2.7},1,2.7,{"$f":"IFERROR(IF(('Input sheet'!$B$3/D101)<=1,('Input sheet'!$B$3/D101),\"0\"),\"\")","v":"0"},{"$f":"K101*Selection!$F$26/$I$25","v":23},23,{"$f":"IFERROR((D101-'Input sheet'!$B$3),\"\")","v":-17.3},{"$f":"CONCATENATE(A101,Selection!$G$27)","v":"Nitroflow HP26"},{"$f":"VLOOKUP(I101,'Capacities generators'!D:R,Selection!$G$26+1,FALSE)","v":2.7},{"$f":"VLOOKUP(I101,'Capacities generators'!T:AH,Selection!$G$26+1,FALSE)","v":23},{"$f":"'Part numbers'!B186","v":"159.004033"},null,"N/A",{"$f":"VLOOKUP(I101,'Capacities generators'!AY:BM,Selection!$G$26+1,FALSE)","v":0},"N/A",null,{"$f":"IFERROR(IF(C101*ROUNDUP(E101,0)=0,\"\",C101*ROUNDUP(E101,0)),\"N/A\")","v":""}]
["Nitroflow HP3",{"$f":"J102*Selection!$D$26/$I$25","v":4.0999999999999996},1,4.0999999999999996,{"$f":"IFERROR(IF(('Input sheet'!$B$3/D102)<=1,('Input sheet'!$B$3/D102),\"0\"),\"\")","v":"0"},{"$f":"K102*Selection!$F$26/$I$25","v":34.9},34.9,{"$f":"IFERROR((D102-'Input sheet'!$B$3),\"\")","v":-15.9},{"$f":"CONCATENATE(A102,Selection!$G$27)","v":"Nitroflow HP36"},{"$f":"VLOOKUP(I102,'Capacities generators'!D:R,Selection!$G$26+1,FALSE)","v":4.0999999999999996},{"$f":"VLOOKUP(I102,'Capacities generators'!T:AH,Selection!$G$26+1,FALSE)","v":34.9},{"$f":"'Part numbers'!B187","v":"159.004034"},null,"N/A",{"$f":"VLOOKUP(I102,'Capacities generators'!AY:BM,Selection!$G$26+1,FALSE)","v":0},"N/A",null,""]
["Nitrosource Main",{"$f":"J103*Selection!$D$27/$I$25","v":4.5999999999999996},1,4.5999999999999996,{"$f":"IFERROR(IF(('Input sheet'!$B$3/D103)<=1,('Input sheet'!$B$3/D103),\"0\"),\"\")","v":"0"},{"$f":"K103*Selection!$F$27/$I$25","v":39.1},39.1,{"$f":"IFERROR((D103-'Input sheet'!$B$3),\"\")","v":-15.4},{"$f":"CONCATENATE(A103,Selection!$G$27)","v":"Nitrosource Main6"},{"$f":"VLOOKUP(I103,'Capacities generators'!D:R,Selection!$G$26+1,FALSE)","v":4.5999999999999996},{"$f":"VLOOKUP(I103,'Capacities generators'!T:AH,Selection!$G$26+1,FALSE)","v":39.1},{"$f":"'Part numbers'!B181","v":"159.003552"},null,"N/A",{"$f":"VLOOKUP(I103,'Capacities generators'!AY:BM,Selection!$G$26+1,FALSE)","v":0},"N/A",null,""]
["Nitrosource Main + 1 Sub",{"$f":"J104*Selection!$D$27/$I$25","v":9.1},1,9.1,{"$f":"IFERROR(IF(('Input sheet'!$B$3/D104)<=1,('Input sheet'!$B$3/D104),\"0\"),\"\")","v":"0"},{"$f":"K104*Selection!$F$27/$I$25","v":77.400000000000006},77.400000000000006,{"$f":"IFERROR((D104-'Input sheet'!$B$3),\"\")","v":-10.9},{"$f":"CONCATENATE(A104,Selection!$G$27)","v":"Nitrosource Main + 1 Sub6"},{"$f":"VLOOKUP(I104,'Capacities generators'!D:R,Selection!$G$26+1,FALSE)","v":9.1},{"$f":"VLOOKUP(I104,'Capacities generators'!T:AH,Selection!$G$26+1,FALSE)","v":77.400000000000006},{"$f":"CONCATENATE(\"1 x \",'Part numbers'!$B$181,\" and 1 x \",'Part numbers'!$B$182)","v":"1 x 159.003552 and 1 x 159.003553"},null,"N/A",{"$f":"VLOOKUP(I104,'Capacities generators'!AY:BM,Selection!$G$26+1,FALSE)","v":0},"N/A",null,""]
["Nitrosource Main + 2 Subs",{"$f":"J105*Selection!$D$27/$I$25","v":13.7},1,13.7,{"$f":"IFERROR(IF(('Input sheet'!$B$3/D105)<=1,('Input sheet'!$B$3/D105),\"0\"),\"\")","v":"0"},{"$f":"K105*Selection!$F$27/$I$25","v":116.5},116.5,{"$f":"IFERROR((D105-'Input sheet'!$B$3),\"\")","v":-6.3000000000000007},{"$f":"CONCATENATE(A105,Selection!$G$27)","v":"Nitrosource Main + 2 Subs6"},{"$f":"VLOOKUP(I105,'Capacities generators'!D:R,Selection!$G$26+1,FALSE)","v":13.7},{"$f":"VLOOKUP(I105,'Capacities generators'!T:AH,Selection!$G$26+1,FALSE)","v":116.5},{"$f":"CONCATENATE(\"1 x \",'Part numbers'!$B$181,\" and 2 x \",'Part numbers'!$B$182)","v":"1 x 159.003552 and 2 x 159.003553"},null,"N/A",{"$f":"VLOOKUP(I105,'Capacities generators'!AY:BM,Selection!$G$26+1,FALSE)","v":0},"N/A",null,""]
["Nitrosource Main + 3 Subs",{"$f":"J106*Selection!$D$27/$I$25","v":18.2},1,18.2,{"$f":"IFERROR(IF(('Input sheet'!$B$3/D106)<=1,('Input sheet'!$B$3/D106),\"0\"),\"\")","v":"0"},{"$f":"K106*Selection!$F$27/$I$25","v":154.69999999999999},154.69999999999999,{"$f":"IFERROR((D106-'Input sheet'!$B$3),\"\")","v":-1.8000000000000007},{"$f":"CONCATENATE(A106,Selection!$G$27)","v":"Nitrosource Main + 3 Subs6"},{"$f":"VLOOKUP(I106,'Capacities generators'!D:R,Selection!$G$26+1,FALSE)","v":18.2},{"$f":"VLOOKUP(I106,'Capacities generators'!T:AH,Selection!$G$26+1,FALSE)","v":154.69999999999999},{"$f":"CONCATENATE(\"1 x \",'Part numbers'!$B$181,\" and 3 x \",'Part numbers'!$B$182)","v":"1 x 159.003552 and 3 x 159.003553"},null,"N/A",{"$f":"VLOOKUP(I106,'Capacities generators'!AY:BM,Selection!$G$26+1,FALSE)","v":0},"N/A",null,""]
["Nitrosource Main + 4 Subs",{"$f":"J107*Selection!$D$27/$I$25","v":22.8},1,22.8,{"$f":"IFERROR(IF(('Input sheet'!$B$3/D107)<=1,('Input sheet'!$B$3/D107),\"0\"),\"\")","v":0.8771929824561403},{"$f":"K107*Selection!$F$27/$I$25","v":193.8},193.8,{"$f":"IFERROR((D107-'Input sheet'!$B$3),\"\")","v":2.8000000000000007},{"$f":"CONCATENATE(A107,Selection!$G$27)","v":"Nitrosource Main + 4 Subs6"},{"$f":"VLOOKUP(I107,'Capacities generators'!D:R,Selection!$G$26+1,FALSE)","v":22.8},{"$f":"VLOOKUP(I107,'Capacities generators'!T:AH,Selection!$G$26+1,FALSE)","v":193.8},{"$f":"CONCATENATE(\"1 x \",'Part numbers'!$B$181,\" and 4 x \",'Part numbers'!$B$182)","v":"1 x 159.003552 and 4 x 159.003553"},null,"N/A",{"$f":"VLOOKUP(I107,'Capacities generators'!AY:BM,Selection!$G$26+1,FALSE)","v":0},"N/A",null,1]
["Nitrosource Main + 5 Subs",{"$f":"J108*Selection!$D$27/$I$25","v":27.4},1,27.4,{"$f":"IFERROR(IF(('Input sheet'!$B$3/D108)<=1,('Input sheet'!$B$3/D108),\"0\"),\"\")","v":0.72992700729927007},{"$f":"K108*Selection!$F$27/$I$25","v":232.9},232.9,{"$f":"IFERROR((D108-'Input sheet'!$B$3),\"\")","v":7.3999999999999986},{"$f":"CONCATENATE(A108,Selection!$G$27)","v":"Nitrosource Main + 5 Subs6"},{"$f":"VLOOKUP(I108,'Capacities generators'!D:R,Selection!$G$26+1,FALSE)","v":27.4},{"$f":"VLOOKUP(I108,'Capacities generators'!T:AH,Selection!$G$26+1,FALSE)","v":232.9},{"$f":"CONCATENATE(\"1 x \",'Part numbers'!$B$181,\" and 5 x \",'Part numbers'!$B$182)","v":"1 x 159.003552 and 5 x 159.003553"},null,"N/A",{"$f":"VLOOKUP(I108,'Capacities generators'!AY:BM,Selection!$G$26+1,FALSE)","v":0},"N/A",null,1]
["Nitrosource Main + 3 Subs",{"$f":"J109*Selection!$D$27/$I$25","v":18.2},2,36.4,{"$f":"IFERROR(IF(('Input sheet'!$B$3/D109)<=1,('Input sheet'!$B$3/D109),\"0\"),\"\")","v":0.5494505494505495},{"$f":"K109*Selection!$F$27/$I$25","v":154.69999999999999},309.39999999999998,{"$f":"IFERROR((D109-'Input sheet'!$B$3),\"\")","v":16.399999999999999},{"$f":"CONCATENATE(A109,Selection!$G$27)","v":"Nitrosource Main + 3 Subs6"},{"$f":"VLOOKUP(I109,'Capacities generators'!D:R,Selection!$G$26+1,FALSE)","v":18.2},{"$f":"VLOOKUP(I109,'Capacities generators'!T:AH,Selection!$G$26+1,FALSE)","v":154.69999999999999},{"$f":"CONCATENATE(\"1 x \",'Part numbers'!$B$181,\" and 3 x \",'Part numbers'!$B$182)","v":"1 x 159.003552 and 3 x 159.003553"},null,"N/A",{"$f":"VLOOKUP(I109,'Capacities generators'!AY:BM,Selection!$G$26+1,FALSE)","v":0},"N/A",null,2]
["Nitrosource Main + 4 Subs",{"$f":"J110*Selection!$D$27/$I$25","v":22.8},2,45.6,{"$f":"IFERROR(IF(('Input sheet'!$B$3/D110)<=1,('Input sheet'!$B$3/D110),\"0\"),\"\")","v":0.43859649122807015},{"$f":"K110*Selection!$F$27/$I$25","v":193.8},387.6,{"$f":"IFERROR((D110-'Input sheet'!$B$3),\"\")","v":25.6},{"$f":"CONCATENATE(A110,Selection!$G$27)","v":"Nitrosource Main + 4 Subs6"},{"$f":"VLOOKUP(I110,'Capacities generators'!D:R,Selection!$G$26+1,FALSE)","v":22.8},{"$f":"VLOOKUP(I110,'Capacities generators'!T:AH,Selection!$G$26+1,FALSE)","v":193.8},{"$f":"CONCATENATE(\"1 x \",'Part numbers'!$B$181,\" and 4 x \",'Part numbers'!$B$182)","v":"1 x 159.003552 and 4 x 159.003553"},null,"N/A",{"$f":"VLOOKUP(I110,'Capacities generators'!AY:BM,Selection!$G$26+1,FALSE)","v":0},"N/A",null,2]
["Nitrosource Main + 5 Subs",{"$f":"J111*Selection!$D$27/$I$25","v":27.4},2,54.8,{"$f":"IFERROR(IF(('Input sheet'!$B$3/D111)<=1,('Input sheet'!$B$3/D111),\"0\"),\"\")","v":0.36496350364963503},{"$f":"K111*Selection!$F$27/$I$25","v":232.9},465.8,{"$f":"IFERROR((D111-'Input sheet'!$B$3),\"\")","v":34.799999999999997},{"$f":"CONCATENATE(A111,Selection!$G$27)","v":"Nitrosource Main + 5 Subs6"},{"$f":"VLOOKUP(I111,'Capacities generators'!D:R,Selection!$G$26+1,FALSE)","v":27.4},{"$f":"VLOOKUP(I111,'Capacities generators'!T:AH,Selection!$G$26+1,FALSE)","v":232.9},{"$f":"CONCATENATE(\"1 x \",'Part numbers'!$B$181,\" and 5 x \",'Part numbers'!$B$182)","v":"1 x 159.003552 and 5 x 159.003553"},null,"N/A",{"$f":"VLOOKUP(I111,'Capacities generators'!AY:BM,Selection!$G$26+1,FALSE)","v":0},"N/A",null,2]
["Nitrosource Main + 3 Subs",{"$f":"J112*Selection!$D$27/$I$25","v":18.2},3,{"$f":"IFERROR(B112*C112,\"N/A\")","v":54.599999999999994},{"$f":"IFERROR(IF(('Input sheet'!$B$3/D112)<=1,('Input sheet'!$B$3/D112),\"0\"),\"\")","v":0.36630036630036633},{"$f":"K112*Selection!$F$27/$I$25","v":154.69999999999999},{"$f":"IFERROR(F112*C112,\"N/A\")","v":464.09999999999997},{"$f":"IFERROR((D112-'Input sheet'!$B$3),\"\")","v":34.599999999999994},{"$f":"CONCATENATE(A112,Selection!$G$27)","v":"Nitrosource Main + 3 Subs6"},{"$f":"VLOOKUP(I112,'Capacities generators'!D:R,Selection!$G$26+1,FALSE)","v":18.2},{"$f":"VLOOKUP(I112,'Capacities generators'!T:AH,Selection!$G$26+1,FALSE)","v":154.69999999999999},{"$f":"CONCATENATE(\"1 x \",'Part numbers'!$B$181,\" and 3 x \",'Part numbers'!$B$182)","v":"1 x 159.003552 and 3 x 159.003553"},null,"N/A",{"$f":"VLOOKUP(I112,'Capacities generators'!AY:BM,Selection!$G$26+1,FALSE)","v":0},"N/A",null,3]
["Nitrosource Main + 4 Subs",{"$f":"J113*Selection!$D$27/$I$25","v":22.8},3,68.400000000000006,{"$f":"IFERROR(IF(('Input sheet'!$B$3/D113)<=1,('Input sheet'!$B$3/D113),\"0\"),\"\")","v":0.29239766081871343},{"$f":"K113*Selection!$F$27/$I$25","v":193.8},581.40000000000009,{"$f":"IFERROR((D113-'Input sheet'!$B$3),\"\")","v":48.400000000000006},{"$f":"CONCATENATE(A113,Selection!$G$27)","v":"Nitrosource Main + 4 Subs6"},{"$f":"VLOOKUP(I113,'Capacities generators'!D:R,Selection!$G$26+1,FALSE)","v":22.8},{"$f":"VLOOKUP(I113,'Capacities generators'!T:AH,Selection!$G$26+1,FALSE)","v":193.8},{"$f":"CONCATENATE(\"1 x \",'Part numbers'!$B$181,\" and 4 x \",'Part numbers'!$B$182)","v":"1 x 159.003552 and 4 x 159.003553"},null,"N/A",{"$f":"VLOOKUP(I113,'Capacities generators'!AY:BM,Selection!$G$26+1,FALSE)","v":0},"N/A",null,3]
["Nitrosource Main + 5 Subs",{"$f":"J114*Selection!$D$27/$I$25","v":27.4},3,82.199999999999989,{"$f":"IFERROR(IF(('Input sheet'!$B$3/D114)<=1,('Input sheet'!$B$3/D114),\"0\"),\"\")","v":0.24330900243309006},{"$f":"K114*Selection!$F$27/$I$25","v":232.9},698.7,{"$f":"IFERROR((D114-'Input sheet'!$B$3),\"\")","v":62.199999999999989},{"$f":"CONCATENATE(A114,Selection!$G$27)","v":"Nitrosource Main + 5 Subs6"},{"$f":"VLOOKUP(I114,'Capacities generators'!D:R,Selection!$G$26+1,FALSE)","v":27.4},{"$f":"VLOOKUP(I114,'Capacities generators'!T:AH,Selection!$G$26+1,FALSE)","v":232.9},{"$f":"CONCATENATE(\"1 x \",'Part numbers'!$B$181,\" and 5 x \",'Part numbers'!$B$182)","v":"1 x 159.003552 and 5 x 159.003553"},null,"N/A",{"$f":"VLOOKUP(I114,'Capacities generators'!AY:BM,Selection!$G$26+1,FALSE)","v":0},"N/A",null,3]
["Nitrosource Main + 3 Subs",{"$f":"J115*Selection!$D$27/$I$25","v":18.2},4,72.8,{"$f":"IFERROR(IF(('Input sheet'!$B$3/D115)<=1,('Input sheet'!$B$3/D115),\"0\"),\"\")","v":0.27472527472527475},{"$f":"K115*Selection!$F$27/$I$25","v":154.69999999999999},618.79999999999995,{"$f":"IFERROR((D115-'Input sheet'!$B$3),\"\")","v":52.8},{"$f":"CONCATENATE(A115,Selection!$G$27)","v":"Nitrosource Main + 3 Subs6"},{"$f":"VLOOKUP(I115,'Capacities generators'!D:R,Selection!$G$26+1,FALSE)","v":18.2},{"$f":"VLOOKUP(I115,'Capacities generators'!T:AH,Selection!$G$26+1,FALSE)","v":154.69999999999999},{"$f":"CONCATENATE(\"1 x \",'Part numbers'!$B$181,\" and 3 x \",'Part numbers'!$B$182)","v":"1 x 159.003552 and 3 x 159.003553"},null,"N/A",{"$f":"VLOOKUP(I115,'Capacities generators'!AY:BM,Selection!$G$26+1,FALSE)","v":0},"N/A",null,4]
["Nitrosource Main + 4 Subs",{"$f":"J116*Selection!$D$27/$I$25","v":22.8},4,91.2,{"$f":"IFERROR(IF(('Input sheet'!$B$3/D116)<=1,('Input sheet'!$B$3/D116),\"0\"),\"\")","v":0.21929824561403508},{"$f":"K116*Selection!$F$27/$I$25","v":193.8},775.2,{"$f":"IFERROR((D116-'Input sheet'!$B$3),\"\")","v":71.2},{"$f":"CONCATENATE(A116,Selection!$G$27)","v":"Nitrosource Main + 4 Subs6"},{"$f":"VLOOKUP(I116,'Capacities generators'!D:R,Selection!$G$26+1,FALSE)","v":22.8},{"$f":"VLOOKUP(I116,'Capacities generators'!T:AH,Selection!$G$26+1,FALSE)","v":193.8},{"$f":"CONCATENATE(\"1 x \",'Part numbers'!$B$181,\" and 4 x \",'Part numbers'!$B$182)","v":"1 x 159.003552 and 4 x 159.003553"},null,"N/A",{"$f":"VLOOKUP(I116,'Capacities generators'!AY:BM,Selection!$G$26+1,FALSE)","v":0},"N/A",null,4]
["Nitrosource Main + 5 Subs",{"$f":"J117*Selection!$D$27/$I$25","v":27.4},4,109.6,{"$f":"IFERROR(IF(('Input sheet'!$B$3/D117)<=1,('Input sheet'!$B$3/D117),\"0\"),\"\")","v":0.18248175182481752},{"$f":"K117*Selection!$F$27/$I$25","v":232.9},931.6,{"$f":"IFERROR((D117-'Input sheet'!$B$3),\"\")","v":89.6},{"$f":"CONCATENATE(A117,Selection!$G$27)","v":"Nitrosource Main + 5 Subs6"},{"$f":"VLOOKUP(I117,'Capacities generators'!D:R,Selection!$G$26+1,FALSE)","v":27.4},{"$f":"VLOOKUP(I117,'Capacities generators'!T:AH,Selection!$G$26+1,FALSE)","v":232.9},{"$f":"CONCATENATE(\"1 x \",'Part numbers'!$B$181,\" and 5 x \",'Part numbers'!$B$182)","v":"1 x 159.003552 and 5 x 159.003553"},null,"N/A",{"$f":"VLOOKUP(I117,'Capacities generators'!AY:BM,Selection!$G$26+1,FALSE)","v":0},"N/A",null,4]
["Nitrosource Main + 3 Subs",{"$f":"J118*Selection!$D$27/$I$25","v":18.2},5,91,{"$f":"IFERROR(IF(('Input sheet'!$B$3/D118)<=1,('Input sheet'!$B$3/D118),\"0\"),\"\")","v":0.21978021978021978},{"$f":"K118*Selection!$F$27/$I$25","v":154.69999999999999},773.5,{"$f":"IFERROR((D118-'Input sheet'!$B$3),\"\")","v":71},{"$f":"CONCATENATE(A118,Selection!$G$27)","v":"Nitrosource Main + 3 Subs6"},{"$f":"VLOOKUP(I118,'Capacities generators'!D:R,Selection!$G$26+1,FALSE)","v":18.2},{"$f":"VLOOKUP(I118,'Capacities generators'!T:AH,Selection!$G$26+1,FALSE)","v":154.69999999999999},{"$f":"CONCATENATE(\"1 x \",'Part numbers'!$B$181,\" and 3 x \",'Part numbers'!$B$182)","v":"1 x 159.003552 and 3 x 159.003553"},null,"N/A",{"$f":"VLOOKUP(I118,'Capacities generators'!AY:BM,Selection!$G$26+1,FALSE)","v":0},"N/A",null,5]
["Nitrosource Main + 4 Subs",{"$f":"J119*Selection!$D$27/$I$25","v":22.8},5,114,{"$f":"IFERROR(IF(('Input sheet'!$B$3/D119)<=1,('Input sheet'!$B$3/D119),\"0\"),\"\")","v":0.17543859649122806},{"$f":"K119*Selection!$F$27/$I$25","v":193.8},969,{"$f":"IFERROR((D119-'Input sheet'!$B$3),\"\")","v":94},{"$f":"CONCATENATE(A119,Selection!$G$27)","v":"Nitrosource Main + 4 Subs6"},{"$f":"VLOOKUP(I119,'Capacities generators'!D:R,Selection!$G$26+1,FALSE)","v":22.8},{"$f":"VLOOKUP(I119,'Capacities generators'!T:AH,Selection!$G$26+1,FALSE)","v":193.8},{"$f":"CONCATENATE(\"1 x \",'Part numbers'!$B$181,\" and 4 x \",'Part numbers'!$B$182)","v":"1 x 159.003552 and 4 x 159.003553"},null,"N/A",{"$f":"VLOOKUP(I119,'Capacities generators'!AY:BM,Selection!$G$26+1,FALSE)","v":0},"N/A",null,5]
["Nitrosource Main + 5 Subs",{"$f":"J120*Selection!$D$27/$I$25","v":27.4},5,137,{"$f":"IFERROR(IF(('Input sheet'!$B$3/D120)<=1,('Input sheet'!$B$3/D120),\"0\"),\"\")","v":0.145985401459854},{"$f":"K120*Selection!$F$27/$I$25","v":232.9},1164.5,{"$f":"IFERROR((D120-'Input sheet'!$B$3),\"\")","v":117},{"$f":"CONCATENATE(A120,Selection!$G$27)","v":"Nitrosource Main + 5 Subs6"},{"$f":"VLOOKUP(I120,'Capacities generators'!D:R,Selection!$G$26+1,FALSE)","v":27.4},{"$f":"VLOOKUP(I120,'Capacities generators'!T:AH,Selection!$G$26+1,FALSE)","v":232.9},{"$f":"CONCATENATE(\"1 x \",'Part numbers'!$B$181,\" and 5 x \",'Part numbers'!$B$182)","v":"1 x 159.003552 and 5 x 159.003553"},null,"N/A",{"$f":"VLOOKUP(I120,'Capacities generators'!AY:BM,Selection!$G$26+1,FALSE)","v":0},"N/A",null,5]
["Nitrosource Main + 3 Subs",{"$f":"J121*Selection!$D$27/$I$25","v":18.2},6,{"$f":"IFERROR(B121*C121,\"N/A\")","v":109.19999999999999},{"$f":"IFERROR(IF(('Input sheet'!$B$3/D121)<=1,('Input sheet'!$B$3/D121),\"0\"),\"\")","v":0.18315018315018317},{"$f":"K121*Selection!$F$27/$I$25","v":154.69999999999999},{"$f":"IFERROR(F121*C121,\"N/A\")","v":928.19999999999993},{"$f":"IFERROR((D121-'Input sheet'!$B$3),\"\")","v":89.199999999999989},{"$f":"CONCATENATE(A121,Selection!$G$27)","v":"Nitrosource Main + 3 Subs6"},{"$f":"VLOOKUP(I121,'Capacities generators'!D:R,Selection!$G$26+1,FALSE)","v":18.2},{"$f":"VLOOKUP(I121,'Capacities generators'!T:AH,Selection!$G$26+1,FALSE)","v":154.69999999999999},{"$f":"CONCATENATE(\"1 x \",'Part numbers'!$B$181,\" and 3 x \",'Part numbers'!$B$182)","v":"1 x 159.003552 and 3 x 159.003553"},null,"N/A",{"$f":"VLOOKUP(I121,'Capacities generators'!AY:BM,Selection!$G$26+1,FALSE)","v":0},"N/A",null,6]
["Nitrosource Main + 4 Subs",{"$f":"J122*Selection!$D$27/$I$25","v":22.8},6,136.80000000000001,{"$f":"IFERROR(IF(('Input sheet'!$B$3/D122)<=1,('Input sheet'!$B$3/D122),\"0\"),\"\")","v":0.14619883040935672},{"$f":"K122*Selection!$F$27/$I$25","v":193.8},1162.8000000000002,{"$f":"IFERROR((D122-'Input sheet'!$B$3),\"\")","v":116.80000000000001},{"$f":"CONCATENATE(A122,Selection!$G$27)","v":"Nitrosource Main + 4 Subs6"},{"$f":"VLOOKUP(I122,'Capacities generators'!D:R,Selection!$G$26+1,FALSE)","v":22.8},{"$f":"VLOOKUP(I122,'Capacities generators'!T:AH,Selection!$G$26+1,FALSE)","v":193.8},{"$f":"CONCATENATE(\"1 x \",'Part numbers'!$B$181,\" and 4 x \",'Part numbers'!$B$182)","v":"1 x 159.003552 and 4 x 159.003553"},null,"N/A",{"$f":"VLOOKUP(I122,'Capacities generators'!AY:BM,Selection!$G$26+1,FALSE)","v":0},"N/A",null,6]
["Nitrosource Main + 5 Subs",{"$f":"J123*Selection!$D$27/$I$25","v":27.4},6,164.39999999999998,{"$f":"IFERROR(IF(('Input sheet'!$B$3/D123)<=1,('Input sheet'!$B$3/D123),\"0\"),\"\")","v":0.12165450121654503},{"$f":"K123*Selection!$F$27/$I$25","v":232.9},1397.4,{"$f":"IFERROR((D123-'Input sheet'!$B$3),\"\")","v":144.39999999999998},{"$f":"CONCATENATE(A123,Selection!$G$27)","v":"Nitrosource Main + 5 Subs6"},{"$f":"VLOOKUP(I123,'Capacities generators'!D:R,Selection!$G$26+1,FALSE)","v":27.4},{"$f":"VLOOKUP(I123,'Capacities generators'!T:AH,Selection!$G$26+1,FALSE)","v":232.9},{"$f":"CONCATENATE(\"1 x \",'Part numbers'!$B$181,\" and 5 x \",'Part numbers'!$B$182)","v":"1 x 159.003552 and 5 x 159.003553"},null,"N/A",{"$f":"VLOOKUP(I123,'Capacities generators'!AY:BM,Selection!$G$26+1,FALSE)","v":0},"N/A",null,6]
["Nitrosource Main + 3 Subs",{"$f":"J124*Selection!$D$27/$I$25","v":18.2},7,127.39999999999999,{"$f":"IFERROR(IF(('Input sheet'!$B$3/D124)<=1,('Input sheet'!$B$3/D124),\"0\"),\"\")","v":0.15698587127158556},{"$f":"K124*Selection!$F$27/$I$25","v":154.69999999999999},1082.8999999999999,{"$f":"IFERROR((D124-'Input sheet'!$B$3),\"\")","v":107.39999999999999},{"$f":"CONCATENATE(A124,Selection!$G$27)","v":"Nitrosource Main + 3 Subs6"},{"$f":"VLOOKUP(I124,'Capacities generators'!D:R,Selection!$G$26+1,FALSE)","v":18.2},{"$f":"VLOOKUP(I124,'Capacities generators'!T:AH,Selection!$G$26+1,FALSE)","v":154.69999999999999},{"$f":"CONCATENATE(\"1 x \",'Part numbers'!$B$181,\" and 3 x \",'Part numbers'!$B$182)","v":"1 x 159.003552 and 3 x 159.003553"},null,"N/A",{"$f":"VLOOKUP(I124,'Capacities generators'!AY:BM,Selection!$G$26+1,FALSE)","v":0},"N/A",null,7]
["Nitrosource Main + 4 Subs",{"$f":"J125*Selection!$D$27/$I$25","v":22.8},7,159.6,{"$f":"IFERROR(IF(('Input sheet'!$B$3/D125)<=1,('Input sheet'!$B$3/D125),\"0\"),\"\")","v":0.12531328320802004},{"$f":"K125*Selection!$F$27/$I$25","v":193.8},1356.6000000000001,{"$f":"IFERROR((D125-'Input sheet'!$B$3),\"\")","v":139.6},{"$f":"CONCATENATE(A125,Selection!$G$27)","v":"Nitrosource Main + 4 Subs6"},{"$f":"VLOOKUP(I125,'Capacities generators'!D:R,Selection!$G$26+1,FALSE)","v":22.8},{"$f":"VLOOKUP(I125,'Capacities generators'!T:AH,Selection!$G$26+1,FALSE)","v":193.8},{"$f":"CONCATENATE(\"1 x \",'Part numbers'!$B$181,\" and 4 x \",'Part numbers'!$B$182)","v":"1 x 159.003552 and 4 x 159.003553"},null,"N/A",{"$f":"VLOOKUP(I125,'Capacities generators'!AY:BM,Selection!$G$26+1,FALSE)","v":0},"N/A",null,7]
["Nitrosource Main + 5 Subs",{"$f":"J126*Selection!$D$27/$I$25","v":27.4},7,191.79999999999998,{"$f":"IFERROR(IF(('Input sheet'!$B$3/D126)<=1,('Input sheet'!$B$3/D126),\"0\"),\"\")","v":0.10427528675703859},{"$f":"K126*Selection!$F$27/$I$25","v":232.9},1630.3,{"$f":"IFERROR((D126-'Input sheet'!$B$3),\"\")","v":171.79999999999998},{"$f":"CONCATENATE(A126,Selection!$G$27)","v":"Nitrosource Main + 5 Subs6"},{"$f":"VLOOKUP(I126,'Capacities generators'!D:R,Selection!$G$26+1,FALSE)","v":27.4},{"$f":"VLOOKUP(I126,'Capacities generators'!T:AH,Selection!$G$26+1,FALSE)","v":232.9},{"$f":"CONCATENATE(\"1 x \",'Part numbers'!$B$181,\" and 5 x \",'Part numbers'!$B$182)","v":"1 x 159.003552 and 5 x 159.003553"},null,"N/A",{"$f":"VLOOKUP(I126,'Capacities generators'!AY:BM,Selection!$G$26+1,FALSE)","v":0},"N/A",null,7]
["Nitrosource Main + 3 Subs",{"$f":"J127*Selection!$D$27/$I$25","v":18.2},8,145.6,{"$f":"IFERROR(IF(('Input sheet'!$B$3/D127)<=1,('Input sheet'!$B$3/D127),\"0\"),\"\")","v":0.13736263736263737},{"$f":"K127*Selection!$F$27/$I$25","v":154.69999999999999},1237.5999999999999,{"$f":"IFERROR((D127-'Input sheet'!$B$3),\"\")","v":125.6},{"$f":"CONCATENATE(A127,Selection!$G$27)","v":"Nitrosource Main + 3 Subs6"},{"$f":"VLOOKUP(I127,'Capacities generators'!D:R,Selection!$G$26+1,FALSE)","v":18.2},{"$f":"VLOOKUP(I127,'Capacities generators'!T:AH,Selection!$G$26+1,FALSE)","v":154.69999999999999},{"$f":"CONCATENATE(\"1 x \",'Part numbers'!$B$181,\" and 3 x \",'Part numbers'!$B$182)","v":"1 x 159.003552 and 3 x 159.003553"},null,"N/A",{"$f":"VLOOKUP(I127,'Capacities generators'!AY:BM,Selection!$G$26+1,FALSE)","v":0},"N/A",null,8]
["Nitrosource Main + 4 Subs",{"$f":"J128*Selection!$D$27/$I$25","v":22.8},8,182.4,{"$f":"IFERROR(IF(('Input sheet'!$B$3/D128)<=1,('Input sheet'!$B$3/D128),\"0\"),\"\")","v":0.10964912280701754},{"$f":"K128*Selection!$F$27/$I$25","v":193.8},1550.4,{"$f":"IFERROR((D128-'Input sheet'!$B$3),\"\")","v":162.4},{"$f":"CONCATENATE(A128,Selection!$G$27)","v":"Nitrosource Main + 4 Subs6"},{"$f":"VLOOKUP(I128,'Capacities generators'!D:R,Selection!$G$26+1,FALSE)","v":22.8},{"$f":"VLOOKUP(I128,'Capacities generators'!T:AH,Selection!$G$26+1,FALSE)","v":193.8},{"$f":"CONCATENATE(\"1 x \",'Part numbers'!$B$181,\" and 4 x \",'Part numbers'!$B$182)","v":"1 x 159.003552 and 4 x 159.003553"},null,"N/A",{"$f":"VLOOKUP(I128,'Capacities generators'!AY:BM,Selection!$G$26+1,FALSE)","v":0},"N/A",null,8]
["Nitrosource Main + 5 Subs",{"$f":"J129*Selection!$D$27/$I$25","v":27.4},8,219.2,{"$f":"IFERROR(IF(('Input sheet'!$B$3/D129)<=1,('Input sheet'!$B$3/D129),\"0\"),\"\")","v":9.1240875912408759E-2},{"$f":"K129*Selection!$F$27/$I$25","v":232.9},1863.2,{"$f":"IFERROR((D129-'Input sheet'!$B$3),\"\")","v":199.2},{"$f":"CONCATENATE(A129,Selection!$G$27)","v":"Nitrosource Main + 5 Subs6"},{"$f":"VLOOKUP(I129,'Capacities generators'!D:R,Selection!$G$26+1,FALSE)","v":27.4},{"$f":"VLOOKUP(I129,'Capacities generators'!T:AH,Selection!$G$26+1,FALSE)","v":232.9},{"$f":"CONCATENATE(\"1 x \",'Part numbers'!$B$181,\" and 5 x \",'Part numbers'!$B$182)","v":"1 x 159.003552 and 5 x 159.003553"},null,"N/A",{"$f":"VLOOKUP(I129,'Capacities generators'!AY:BM,Selection!$G$26+1,FALSE)","v":0},"N/A",null,8]
["Nitrosource Main + 3 Subs",{"$f":"J130*Selection!$D$27/$I$25","v":18.2},9,163.79999999999998,{"$f":"IFERROR(IF(('Input sheet'!$B$3/D130)<=1,('Input sheet'!$B$3/D130),\"0\"),\"\")","v":0.12210012210012211},{"$f":"K130*Selection!$F$27/$I$25","v":154.69999999999999},1392.3,{"$f":"IFERROR((D130-'Input sheet'!$B$3),\"\")","v":143.79999999999998},{"$f":"CONCATENATE(A130,Selection!$G$27)","v":"Nitrosource Main + 3 Subs6"},{"$f":"VLOOKUP(I130,'Capacities generators'!D:R,Selection!$G$26+1,FALSE)","v":18.2},{"$f":"VLOOKUP(I130,'Capacities generators'!T:AH,Selection!$G$26+1,FALSE)","v":154.69999999999999},{"$f":"CONCATENATE(\"1 x \",'Part numbers'!$B$181,\" and 3 x \",'Part numbers'!$B$182)","v":"1 x 159.003552 and 3 x 159.003553"},null,"N/A",{"$f":"VLOOKUP(I130,'Capacities generators'!AY:BM,Selection!$G$26+1,FALSE)","v":0},"N/A",null,9]
["Nitrosource Main + 4 Subs",{"$f":"J131*Selection!$D$27/$I$25","v":22.8},9,205.20000000000002,{"$f":"IFERROR(IF(('Input sheet'!$B$3/D131)<=1,('Input sheet'!$B$3/D131),\"0\"),\"\")","v":9.7465886939571145E-2},{"$f":"K131*Selection!$F$27/$I$25","v":193.8},1744.2,{"$f":"IFERROR((D131-'Input sheet'!$B$3),\"\")","v":185.20000000000002},{"$f":"CONCATENATE(A131,Selection!$G$27)","v":"Nitrosource Main + 4 Subs6"},{"$f":"VLOOKUP(I131,'Capacities generators'!D:R,Selection!$G$26+1,FALSE)","v":22.8},{"$f":"VLOOKUP(I131,'Capacities generators'!T:AH,Selection!$G$26+1,FALSE)","v":193.8},{"$f":"CONCATENATE(\"1 x \",'Part numbers'!$B$181,\" and 4 x \",'Part numbers'!$B$182)","v":"1 x 159.003552 and 4 x 159.003553"},null,"N/A",{"$f":"VLOOKUP(I131,'Capacities generators'!AY:BM,Selection!$G$26+1,FALSE)","v":0},"N/A",null,9]
["Nitrosource Main + 5 Subs",{"$f":"J132*Selection!$D$27/$I$25","v":27.4},9,246.6,{"$f":"IFERROR(IF(('Input sheet'!$B$3/D132)<=1,('Input sheet'!$B$3/D132),\"0\"),\"\")","v":8.1103000811030015E-2},{"$f":"K132*Selection!$F$27/$I$25","v":232.9},2096.1,{"$f":"IFERROR((D132-'Input sheet'!$B$3),\"\")","v":226.6},{"$f":"CONCATENATE(A132,Selection!$G$27)","v":"Nitrosource Main + 5 Subs6"},{"$f":"VLOOKUP(I132,'Capacities generators'!D:R,Selection!$G$26+1,FALSE)","v":27.4},{"$f":"VLOOKUP(I132,'Capacities generators'!T:AH,Selection!$G$26+1,FALSE)","v":232.9},{"$f":"CONCATENATE(\"1 x \",'Part numbers'!$B$181,\" and 5 x \",'Part numbers'!$B$182)","v":"1 x 159.003552 and 5 x 159.003553"},null,"N/A",{"$f":"VLOOKUP(I132,'Capacities generators'!AY:BM,Selection!$G$26+1,FALSE)","v":0},"N/A",null,9]
["Nitrosource Main + 3 Subs",{"$f":"J133*Selection!$D$27/$I$25","v":18.2},10,182,{"$f":"IFERROR(IF(('Input sheet'!$B$3/D133)<=1,('Input sheet'!$B$3/D133),\"0\"),\"\")","v":0.10989010989010989},{"$f":"K133*Selection!$F$27/$I$25","v":154.69999999999999},1547,{"$f":"IFERROR((D133-'Input sheet'!$B$3),\"\")","v":162},{"$f":"CONCATENATE(A133,Selection!$G$27)","v":"Nitrosource Main + 3 Subs6"},{"$f":"VLOOKUP(I133,'Capacities generators'!D:R,Selection!$G$26+1,FALSE)","v":18.2},{"$f":"VLOOKUP(I133,'Capacities generators'!T:AH,Selection!$G$26+1,FALSE)","v":154.69999999999999},{"$f":"CONCATENATE(\"1 x \",'Part numbers'!$B$181,\" and 3 x \",'Part numbers'!$B$182)","v":"1 x 159.003552 and 3 x 159.003553"},null,"N/A",{"$f":"VLOOKUP(I133,'Capacities generators'!AY:BM,Selection!$G$26+1,FALSE)","v":0},"N/A",null,10]
["Nitrosource Main + 4 Subs",{"$f":"J134*Selection!$D$27/$I$25","v":22.8},10,228,{"$f":"IFERROR(IF(('Input sheet'!$B$3/D134)<=1,('Input sheet'!$B$3/D134),\"0\"),\"\")","v":8.771929824561403E-2},{"$f":"K134*Selection!$F$27/$I$25","v":193.8},1938,{"$f":"IFERROR((D134-'Input sheet'!$B$3),\"\")","v":208},{"$f":"CONCATENATE(A134,Selection!$G$27)","v":"Nitrosource Main + 4 Subs6"},{"$f":"VLOOKUP(I134,'Capacities generators'!D:R,Selection!$G$26+1,FALSE)","v":22.8},{"$f":"VLOOKUP(I134,'Capacities generators'!T:AH,Selection!$G$26+1,FALSE)","v":193.8},{"$f":"CONCATENATE(\"1 x \",'Part numbers'!$B$181,\" and 4 x \",'Part numbers'!$B$182)","v":"1 x 159.003552 and 4 x 159.003553"},null,"N/A",{"$f":"VLOOKUP(I134,'Capacities generators'!AY:BM,Selection!$G$26+1,FALSE)","v":0},"N/A",null,10]
["Nitrosource Main + 5 Subs",{"$f":"J135*Selection!$D$27/$I$25","v":27.4},10,274,{"$f":"IFERROR(IF(('Input sheet'!$B$3/D135)<=1,('Input sheet'!$B$3/D135),\"0\"),\"\")","v":7.2992700729927001E-2},{"$f":"K135*Selection!$F$27/$I$25","v":232.9},2329,{"$f":"IFERROR((D135-'Input sheet'!$B$3),\"\")","v":254},{"$f":"CONCATENATE(A135,Selection!$G$27)","v":"Nitrosource Main + 5 Subs6"},{"$f":"VLOOKUP(I135,'Capacities generators'!D:R,Selection!$G$26+1,FALSE)","v":27.4},{"$f":"VLOOKUP(I135,'Capacities generators'!T:AH,Selection!$G$26+1,FALSE)","v":232.9},{"$f":"CONCATENATE(\"1 x \",'Part numbers'!$B$181,\" and 5 x \",'Part numbers'!$B$182)","v":"1 x 159.003552 and 5 x 159.003553"},null,"N/A",{"$f":"VLOOKUP(I135,'Capacities generators'!AY:BM,Selection!$G$26+1,FALSE)","v":0},"N/A",null,10]

{"sheet":"Calculations TCO","index":6,"n_rows":150,"n_cols":18,"rows_kept":150,"cut":false,"hidden":true,"merged":[[23,4,23,5],[0,7,0,8],[24,4,24,5]]}
[null,null,null,null,null,null,null,"EST",null,null,"Currencies","Yearly maintenance cost generator","Yearly maintenance cost dryer",null,{"$f":"Talen!A126","v":"5 YEAR TOTAL COST OF OWNERSHIP"}]
[null,"Purities",null,"pressure","L/Sec/kW","kW/m3",null,"Flow demand %","energy savings %",null,"€",900,510,null,null,{"$f":"C30","v":"Parker"},{"$f":"D30","v":"BULK GAS"},{"$f":"E30","v":"Alternative"}]
[null,"5 ppm",null,"4",{"$f":" -0.1602*D3 + 4.1421","v":3.5013000000000001},{"$f":"1/(((E3*3600)/1000))","v":7.933561185210572E-2},null,{"$f":"'factors-pull down'!A62","v":0.1},{"$f":"'factors-pull down'!B62*100","v":71},null,"$",1000,570,null,{"$f":"Talen!A93","v":"INVESTMENT"},{"$f":"'TCO Calculator'!E38","v":0},{"$f":"'TCO Calculator'!J38","v":0},{"$f":"'TCO Calculator'!O38","v":0}]
[null,"10 ppm",null,"4,5",3.4211999999999998,8.1193083648362502E-2,null,{"$f":"'factors-pull down'!A63","v":0.15},{"$f":"'factors-pull down'!B63*100","v":65.900000000000006},null,"£",640,363,null,{"$f":"Talen!A102","v":"OPERATIONAL COSTS"},{"$f":"('TCO Calculator'!E56*5)","v":25390.111371536401},{"$f":"'TCO Calculator'!J58*5","v":171250},{"$f":"'TCO Calculator'!O56*5","v":0}]
[null,"50 ppm",null,"5",3.3411,8.3139618023338968E-2,null,{"$f":"'factors-pull down'!A64","v":0.2},{"$f":"'factors-pull down'!B64*100","v":61.3},null,"Kč",24500,14000,null,{"$f":"Talen!A128","v":"SERVICE COSTS"},{"$f":"'TCO Calculator'!E57*5","v":7050},0,{"$f":"'TCO Calculator'!O57*5","v":0}]
[null,"100 ppm",null,"5,5",3.2610000000000001,8.5181777914068613E-2,null,{"$f":"'factors-pull down'!A65","v":0.25},{"$f":"'factors-pull down'!B65*100","v":56.999999999999993},null,"Rs.",63000,36000,null,{"$f":"Talen!A127","v":"10 YEAR TOTAL COST OF OWNERSHIP"}]
[null,"250 ppm",null,"6",3.1809000000000003,8.7326787317356006E-2,null,{"$f":"'factors-pull down'!A66","v":0.3},{"$f":"'factors-pull down'!B66*100","v":53.1},null,"¥",6100,3400,null,null,{"$f":"C30","v":"Parker"},{"$f":"D30","v":"BULK GAS"},{"$f":"E30","v":"Alternative"}]
[null,"500 ppm",null,"6,5",3.1008,8.9582616672399959E-2,null,{"$f":"'factors-pull down'!A67","v":0.35},{"$f":"'factors-pull down'!B67*100","v":49.6},null,"₩",1140000,650000,null,{"$f":"Talen!A93","v":"INVESTMENT"},{"$f":"'TCO Calculator'!E38","v":0},{"$f":"'TCO Calculator'!J38","v":0},{"$f":"'TCO Calculator'!O38","v":0}]
[null,1E-3,null,"7",3.0207000000000002,9.1958081827979529E-2,null,{"$f":"'factors-pull down'!A68","v":0.4},{"$f":"'factors-pull down'!B68*100","v":46.5},null,"฿",34500,19500,null,{"$f":"Talen!A102","v":"OPERATIONAL COSTS"},{"$f":"('TCO Calculator'!E56*10)","v":50780.222743072802},{"$f":"'TCO Calculator'!J58*10","v":342500},{"$f":"'TCO Calculator'!O56*10","v":0}]
[null,4.0000000000000001E-3,null,"7,5",2.9405999999999999,9.4462959184444598E-2,null,{"$f":"'factors-pull down'!A69","v":0.45},{"$f":"'factors-pull down'!B69*100","v":43.6},null,"₪",3800,2200,null,{"$f":"Talen!A128","v":"SERVICE COSTS"},{"$f":"'TCO Calculator'!E57*10","v":14100},0,{"$f":"'TCO Calculator'!O57*10","v":0}]
[null,5.0000000000000001E-3,null,"8",2.8605,9.7108120181009547E-2,null,{"$f":"'factors-pull down'!A70","v":0.5},{"$f":"'factors-pull down'!B70*100","v":41}]
[null,0.01,null,"8,5",2.7804000000000002,9.99056890295561E-2,null,{"$f":"'factors-pull down'!A71","v":0.55000000000000004},{"$f":"'factors-pull down'!B71*100","v":38.6},null,null,null,null,null,"selection"]
[null,0.02,null,"9",2.7002999999999999,0.10286922852193377,null,{"$f":"'factors-pull down'!A72","v":0.6},{"$f":"'factors-pull down'!B72*100","v":36.200000000000003},null,null,null,null,null,{"$f":"IF('TCO Calculator'!$F$111=O19,O1,O6)","v":"5 YEAR TOTAL COST OF OWNERSHIP"}]
[null,0.03,null,"9,5",2.6202000000000001,0.10601395991824202,null,{"$f":"'factors-pull down'!A73","v":0.65},{"$f":"'factors-pull down'!B73*100","v":33.9},null,null,null,null,null,null,{"$f":"IF('TCO Calculator'!$F$111=$O$19,P2,P7)","v":"Parker"},{"$f":"IF('TCO Calculator'!$F$111=$O$19,Q2,Q7)","v":"BULK GAS"},{"$f":"IF('TCO Calculator'!$F$111=$O$19,R2,R7)","v":"Alternative"}]
[null,0.04,null,"10",2.5400999999999998,0.10935702443910783,null,{"$f":"'factors-pull down'!A74","v":0.7},{"$f":"'factors-pull down'!B74*100","v":31.5},null,null,null,null,null,{"$f":"IF('TCO Calculator'!$F$111=$O$19,O3,O8)","v":"INVESTMENT"},{"$f":"IF('TCO Calculator'!$F$111=$O$19,P3,P8)","v":0},{"$f":"IF('TCO Calculator'!$F$111=$O$19,Q3,Q8)","v":0},{"$f":"IF('TCO Calculator'!$F$111=$O$19,R3,R8)","v":0}]
[null,0.05,null,"10,5",2.46,0.11291779584462512,null,{"$f":"'factors-pull down'!A75","v":0.75},{"$f":"'factors-pull down'!B75*100","v":28.999999999999996},null,null,null,null,null,{"$f":"IF('TCO Calculator'!$F$111=$O$19,O4,O9)","v":"OPERATIONAL COSTS"},{"$f":"IF('TCO Calculator'!$F$111=$O$19,P4,P9)","v":25390.111371536401},{"$f":"IF('TCO Calculator'!$F$111=$O$19,Q4,Q9)","v":171250},{"$f":"IF('TCO Calculator'!$F$111=$O$19,R4,R9)","v":0}]
[null,null,null,"11",2.3799000000000001,0.11671825613587872,null,{"$f":"'factors-pull down'!A76","v":0.8},{"$f":"'factors-pull down'!B76*100","v":26.200000000000003},null,null,null,null,null,{"$f":"IF('TCO Calculator'!$F$111=$O$19,O5,O10)","v":"SERVICE COSTS"},{"$f":"IF('TCO Calculator'!$F$111=$O$19,P5,P10)","v":7050},{"$f":"IF('TCO Calculator'!$F$111=$O$19,Q5,Q10)","v":0},{"$f":"IF('TCO Calculator'!$F$111=$O$19,R5,R10)","v":0}]
[null,null,null,"11,5",2.2998000000000003,0.12078344976857891,null,{"$f":"'factors-pull down'!A77","v":0.85},{"$f":"'factors-pull down'!B77*100","v":23}]
[null,null,null,"12",2.2197,0.12514203621109959,null,{"$f":"'factors-pull down'!A78","v":0.9},{"$f":"'factors-pull down'!B78*100","v":19.399999999999999},null,null,null,null,null,{"$f":"Talen!A130","v":"5 years"}]
[null,null,null,"12,5",2.1396000000000002,0.12982696661889034,null,{"$f":"'factors-pull down'!A79","v":0.95},{"$f":"'factors-pull down'!B79*100","v":15.1},null,null,null,null,null,{"$f":"Talen!A131","v":"10 years"}]
[null,null,null,"13",2.0594999999999999,0.13487631841601253,null,{"$f":"'factors-pull down'!A80","v":1},{"$f":"'factors-pull down'!B80*100","v":10}]
[null,null,null,"13,5",1.9794,0.14033433251378083,null,"Load",{"$f":"Selection!B16","v":91}]
[null,null,null,"14",1.8993000000000002,0.14625271298782591,null,"Savings",{"$f":"VLOOKUP(I22,H3:I21,2,TRUE)","v":10}]
[null,null,null,"Power consumption Parker",{"$f":"VLOOKUP('TCO Calculator'!E22,D3:F23,3,FALSE)","v":9.1958081827979529E-2},null,null,"multiplier",{"$f":"(100-I23)/100","v":0.9}]
[null,null,null,"Power consumption alternative",{"$f":"VLOOKUP('TCO Calculator'!O22,D3:F12,3,FALSE)","v":{"$error":"#N/A"}},null,null,null,null,null,null,{"$f":"Talen!A91","v":"Yes"}]
[null,null,null,null,null,null,null,null,null,null,null,{"$f":"Talen!A92","v":"No"}]
[]
[]
[null,{"$f":"Talen!A113","v":"COST OF OWNERSHIP"}]
["Month",null,{"$f":"'OEM PN'!B2","v":"Parker"},{"$f":"'TCO Calculator'!$J$17","v":"BULK GAS"},{"$f":"'TCO Calculator'!$O$17","v":"Alternative"}]
[1,{"$f":"A31/12","v":8.3333333333333329E-2},{"$f":"(A31*('TCO Calculator'!$E$58/12))+'TCO Calculator'!$E$38","v":540.66852285894004},{"$f":"(A31*('TCO Calculator'!$J$58/12))+'TCO Calculator'!$J$38","v":2854.1666666666665},{"$f":"(A31*('TCO Calculator'!$O$58/12))+'TCO Calculator'!$O$38","v":0}]
[2,0.16666666666666666,{"$f":"(A32*('TCO Calculator'!$E$58/12))+'TCO Calculator'!$E$38","v":1081.3370457178801},{"$f":"(A32*('TCO Calculator'!$J$58/12))+'TCO Calculator'!$J$38","v":5708.333333333333},{"$f":"(A32*('TCO Calculator'!$O$58/12))+'TCO Calculator'!$O$38","v":0}]
[3,0.25,{"$f":"(A33*('TCO Calculator'!$E$58/12))+'TCO Calculator'!$E$38","v":1622.0055685768202},{"$f":"(A33*('TCO Calculator'!$J$58/12))+'TCO Calculator'!$J$38","v":8562.5},{"$f":"(A33*('TCO Calculator'!$O$58/12))+'TCO Calculator'!$O$38","v":0}]
[4,0.33333333333333331,{"$f":"(A34*('TCO Calculator'!$E$58/12))+'TCO Calculator'!$E$38","v":2162.6740914357601},{"$f":"(A34*('TCO Calculator'!$J$58/12))+'TCO Calculator'!$J$38","v":11416.666666666666},{"$f":"(A34*('TCO Calculator'!$O$58/12))+'TCO Calculator'!$O$38","v":0}]
[5,0.41666666666666669,{"$f":"(A35*('TCO Calculator'!$E$58/12))+'TCO Calculator'!$E$38","v":2703.3426142947001},{"$f":"(A35*('TCO Calculator'!$J$58/12))+'TCO Calculator'!$J$38","v":14270.833333333332},{"$f":"(A35*('TCO Calculator'!$O$58/12))+'TCO Calculator'!$O$38","v":0}]
[6,0.5,{"$f":"(A36*('TCO Calculator'!$E$58/12))+'TCO Calculator'!$E$38","v":3244.0111371536404},{"$f":"(A36*('TCO Calculator'!$J$58/12))+'TCO Calculator'!$J$38","v":17125},{"$f":"(A36*('TCO Calculator'!$O$58/12))+'TCO Calculator'!$O$38","v":0}]
[7,0.58333333333333337,{"$f":"(A37*('TCO Calculator'!$E$58/12))+'TCO Calculator'!$E$38","v":3784.6796600125804},{"$f":"(A37*('TCO Calculator'!$J$58/12))+'TCO Calculator'!$J$38","v":19979.166666666664},{"$f":"(A37*('TCO Calculator'!$O$58/12))+'TCO Calculator'!$O$38","v":0}]
[8,0.66666666666666663,{"$f":"(A38*('TCO Calculator'!$E$58/12))+'TCO Calculator'!$E$38","v":4325.3481828715203},{"$f":"(A38*('TCO Calculator'!$J$58/12))+'TCO Calculator'!$J$38","v":22833.333333333332},{"$f":"(A38*('TCO Calculator'!$O$58/12))+'TCO Calculator'!$O$38","v":0}]
[9,0.75,{"$f":"(A39*('TCO Calculator'!$E$58/12))+'TCO Calculator'!$E$38","v":4866.0167057304607},{"$f":"(A39*('TCO Calculator'!$J$58/12))+'TCO Calculator'!$J$38","v":25687.5},{"$f":"(A39*('TCO Calculator'!$O$58/12))+'TCO Calculator'!$O$38","v":0}]
[10,0.83333333333333337,{"$f":"(A40*('TCO Calculator'!$E$58/12))+'TCO Calculator'!$E$38","v":5406.6852285894001},{"$f":"(A40*('TCO Calculator'!$J$58/12))+'TCO Calculator'!$J$38","v":28541.666666666664},{"$f":"(A40*('TCO Calculator'!$O$58/12))+'TCO Calculator'!$O$38","v":0}]
[11,0.91666666666666663,{"$f":"(A41*('TCO Calculator'!$E$58/12))+'TCO Calculator'!$E$38","v":5947.3537514483405},{"$f":"(A41*('TCO Calculator'!$J$58/12))+'TCO Calculator'!$J$38","v":31395.833333333332},{"$f":"(A41*('TCO Calculator'!$O$58/12))+'TCO Calculator'!$O$38","v":0}]
[12,1,{"$f":"(A42*('TCO Calculator'!$E$58/12))+'TCO Calculator'!$E$38","v":6488.0222743072809},{"$f":"(A42*('TCO Calculator'!$J$58/12))+'TCO Calculator'!$J$38","v":34250},{"$f":"(A42*('TCO Calculator'!$O$58/12))+'TCO Calculator'!$O$38","v":0}]
[13,1.0833333333333333,{"$f":"(A43*('TCO Calculator'!$E$58/12))+'TCO Calculator'!$E$38","v":7028.6907971662204},{"$f":"(A43*('TCO Calculator'!$J$58/12))+'TCO Calculator'!$J$38","v":37104.166666666664},{"$f":"(A43*('TCO Calculator'!$O$58/12))+'TCO Calculator'!$O$38","v":0}]
[14,1.1666666666666667,{"$f":"(A44*('TCO Calculator'!$E$58/12))+'TCO Calculator'!$E$38","v":7569.3593200251607},{"$f":"(A44*('TCO Calculator'!$J$58/12))+'TCO Calculator'!$J$38","v":39958.333333333328},{"$f":"(A44*('TCO Calculator'!$O$58/12))+'TCO Calculator'!$O$38","v":0}]
[15,1.25,{"$f":"(A45*('TCO Calculator'!$E$58/12))+'TCO Calculator'!$E$38","v":8110.0278428841002},{"$f":"(A45*('TCO Calculator'!$J$58/12))+'TCO Calculator'!$J$38","v":42812.5},{"$f":"(A45*('TCO Calculator'!$O$58/12))+'TCO Calculator'!$O$38","v":0}]
[16,1.3333333333333333,{"$f":"(A46*('TCO Calculator'!$E$58/12))+'TCO Calculator'!$E$38","v":8650.6963657430406},{"$f":"(A46*('TCO Calculator'!$J$58/12))+'TCO Calculator'!$J$38","v":45666.666666666664},{"$f":"(A46*('TCO Calculator'!$O$58/12))+'TCO Calculator'!$O$38","v":0}]
[17,1.4166666666666667,{"$f":"(A47*('TCO Calculator'!$E$58/12))+'TCO Calculator'!$E$38","v":9191.3648886019801},{"$f":"(A47*('TCO Calculator'!$J$58/12))+'TCO Calculator'!$J$38","v":48520.833333333328},{"$f":"(A47*('TCO Calculator'!$O$58/12))+'TCO Calculator'!$O$38","v":0}]
[18,1.5,{"$f":"(A48*('TCO Calculator'!$E$58/12))+'TCO Calculator'!$E$38","v":9732.0334114609213},{"$f":"(A48*('TCO Calculator'!$J$58/12))+'TCO Calculator'!$J$38","v":51375},{"$f":"(A48*('TCO Calculator'!$O$58/12))+'TCO Calculator'!$O$38","v":0}]
[19,1.5833333333333333,{"$f":"(A49*('TCO Calculator'!$E$58/12))+'TCO Calculator'!$E$38","v":10272.701934319861},{"$f":"(A49*('TCO Calculator'!$J$58/12))+'TCO Calculator'!$J$38","v":54229.166666666664},{"$f":"(A49*('TCO Calculator'!$O$58/12))+'TCO Calculator'!$O$38","v":0}]
[20,1.6666666666666667,{"$f":"(A50*('TCO Calculator'!$E$58/12))+'TCO Calculator'!$E$38","v":10813.3704571788},{"$f":"(A50*('TCO Calculator'!$J$58/12))+'TCO Calculator'!$J$38","v":57083.333333333328},{"$f":"(A50*('TCO Calculator'!$O$58/12))+'TCO Calculator'!$O$38","v":0}]
[21,1.75,{"$f":"(A51*('TCO Calculator'!$E$58/12))+'TCO Calculator'!$E$38","v":11354.038980037742},{"$f":"(A51*('TCO Calculator'!$J$58/12))+'TCO Calculator'!$J$38","v":59937.5},{"$f":"(A51*('TCO Calculator'!$O$58/12))+'TCO Calculator'!$O$38","v":0}]
[22,1.8333333333333333,{"$f":"(A52*('TCO Calculator'!$E$58/12))+'TCO Calculator'!$E$38","v":11894.707502896681},{"$f":"(A52*('TCO Calculator'!$J$58/12))+'TCO Calculator'!$J$38","v":62791.666666666664},{"$f":"(A52*('TCO Calculator'!$O$58/12))+'TCO Calculator'!$O$38","v":0}]
[23,1.9166666666666667,{"$f":"(A53*('TCO Calculator'!$E$58/12))+'TCO Calculator'!$E$38","v":12435.376025755621},{"$f":"(A53*('TCO Calculator'!$J$58/12))+'TCO Calculator'!$J$38","v":65645.833333333328},{"$f":"(A53*('TCO Calculator'!$O$58/12))+'TCO Calculator'!$O$38","v":0}]
[24,2,{"$f":"(A54*('TCO Calculator'!$E$58/12))+'TCO Calculator'!$E$38","v":12976.044548614562},{"$f":"(A54*('TCO Calculator'!$J$58/12))+'TCO Calculator'!$J$38","v":68500},{"$f":"(A54*('TCO Calculator'!$O$58/12))+'TCO Calculator'!$O$38","v":0}]
[25,2.0833333333333335,{"$f":"(A55*('TCO Calculator'!$E$58/12))+'TCO Calculator'!$E$38","v":13516.713071473501},{"$f":"(A55*('TCO Calculator'!$J$58/12))+'TCO Calculator'!$J$38","v":71354.166666666657},{"$f":"(A55*('TCO Calculator'!$O$58/12))+'TCO Calculator'!$O$38","v":0}]
[26,2.1666666666666665,{"$f":"(A56*('TCO Calculator'!$E$58/12))+'TCO Calculator'!$E$38","v":14057.381594332441},{"$f":"(A56*('TCO Calculator'!$J$58/12))+'TCO Calculator'!$J$38","v":74208.333333333328},{"$f":"(A56*('TCO Calculator'!$O$58/12))+'TCO Calculator'!$O$38","v":0}]
[27,2.25,{"$f":"(A57*('TCO Calculator'!$E$58/12))+'TCO Calculator'!$E$38","v":14598.05011719138},{"$f":"(A57*('TCO Calculator'!$J$58/12))+'TCO Calculator'!$J$38","v":77062.5},{"$f":"(A57*('TCO Calculator'!$O$58/12))+'TCO Calculator'!$O$38","v":0}]
[28,2.3333333333333335,{"$f":"(A58*('TCO Calculator'!$E$58/12))+'TCO Calculator'!$E$38","v":15138.718640050321},{"$f":"(A58*('TCO Calculator'!$J$58/12))+'TCO Calculator'!$J$38","v":79916.666666666657},{"$f":"(A58*('TCO Calculator'!$O$58/12))+'TCO Calculator'!$O$38","v":0}]
[29,2.4166666666666665,{"$f":"(A59*('TCO Calculator'!$E$58/12))+'TCO Calculator'!$E$38","v":15679.387162909261},{"$f":"(A59*('TCO Calculator'!$J$58/12))+'TCO Calculator'!$J$38","v":82770.833333333328},{"$f":"(A59*('TCO Calculator'!$O$58/12))+'TCO Calculator'!$O$38","v":0}]
[30,2.5,{"$f":"(A60*('TCO Calculator'!$E$58/12))+'TCO Calculator'!$E$38","v":16220.0556857682},{"$f":"(A60*('TCO Calculator'!$J$58/12))+'TCO Calculator'!$J$38","v":85625},{"$f":"(A60*('TCO Calculator'!$O$58/12))+'TCO Calculator'!$O$38","v":0}]
[31,2.5833333333333335,{"$f":"(A61*('TCO Calculator'!$E$58/12))+'TCO Calculator'!$E$38","v":16760.72420862714},{"$f":"(A61*('TCO Calculator'!$J$58/12))+'TCO Calculator'!$J$38","v":88479.166666666657},{"$f":"(A61*('TCO Calculator'!$O$58/12))+'TCO Calculator'!$O$38","v":0}]
[32,2.6666666666666665,{"$f":"(A62*('TCO Calculator'!$E$58/12))+'TCO Calculator'!$E$38","v":17301.392731486081},{"$f":"(A62*('TCO Calculator'!$J$58/12))+'TCO Calculator'!$J$38","v":91333.333333333328},{"$f":"(A62*('TCO Calculator'!$O$58/12))+'TCO Calculator'!$O$38","v":0}]
[33,{"$f":"A63/12","v":2.75},{"$f":"(A63*('TCO Calculator'!$E$58/12))+'TCO Calculator'!$E$38","v":17842.061254345022},{"$f":"(A63*('TCO Calculator'!$J$58/12))+'TCO Calculator'!$J$38","v":94187.5},{"$f":"(A63*('TCO Calculator'!$O$58/12))+'TCO Calculator'!$O$38","v":0}]
[34,2.8333333333333335,{"$f":"(A64*('TCO Calculator'!$E$58/12))+'TCO Calculator'!$E$38","v":18382.72977720396},{"$f":"(A64*('TCO Calculator'!$J$58/12))+'TCO Calculator'!$J$38","v":97041.666666666657},{"$f":"(A64*('TCO Calculator'!$O$58/12))+'TCO Calculator'!$O$38","v":0}]
[35,2.9166666666666665,{"$f":"(A65*('TCO Calculator'!$E$58/12))+'TCO Calculator'!$E$38","v":18923.398300062901},{"$f":"(A65*('TCO Calculator'!$J$58/12))+'TCO Calculator'!$J$38","v":99895.833333333328},{"$f":"(A65*('TCO Calculator'!$O$58/12))+'TCO Calculator'!$O$38","v":0}]
[36,3,{"$f":"(A66*('TCO Calculator'!$E$58/12))+'TCO Calculator'!$E$38","v":19464.066822921843},{"$f":"(A66*('TCO Calculator'!$J$58/12))+'TCO Calculator'!$J$38","v":102750},{"$f":"(A66*('TCO Calculator'!$O$58/12))+'TCO Calculator'!$O$38","v":0}]
[37,3.0833333333333335,{"$f":"(A67*('TCO Calculator'!$E$58/12))+'TCO Calculator'!$E$38","v":20004.73534578078},{"$f":"(A67*('TCO Calculator'!$J$58/12))+'TCO Calculator'!$J$38","v":105604.16666666666},{"$f":"(A67*('TCO Calculator'!$O$58/12))+'TCO Calculator'!$O$38","v":0}]
[38,3.1666666666666665,{"$f":"(A68*('TCO Calculator'!$E$58/12))+'TCO Calculator'!$E$38","v":20545.403868639722},{"$f":"(A68*('TCO Calculator'!$J$58/12))+'TCO Calculator'!$J$38","v":108458.33333333333},{"$f":"(A68*('TCO Calculator'!$O$58/12))+'TCO Calculator'!$O$38","v":0}]
[39,3.25,{"$f":"(A69*('TCO Calculator'!$E$58/12))+'TCO Calculator'!$E$38","v":21086.072391498663},{"$f":"(A69*('TCO Calculator'!$J$58/12))+'TCO Calculator'!$J$38","v":111312.5},{"$f":"(A69*('TCO Calculator'!$O$58/12))+'TCO Calculator'!$O$38","v":0}]
[40,3.3333333333333335,{"$f":"(A70*('TCO Calculator'!$E$58/12))+'TCO Calculator'!$E$38","v":21626.740914357601},{"$f":"(A70*('TCO Calculator'!$J$58/12))+'TCO Calculator'!$J$38","v":114166.66666666666},{"$f":"(A70*('TCO Calculator'!$O$58/12))+'TCO Calculator'!$O$38","v":0}]
[41,3.4166666666666665,{"$f":"(A71*('TCO Calculator'!$E$58/12))+'TCO Calculator'!$E$38","v":22167.409437216542},{"$f":"(A71*('TCO Calculator'!$J$58/12))+'TCO Calculator'!$J$38","v":117020.83333333333},{"$f":"(A71*('TCO Calculator'!$O$58/12))+'TCO Calculator'!$O$38","v":0}]
[42,3.5,{"$f":"(A72*('TCO Calculator'!$E$58/12))+'TCO Calculator'!$E$38","v":22708.077960075483},{"$f":"(A72*('TCO Calculator'!$J$58/12))+'TCO Calculator'!$J$38","v":119875},{"$f":"(A72*('TCO Calculator'!$O$58/12))+'TCO Calculator'!$O$38","v":0}]
[43,3.5833333333333335,{"$f":"(A73*('TCO Calculator'!$E$58/12))+'TCO Calculator'!$E$38","v":23248.746482934421},{"$f":"(A73*('TCO Calculator'!$J$58/12))+'TCO Calculator'!$J$38","v":122729.16666666666},{"$f":"(A73*('TCO Calculator'!$O$58/12))+'TCO Calculator'!$O$38","v":0}]
[44,3.6666666666666665,{"$f":"(A74*('TCO Calculator'!$E$58/12))+'TCO Calculator'!$E$38","v":23789.415005793362},{"$f":"(A74*('TCO Calculator'!$J$58/12))+'TCO Calculator'!$J$38","v":125583.33333333333},{"$f":"(A74*('TCO Calculator'!$O$58/12))+'TCO Calculator'!$O$38","v":0}]
[45,3.75,{"$f":"(A75*('TCO Calculator'!$E$58/12))+'TCO Calculator'!$E$38","v":24330.083528652303},{"$f":"(A75*('TCO Calculator'!$J$58/12))+'TCO Calculator'!$J$38","v":128437.5},{"$f":"(A75*('TCO Calculator'!$O$58/12))+'TCO Calculator'!$O$38","v":0}]
[46,3.8333333333333335,{"$f":"(A76*('TCO Calculator'!$E$58/12))+'TCO Calculator'!$E$38","v":24870.752051511241},{"$f":"(A76*('TCO Calculator'!$J$58/12))+'TCO Calculator'!$J$38","v":131291.66666666666},{"$f":"(A76*('TCO Calculator'!$O$58/12))+'TCO Calculator'!$O$38","v":0}]
[47,3.9166666666666665,{"$f":"(A77*('TCO Calculator'!$E$58/12))+'TCO Calculator'!$E$38","v":25411.420574370182},{"$f":"(A77*('TCO Calculator'!$J$58/12))+'TCO Calculator'!$J$38","v":134145.83333333331},{"$f":"(A77*('TCO Calculator'!$O$58/12))+'TCO Calculator'!$O$38","v":0}]
[48,4,{"$f":"(A78*('TCO Calculator'!$E$58/12))+'TCO Calculator'!$E$38","v":25952.089097229124},{"$f":"(A78*('TCO Calculator'!$J$58/12))+'TCO Calculator'!$J$38","v":137000},{"$f":"(A78*('TCO Calculator'!$O$58/12))+'TCO Calculator'!$O$38","v":0}]
[49,4.083333333333333,{"$f":"(A79*('TCO Calculator'!$E$58/12))+'TCO Calculator'!$E$38","v":26492.757620088061},{"$f":"(A79*('TCO Calculator'!$J$58/12))+'TCO Calculator'!$J$38","v":139854.16666666666},{"$f":"(A79*('TCO Calculator'!$O$58/12))+'TCO Calculator'!$O$38","v":0}]
[50,4.166666666666667,{"$f":"(A80*('TCO Calculator'!$E$58/12))+'TCO Calculator'!$E$38","v":27033.426142947003},{"$f":"(A80*('TCO Calculator'!$J$58/12))+'TCO Calculator'!$J$38","v":142708.33333333331},{"$f":"(A80*('TCO Calculator'!$O$58/12))+'TCO Calculator'!$O$38","v":0}]
[51,4.25,{"$f":"(A81*('TCO Calculator'!$E$58/12))+'TCO Calculator'!$E$38","v":27574.09466580594},{"$f":"(A81*('TCO Calculator'!$J$58/12))+'TCO Calculator'!$J$38","v":145562.5},{"$f":"(A81*('TCO Calculator'!$O$58/12))+'TCO Calculator'!$O$38","v":0}]
[52,4.333333333333333,{"$f":"(A82*('TCO Calculator'!$E$58/12))+'TCO Calculator'!$E$38","v":28114.763188664881},{"$f":"(A82*('TCO Calculator'!$J$58/12))+'TCO Calculator'!$J$38","v":148416.66666666666},{"$f":"(A82*('TCO Calculator'!$O$58/12))+'TCO Calculator'!$O$38","v":0}]
[53,4.416666666666667,{"$f":"(A83*('TCO Calculator'!$E$58/12))+'TCO Calculator'!$E$38","v":28655.431711523823},{"$f":"(A83*('TCO Calculator'!$J$58/12))+'TCO Calculator'!$J$38","v":151270.83333333331},{"$f":"(A83*('TCO Calculator'!$O$58/12))+'TCO Calculator'!$O$38","v":0}]
[54,4.5,{"$f":"(A84*('TCO Calculator'!$E$58/12))+'TCO Calculator'!$E$38","v":29196.10023438276},{"$f":"(A84*('TCO Calculator'!$J$58/12))+'TCO Calculator'!$J$38","v":154125},{"$f":"(A84*('TCO Calculator'!$O$58/12))+'TCO Calculator'!$O$38","v":0}]
[55,4.583333333333333,{"$f":"(A85*('TCO Calculator'!$E$58/12))+'TCO Calculator'!$E$38","v":29736.768757241702},{"$f":"(A85*('TCO Calculator'!$J$58/12))+'TCO Calculator'!$J$38","v":156979.16666666666},{"$f":"(A85*('TCO Calculator'!$O$58/12))+'TCO Calculator'!$O$38","v":0}]
[56,4.666666666666667,{"$f":"(A86*('TCO Calculator'!$E$58/12))+'TCO Calculator'!$E$38","v":30277.437280100643},{"$f":"(A86*('TCO Calculator'!$J$58/12))+'TCO Calculator'!$J$38","v":159833.33333333331},{"$f":"(A86*('TCO Calculator'!$O$58/12))+'TCO Calculator'!$O$38","v":0}]
[57,4.75,{"$f":"(A87*('TCO Calculator'!$E$58/12))+'TCO Calculator'!$E$38","v":30818.105802959581},{"$f":"(A87*('TCO Calculator'!$J$58/12))+'TCO Calculator'!$J$38","v":162687.5},{"$f":"(A87*('TCO Calculator'!$O$58/12))+'TCO Calculator'!$O$38","v":0}]
[58,4.833333333333333,{"$f":"(A88*('TCO Calculator'!$E$58/12))+'TCO Calculator'!$E$38","v":31358.774325818522},{"$f":"(A88*('TCO Calculator'!$J$58/12))+'TCO Calculator'!$J$38","v":165541.66666666666},{"$f":"(A88*('TCO Calculator'!$O$58/12))+'TCO Calculator'!$O$38","v":0}]
[59,4.916666666666667,{"$f":"(A89*('TCO Calculator'!$E$58/12))+'TCO Calculator'!$E$38","v":31899.442848677463},{"$f":"(A89*('TCO Calculator'!$J$58/12))+'TCO Calculator'!$J$38","v":168395.83333333331},{"$f":"(A89*('TCO Calculator'!$O$58/12))+'TCO Calculator'!$O$38","v":0}]
[60,5,{"$f":"(A90*('TCO Calculator'!$E$58/12))+'TCO Calculator'!$E$38","v":32440.111371536401},{"$f":"(A90*('TCO Calculator'!$J$58/12))+'TCO Calculator'!$J$38","v":171250},{"$f":"(A90*('TCO Calculator'!$O$58/12))+'TCO Calculator'!$O$38","v":0}]
[61,5.083333333333333,{"$f":"(A91*('TCO Calculator'!$E$58/12))+'TCO Calculator'!$E$38","v":32980.779894395346},{"$f":"(A91*('TCO Calculator'!$J$58/12))+'TCO Calculator'!$J$38","v":174104.16666666666},{"$f":"(A91*('TCO Calculator'!$O$58/12))+'TCO Calculator'!$O$38","v":0}]
[62,5.166666666666667,{"$f":"(A92*('TCO Calculator'!$E$58/12))+'TCO Calculator'!$E$38","v":33521.44841725428},{"$f":"(A92*('TCO Calculator'!$J$58/12))+'TCO Calculator'!$J$38","v":176958.33333333331},{"$f":"(A92*('TCO Calculator'!$O$58/12))+'TCO Calculator'!$O$38","v":0}]
[63,5.25,{"$f":"(A93*('TCO Calculator'!$E$58/12))+'TCO Calculator'!$E$38","v":34062.116940113221},{"$f":"(A93*('TCO Calculator'!$J$58/12))+'TCO Calculator'!$J$38","v":179812.5},{"$f":"(A93*('TCO Calculator'!$O$58/12))+'TCO Calculator'!$O$38","v":0}]
[64,5.333333333333333,{"$f":"(A94*('TCO Calculator'!$E$58/12))+'TCO Calculator'!$E$38","v":34602.785462972162},{"$f":"(A94*('TCO Calculator'!$J$58/12))+'TCO Calculator'!$J$38","v":182666.66666666666},{"$f":"(A94*('TCO Calculator'!$O$58/12))+'TCO Calculator'!$O$38","v":0}]
[65,{"$f":"A95/12","v":5.416666666666667},{"$f":"(A95*('TCO Calculator'!$E$58/12))+'TCO Calculator'!$E$38","v":35143.453985831104},{"$f":"(A95*('TCO Calculator'!$J$58/12))+'TCO Calculator'!$J$38","v":185520.83333333331},{"$f":"(A95*('TCO Calculator'!$O$58/12))+'TCO Calculator'!$O$38","v":0}]
[66,5.5,{"$f":"(A96*('TCO Calculator'!$E$58/12))+'TCO Calculator'!$E$38","v":35684.122508690045},{"$f":"(A96*('TCO Calculator'!$J$58/12))+'TCO Calculator'!$J$38","v":188375},{"$f":"(A96*('TCO Calculator'!$O$58/12))+'TCO Calculator'!$O$38","v":0}]
[67,5.583333333333333,{"$f":"(A97*('TCO Calculator'!$E$58/12))+'TCO Calculator'!$E$38","v":36224.791031548979},{"$f":"(A97*('TCO Calculator'!$J$58/12))+'TCO Calculator'!$J$38","v":191229.16666666666},{"$f":"(A97*('TCO Calculator'!$O$58/12))+'TCO Calculator'!$O$38","v":0}]
[68,5.666666666666667,{"$f":"(A98*('TCO Calculator'!$E$58/12))+'TCO Calculator'!$E$38","v":36765.45955440792},{"$f":"(A98*('TCO Calculator'!$J$58/12))+'TCO Calculator'!$J$38","v":194083.33333333331},{"$f":"(A98*('TCO Calculator'!$O$58/12))+'TCO Calculator'!$O$38","v":0}]
[69,5.75,{"$f":"(A99*('TCO Calculator'!$E$58/12))+'TCO Calculator'!$E$38","v":37306.128077266862},{"$f":"(A99*('TCO Calculator'!$J$58/12))+'TCO Calculator'!$J$38","v":196937.5},{"$f":"(A99*('TCO Calculator'!$O$58/12))+'TCO Calculator'!$O$38","v":0}]
[70,5.833333333333333,{"$f":"(A100*('TCO Calculator'!$E$58/12))+'TCO Calculator'!$E$38","v":37846.796600125803},{"$f":"(A100*('TCO Calculator'!$J$58/12))+'TCO Calculator'!$J$38","v":199791.66666666666},{"$f":"(A100*('TCO Calculator'!$O$58/12))+'TCO Calculator'!$O$38","v":0}]
[71,5.916666666666667,{"$f":"(A101*('TCO Calculator'!$E$58/12))+'TCO Calculator'!$E$38","v":38387.465122984744},{"$f":"(A101*('TCO Calculator'!$J$58/12))+'TCO Calculator'!$J$38","v":202645.83333333331},{"$f":"(A101*('TCO Calculator'!$O$58/12))+'TCO Calculator'!$O$38","v":0}]
[72,6,{"$f":"(A102*('TCO Calculator'!$E$58/12))+'TCO Calculator'!$E$38","v":38928.133645843685},{"$f":"(A102*('TCO Calculator'!$J$58/12))+'TCO Calculator'!$J$38","v":205500},{"$f":"(A102*('TCO Calculator'!$O$58/12))+'TCO Calculator'!$O$38","v":0}]
[73,6.083333333333333,{"$f":"(A103*('TCO Calculator'!$E$58/12))+'TCO Calculator'!$E$38","v":39468.802168702619},{"$f":"(A103*('TCO Calculator'!$J$58/12))+'TCO Calculator'!$J$38","v":208354.16666666666},{"$f":"(A103*('TCO Calculator'!$O$58/12))+'TCO Calculator'!$O$38","v":0}]
[74,6.166666666666667,{"$f":"(A104*('TCO Calculator'!$E$58/12))+'TCO Calculator'!$E$38","v":40009.470691561561},{"$f":"(A104*('TCO Calculator'!$J$58/12))+'TCO Calculator'!$J$38","v":211208.33333333331},{"$f":"(A104*('TCO Calculator'!$O$58/12))+'TCO Calculator'!$O$38","v":0}]
[75,6.25,{"$f":"(A105*('TCO Calculator'!$E$58/12))+'TCO Calculator'!$E$38","v":40550.139214420502},{"$f":"(A105*('TCO Calculator'!$J$58/12))+'TCO Calculator'!$J$38","v":214062.5},{"$f":"(A105*('TCO Calculator'!$O$58/12))+'TCO Calculator'!$O$38","v":0}]
[76,6.333333333333333,{"$f":"(A106*('TCO Calculator'!$E$58/12))+'TCO Calculator'!$E$38","v":41090.807737279443},{"$f":"(A106*('TCO Calculator'!$J$58/12))+'TCO Calculator'!$J$38","v":216916.66666666666},{"$f":"(A106*('TCO Calculator'!$O$58/12))+'TCO Calculator'!$O$38","v":0}]
[77,6.416666666666667,{"$f":"(A107*('TCO Calculator'!$E$58/12))+'TCO Calculator'!$E$38","v":41631.476260138385},{"$f":"(A107*('TCO Calculator'!$J$58/12))+'TCO Calculator'!$J$38","v":219770.83333333331},{"$f":"(A107*('TCO Calculator'!$O$58/12))+'TCO Calculator'!$O$38","v":0}]
[78,6.5,{"$f":"(A108*('TCO Calculator'!$E$58/12))+'TCO Calculator'!$E$38","v":42172.144782997326},{"$f":"(A108*('TCO Calculator'!$J$58/12))+'TCO Calculator'!$J$38","v":222625},{"$f":"(A108*('TCO Calculator'!$O$58/12))+'TCO Calculator'!$O$38","v":0}]
[79,6.583333333333333,{"$f":"(A109*('TCO Calculator'!$E$58/12))+'TCO Calculator'!$E$38","v":42712.81330585626},{"$f":"(A109*('TCO Calculator'!$J$58/12))+'TCO Calculator'!$J$38","v":225479.16666666666},{"$f":"(A109*('TCO Calculator'!$O$58/12))+'TCO Calculator'!$O$38","v":0}]
[80,6.666666666666667,{"$f":"(A110*('TCO Calculator'!$E$58/12))+'TCO Calculator'!$E$38","v":43253.481828715201},{"$f":"(A110*('TCO Calculator'!$J$58/12))+'TCO Calculator'!$J$38","v":228333.33333333331},{"$f":"(A110*('TCO Calculator'!$O$58/12))+'TCO Calculator'!$O$38","v":0}]
[81,6.75,{"$f":"(A111*('TCO Calculator'!$E$58/12))+'TCO Calculator'!$E$38","v":43794.150351574142},{"$f":"(A111*('TCO Calculator'!$J$58/12))+'TCO Calculator'!$J$38","v":231187.5},{"$f":"(A111*('TCO Calculator'!$O$58/12))+'TCO Calculator'!$O$38","v":0}]
[82,6.833333333333333,{"$f":"(A112*('TCO Calculator'!$E$58/12))+'TCO Calculator'!$E$38","v":44334.818874433084},{"$f":"(A112*('TCO Calculator'!$J$58/12))+'TCO Calculator'!$J$38","v":234041.66666666666},{"$f":"(A112*('TCO Calculator'!$O$58/12))+'TCO Calculator'!$O$38","v":0}]
[83,6.916666666666667,{"$f":"(A113*('TCO Calculator'!$E$58/12))+'TCO Calculator'!$E$38","v":44875.487397292025},{"$f":"(A113*('TCO Calculator'!$J$58/12))+'TCO Calculator'!$J$38","v":236895.83333333331},{"$f":"(A113*('TCO Calculator'!$O$58/12))+'TCO Calculator'!$O$38","v":0}]
[84,7,{"$f":"(A114*('TCO Calculator'!$E$58/12))+'TCO Calculator'!$E$38","v":45416.155920150966},{"$f":"(A114*('TCO Calculator'!$J$58/12))+'TCO Calculator'!$J$38","v":239750},{"$f":"(A114*('TCO Calculator'!$O$58/12))+'TCO Calculator'!$O$38","v":0}]
[85,7.083333333333333,{"$f":"(A115*('TCO Calculator'!$E$58/12))+'TCO Calculator'!$E$38","v":45956.8244430099},{"$f":"(A115*('TCO Calculator'!$J$58/12))+'TCO Calculator'!$J$38","v":242604.16666666666},{"$f":"(A115*('TCO Calculator'!$O$58/12))+'TCO Calculator'!$O$38","v":0}]
[86,7.166666666666667,{"$f":"(A116*('TCO Calculator'!$E$58/12))+'TCO Calculator'!$E$38","v":46497.492965868842},{"$f":"(A116*('TCO Calculator'!$J$58/12))+'TCO Calculator'!$J$38","v":245458.33333333331},{"$f":"(A116*('TCO Calculator'!$O$58/12))+'TCO Calculator'!$O$38","v":0}]
[87,7.25,{"$f":"(A117*('TCO Calculator'!$E$58/12))+'TCO Calculator'!$E$38","v":47038.161488727783},{"$f":"(A117*('TCO Calculator'!$J$58/12))+'TCO Calculator'!$J$38","v":248312.5},{"$f":"(A117*('TCO Calculator'!$O$58/12))+'TCO Calculator'!$O$38","v":0}]
[88,7.333333333333333,{"$f":"(A118*('TCO Calculator'!$E$58/12))+'TCO Calculator'!$E$38","v":47578.830011586724},{"$f":"(A118*('TCO Calculator'!$J$58/12))+'TCO Calculator'!$J$38","v":251166.66666666666},{"$f":"(A118*('TCO Calculator'!$O$58/12))+'TCO Calculator'!$O$38","v":0}]
[89,7.416666666666667,{"$f":"(A119*('TCO Calculator'!$E$58/12))+'TCO Calculator'!$E$38","v":48119.498534445665},{"$f":"(A119*('TCO Calculator'!$J$58/12))+'TCO Calculator'!$J$38","v":254020.83333333331},{"$f":"(A119*('TCO Calculator'!$O$58/12))+'TCO Calculator'!$O$38","v":0}]
[90,7.5,{"$f":"(A120*('TCO Calculator'!$E$58/12))+'TCO Calculator'!$E$38","v":48660.167057304607},{"$f":"(A120*('TCO Calculator'!$J$58/12))+'TCO Calculator'!$J$38","v":256875},{"$f":"(A120*('TCO Calculator'!$O$58/12))+'TCO Calculator'!$O$38","v":0}]
[91,7.583333333333333,{"$f":"(A121*('TCO Calculator'!$E$58/12))+'TCO Calculator'!$E$38","v":49200.835580163541},{"$f":"(A121*('TCO Calculator'!$J$58/12))+'TCO Calculator'!$J$38","v":259729.16666666666},{"$f":"(A121*('TCO Calculator'!$O$58/12))+'TCO Calculator'!$O$38","v":0}]
[92,7.666666666666667,{"$f":"(A122*('TCO Calculator'!$E$58/12))+'TCO Calculator'!$E$38","v":49741.504103022482},{"$f":"(A122*('TCO Calculator'!$J$58/12))+'TCO Calculator'!$J$38","v":262583.33333333331},{"$f":"(A122*('TCO Calculator'!$O$58/12))+'TCO Calculator'!$O$38","v":0}]
[93,7.75,{"$f":"(A123*('TCO Calculator'!$E$58/12))+'TCO Calculator'!$E$38","v":50282.172625881423},{"$f":"(A123*('TCO Calculator'!$J$58/12))+'TCO Calculator'!$J$38","v":265437.5},{"$f":"(A123*('TCO Calculator'!$O$58/12))+'TCO Calculator'!$O$38","v":0}]
[94,7.833333333333333,{"$f":"(A124*('TCO Calculator'!$E$58/12))+'TCO Calculator'!$E$38","v":50822.841148740365},{"$f":"(A124*('TCO Calculator'!$J$58/12))+'TCO Calculator'!$J$38","v":268291.66666666663},{"$f":"(A124*('TCO Calculator'!$O$58/12))+'TCO Calculator'!$O$38","v":0}]
[95,7.916666666666667,{"$f":"(A125*('TCO Calculator'!$E$58/12))+'TCO Calculator'!$E$38","v":51363.509671599306},{"$f":"(A125*('TCO Calculator'!$J$58/12))+'TCO Calculator'!$J$38","v":271145.83333333331},{"$f":"(A125*('TCO Calculator'!$O$58/12))+'TCO Calculator'!$O$38","v":0}]
[96,8,{"$f":"(A126*('TCO Calculator'!$E$58/12))+'TCO Calculator'!$E$38","v":51904.178194458247},{"$f":"(A126*('TCO Calculator'!$J$58/12))+'TCO Calculator'!$J$38","v":274000},{"$f":"(A126*('TCO Calculator'!$O$58/12))+'TCO Calculator'!$O$38","v":0}]
[97,{"$f":"A127/12","v":8.0833333333333339},{"$f":"(A127*('TCO Calculator'!$E$58/12))+'TCO Calculator'!$E$38","v":52444.846717317181},{"$f":"(A127*('TCO Calculator'!$J$58/12))+'TCO Calculator'!$J$38","v":276854.16666666663},{"$f":"(A127*('TCO Calculator'!$O$58/12))+'TCO Calculator'!$O$38","v":0}]
[98,8.1666666666666661,{"$f":"(A128*('TCO Calculator'!$E$58/12))+'TCO Calculator'!$E$38","v":52985.515240176122},{"$f":"(A128*('TCO Calculator'!$J$58/12))+'TCO Calculator'!$J$38","v":279708.33333333331},{"$f":"(A128*('TCO Calculator'!$O$58/12))+'TCO Calculator'!$O$38","v":0}]
[99,8.25,{"$f":"(A129*('TCO Calculator'!$E$58/12))+'TCO Calculator'!$E$38","v":53526.183763035064},{"$f":"(A129*('TCO Calculator'!$J$58/12))+'TCO Calculator'!$J$38","v":282562.5},{"$f":"(A129*('TCO Calculator'!$O$58/12))+'TCO Calculator'!$O$38","v":0}]
[100,8.3333333333333339,{"$f":"(A130*('TCO Calculator'!$E$58/12))+'TCO Calculator'!$E$38","v":54066.852285894005},{"$f":"(A130*('TCO Calculator'!$J$58/12))+'TCO Calculator'!$J$38","v":285416.66666666663},{"$f":"(A130*('TCO Calculator'!$O$58/12))+'TCO Calculator'!$O$38","v":0}]
[101,8.4166666666666661,{"$f":"(A131*('TCO Calculator'!$E$58/12))+'TCO Calculator'!$E$38","v":54607.520808752946},{"$f":"(A131*('TCO Calculator'!$J$58/12))+'TCO Calculator'!$J$38","v":288270.83333333331},{"$f":"(A131*('TCO Calculator'!$O$58/12))+'TCO Calculator'!$O$38","v":0}]
[102,8.5,{"$f":"(A132*('TCO Calculator'!$E$58/12))+'TCO Calculator'!$E$38","v":55148.18933161188},{"$f":"(A132*('TCO Calculator'!$J$58/12))+'TCO Calculator'!$J$38","v":291125},{"$f":"(A132*('TCO Calculator'!$O$58/12))+'TCO Calculator'!$O$38","v":0}]
[103,8.5833333333333339,{"$f":"(A133*('TCO Calculator'!$E$58/12))+'TCO Calculator'!$E$38","v":55688.857854470822},{"$f":"(A133*('TCO Calculator'!$J$58/12))+'TCO Calculator'!$J$38","v":293979.16666666663},{"$f":"(A133*('TCO Calculator'!$O$58/12))+'TCO Calculator'!$O$38","v":0}]
[104,8.6666666666666661,{"$f":"(A134*('TCO Calculator'!$E$58/12))+'TCO Calculator'!$E$38","v":56229.526377329763},{"$f":"(A134*('TCO Calculator'!$J$58/12))+'TCO Calculator'!$J$38","v":296833.33333333331},{"$f":"(A134*('TCO Calculator'!$O$58/12))+'TCO Calculator'!$O$38","v":0}]
[105,8.75,{"$f":"(A135*('TCO Calculator'!$E$58/12))+'TCO Calculator'!$E$38","v":56770.194900188704},{"$f":"(A135*('TCO Calculator'!$J$58/12))+'TCO Calculator'!$J$38","v":299687.5},{"$f":"(A135*('TCO Calculator'!$O$58/12))+'TCO Calculator'!$O$38","v":0}]
[106,8.8333333333333339,{"$f":"(A136*('TCO Calculator'!$E$58/12))+'TCO Calculator'!$E$38","v":57310.863423047645},{"$f":"(A136*('TCO Calculator'!$J$58/12))+'TCO Calculator'!$J$38","v":302541.66666666663},{"$f":"(A136*('TCO Calculator'!$O$58/12))+'TCO Calculator'!$O$38","v":0}]
[107,8.9166666666666661,{"$f":"(A137*('TCO Calculator'!$E$58/12))+'TCO Calculator'!$E$38","v":57851.531945906587},{"$f":"(A137*('TCO Calculator'!$J$58/12))+'TCO Calculator'!$J$38","v":305395.83333333331},{"$f":"(A137*('TCO Calculator'!$O$58/12))+'TCO Calculator'!$O$38","v":0}]
[108,9,{"$f":"(A138*('TCO Calculator'!$E$58/12))+'TCO Calculator'!$E$38","v":58392.200468765521},{"$f":"(A138*('TCO Calculator'!$J$58/12))+'TCO Calculator'!$J$38","v":308250},{"$f":"(A138*('TCO Calculator'!$O$58/12))+'TCO Calculator'!$O$38","v":0}]
[109,9.0833333333333339,{"$f":"(A139*('TCO Calculator'!$E$58/12))+'TCO Calculator'!$E$38","v":58932.868991624462},{"$f":"(A139*('TCO Calculator'!$J$58/12))+'TCO Calculator'!$J$38","v":311104.16666666663},{"$f":"(A139*('TCO Calculator'!$O$58/12))+'TCO Calculator'!$O$38","v":0}]
[110,9.1666666666666661,{"$f":"(A140*('TCO Calculator'!$E$58/12))+'TCO Calculator'!$E$38","v":59473.537514483403},{"$f":"(A140*('TCO Calculator'!$J$58/12))+'TCO Calculator'!$J$38","v":313958.33333333331},{"$f":"(A140*('TCO Calculator'!$O$58/12))+'TCO Calculator'!$O$38","v":0}]
[111,9.25,{"$f":"(A141*('TCO Calculator'!$E$58/12))+'TCO Calculator'!$E$38","v":60014.206037342345},{"$f":"(A141*('TCO Calculator'!$J$58/12))+'TCO Calculator'!$J$38","v":316812.5},{"$f":"(A141*('TCO Calculator'!$O$58/12))+'TCO Calculator'!$O$38","v":0}]
[112,9.3333333333333339,{"$f":"(A142*('TCO Calculator'!$E$58/12))+'TCO Calculator'!$E$38","v":60554.874560201286},{"$f":"(A142*('TCO Calculator'!$J$58/12))+'TCO Calculator'!$J$38","v":319666.66666666663},{"$f":"(A142*('TCO Calculator'!$O$58/12))+'TCO Calculator'!$O$38","v":0}]
[113,9.4166666666666661,{"$f":"(A143*('TCO Calculator'!$E$58/12))+'TCO Calculator'!$E$38","v":61095.543083060227},{"$f":"(A143*('TCO Calculator'!$J$58/12))+'TCO Calculator'!$J$38","v":322520.83333333331},{"$f":"(A143*('TCO Calculator'!$O$58/12))+'TCO Calculator'!$O$38","v":0}]
[114,9.5,{"$f":"(A144*('TCO Calculator'!$E$58/12))+'TCO Calculator'!$E$38","v":61636.211605919161},{"$f":"(A144*('TCO Calculator'!$J$58/12))+'TCO Calculator'!$J$38","v":325375},{"$f":"(A144*('TCO Calculator'!$O$58/12))+'TCO Calculator'!$O$38","v":0}]
[115,9.5833333333333339,{"$f":"(A145*('TCO Calculator'!$E$58/12))+'TCO Calculator'!$E$38","v":62176.880128778103},{"$f":"(A145*('TCO Calculator'!$J$58/12))+'TCO Calculator'!$J$38","v":328229.16666666663},{"$f":"(A145*('TCO Calculator'!$O$58/12))+'TCO Calculator'!$O$38","v":0}]
[116,9.6666666666666661,{"$f":"(A146*('TCO Calculator'!$E$58/12))+'TCO Calculator'!$E$38","v":62717.548651637044},{"$f":"(A146*('TCO Calculator'!$J$58/12))+'TCO Calculator'!$J$38","v":331083.33333333331},{"$f":"(A146*('TCO Calculator'!$O$58/12))+'TCO Calculator'!$O$38","v":0}]
[117,9.75,{"$f":"(A147*('TCO Calculator'!$E$58/12))+'TCO Calculator'!$E$38","v":63258.217174495985},{"$f":"(A147*('TCO Calculator'!$J$58/12))+'TCO Calculator'!$J$38","v":333937.5},{"$f":"(A147*('TCO Calculator'!$O$58/12))+'TCO Calculator'!$O$38","v":0}]
[118,9.8333333333333339,{"$f":"(A148*('TCO Calculator'!$E$58/12))+'TCO Calculator'!$E$38","v":63798.885697354926},{"$f":"(A148*('TCO Calculator'!$J$58/12))+'TCO Calculator'!$J$38","v":336791.66666666663},{"$f":"(A148*('TCO Calculator'!$O$58/12))+'TCO Calculator'!$O$38","v":0}]
[119,9.9166666666666661,{"$f":"(A149*('TCO Calculator'!$E$58/12))+'TCO Calculator'!$E$38","v":64339.554220213868},{"$f":"(A149*('TCO Calculator'!$J$58/12))+'TCO Calculator'!$J$38","v":339645.83333333331},{"$f":"(A149*('TCO Calculator'!$O$58/12))+'TCO Calculator'!$O$38","v":0}]
[120,10,{"$f":"(A150*('TCO Calculator'!$E$58/12))+'TCO Calculator'!$E$38","v":64880.222743072802},{"$f":"(A150*('TCO Calculator'!$J$58/12))+'TCO Calculator'!$J$38","v":342500},{"$f":"(A150*('TCO Calculator'!$O$58/12))+'TCO Calculator'!$O$38","v":0}]

{"sheet":"Capacities generators","index":7,"n_rows":446,"n_cols":65,"rows_kept":446,"cut":false,"hidden":true,"merged":[]}
[null,null,"At 20°C",null,"Minimum nitrogen flow rate in m3/hr",null,null,null,null,null,null,null,null,null,null,null,null,null,null,"Feed-air consumption at minimal nitrogen flow rate in m3/hr",null,null,null,null,null,null,null,null,null,null,null,null,null,null,null,"Air factor",null,null,null,null,null,null,null,null,null,null,null,null,null,null,"Generator output pressure"]
[null,"Generator","Feed-air pressure bar(g)","generator and pressure","5ppm","10ppm","50ppm","100ppm","250ppm","500ppm",1E-3,4.0000000000000001E-3,5.0000000000000001E-3,0.01,0.02,0.03,0.04,0.05,null,null,"5ppm","10ppm","50ppm","100ppm","250ppm","500ppm",1E-3,4.0000000000000001E-3,5.0000000000000001E-3,0.01,0.02,0.03,0.04,0.05," ","5ppm","10ppm","50ppm","100ppm","250ppm","500ppm",1E-3,4.0000000000000001E-3,5.0000000000000001E-3,0.01,0.02,0.03,0.04,0.05,null,"generator and pressure","5ppm","10ppm","50ppm","100ppm","250ppm","500ppm",1E-3,4.0000000000000001E-3,5.0000000000000001E-3,0.01,0.02,0.03,0.04,0.05]
[null,"MIDIGAS 2",{"$f":"S3/10","v":0},"MIDIGAS 26",null,0.5,null,1.1000000000000001,1.2,1.7,2.1,null,3,3.8,5.0999999999999996,6.3,7.4,8.3000000000000007,null,"MIDIGAS 26",{"$error":"#VALUE!"},4.5999999999999996,{"$error":"#VALUE!"},6.8,6.5,8,8.1999999999999993,{"$error":"#VALUE!"},9.6,11,12.8,14.5,16.3,17.399999999999999,null,"N/A",9.1999999999999993,"N/A",6.2,5.4,4.7,3.9,"N/A",3.2,2.9,2.5,2.2999999999999998,2.2000000000000002,2.1,null,"MIDIGAS 26",null,4.8,null,4.8,5.0999999999999996,5,4.9000000000000004,null,4.9000000000000004,5.0999999999999996,5,5,4.9000000000000004,4.8]
[null,"MIDIGAS 2",7,"MIDIGAS 27",null,0.6,null,1.2,1.5,1.9,2.4,null,3.4,4.3,5.8,7.2,8.4,9.4,null,"MIDIGAS 27",{"$error":"#VALUE!"},5.8,{"$error":"#VALUE!"},7.8,8.4,9.3000000000000007,9.4,{"$error":"#VALUE!"},10.9,12.5,14.5,16.600000000000001,18.5,19.7,null,"N/A",9.6,"N/A",6.5,5.6,4.9000000000000004,3.9,"N/A",3.2,2.9,2.5,2.2999999999999998,2.2000000000000002,2.1,null,"MIDIGAS 27",null,5.6,null,5.4,5.9,5.7,5.6,null,5.7,6,6,5.8,5.7,5.6]
[null,"MIDIGAS 2",8,"MIDIGAS 28",null,0.6,null,1.2,1.5,1.9,2.6,null,3.7,4.7,6.4,7.9,9.1999999999999993,10.3,null,"MIDIGAS 28",{"$error":"#VALUE!"},6.1,{"$error":"#VALUE!"},8.3000000000000007,8.9,9.9,10.1,{"$error":"#VALUE!"},11.8,13.6,16,18.2,20.2,21.6,null,"N/A",10.1,"N/A",6.9,5.9,5.2,3.9,"N/A",3.2,2.9,2.5,2.2999999999999998,2.2000000000000002,2.1,null,"MIDIGAS 28",null,6.6,null,6.1,6.6,6.4,6,null,6.4,6.6,6.5,6.4,6.2,6]
[null,"MIDIGAS 2",9,"MIDIGAS 29",null,0.6,null,1.2,1.5,1.9,2.9,null,4.0999999999999996,5.2,7,8.6,10.1,11.3,null,"MIDIGAS 29",{"$error":"#VALUE!"},6.2,{"$error":"#VALUE!"},8.5,9.1999999999999993,10.1,11.6,{"$error":"#VALUE!"},13.5,15.6,18.2,19.8,22.2,23.7,null,"N/A",10.4,"N/A",7.1,6.1,5.3,4,"N/A",3.3,3,2.6,2.2999999999999998,2.2000000000000002,2.1,null,"MIDIGAS 29",null,7.2,null,6.7,7.1,6.9,6.6,null,6.7,7.8,7.3,7.4,6.8,6.9]
[null,"MIDIGAS 2",10,"MIDIGAS 210",null,0.6,null,1.2,1.5,1.9,3,null,4.3,5.4,7.3,9,10.5,11.8,null,"MIDIGAS 210",{"$error":"#VALUE!"},6.4,{"$error":"#VALUE!"},8.6,9.3000000000000007,10.3,12,{"$error":"#VALUE!"},14.2,16.2,19,21.6,24.2,26,null,"N/A",10.7,"N/A",7.2,6.2,5.4,4,"N/A",3.3,3,2.6,2.4,2.2999999999999998,2.2000000000000002,null,"MIDIGAS 210",null,7.6,null,7.2,7.7,7.4,6.8,null,7,8.4,8.1,7.8,7.6,7.3]
[null,"MIDIGAS 2",11,"MIDIGAS 211",null,null,null,null,null,null,3.1,null,4.5,5.6,7.6,9.4,11,12.3,null,"MIDIGAS 211",{"$error":"#VALUE!"},{"$error":"#VALUE!"},{"$error":"#VALUE!"},{"$error":"#VALUE!"},{"$error":"#VALUE!"},{"$error":"#VALUE!"},12.7,{"$error":"#VALUE!"},15.3,16.8,19.8,22.6,25.3,27.1,null,"N/A","N/A","N/A","N/A","N/A","N/A",4.0999999999999996,"N/A",3.4,3,2.6,2.4,2.2999999999999998,2.2000000000000002,null,"MIDIGAS 211",null,null,null,null,null,null,9.4,null,8.8000000000000007,9.8000000000000007,9.1,9.5,8.6999999999999993,9]
[null,"MIDIGAS 2",12,"MIDIGAS 212",null,null,null,null,null,null,3.2,null,4.5999999999999996,5.8,7.8,9.6,11.3,12.6,null,"MIDIGAS 212",{"$error":"#VALUE!"},{"$error":"#VALUE!"},{"$error":"#VALUE!"},{"$error":"#VALUE!"},{"$error":"#VALUE!"},{"$error":"#VALUE!"},13.4,{"$error":"#VALUE!"},16.100000000000001,18,21.1,24,27.1,29,null,"N/A","N/A","N/A","N/A","N/A","N/A",4.2,"N/A",3.5,3.1,2.7,2.5,2.4,2.2999999999999998,null,"MIDIGAS 212",null,null,null,null,null,null,9.8000000000000007,null,8.9,10.199999999999999,10,9.6999999999999993,9.6,9.4]
[null,"MIDIGAS 2",13,"MIDIGAS 213",null,null,null,null,null,null,3.3,null,4.5999999999999996,5.8,7.9,9.8000000000000007,11.4,12.8,null,"MIDIGAS 213",{"$error":"#VALUE!"},{"$error":"#VALUE!"},{"$error":"#VALUE!"},{"$error":"#VALUE!"},{"$error":"#VALUE!"},{"$error":"#VALUE!"},14.5,{"$error":"#VALUE!"},16.600000000000001,18.600000000000001,22.1,25.5,28.5,30.7,null,"N/A","N/A","N/A","N/A","N/A","N/A",4.4000000000000004,"N/A",3.6,3.2,2.8,2.6,2.5,2.4,null,"MIDIGAS 213",null,null,null,null,null,null,10.6,null,9.3000000000000007,11,10.6,10.4,9.9,9.8000000000000007]
[null,"MIDIGAS 4",6,"MIDIGAS 46",null,1.1000000000000001,null,2.1,2.8,3.4,4.0999999999999996,null,6.1,7.5,10.199999999999999,12.6,14.7,16.5,null,"MIDIGAS 46",{"$error":"#VALUE!"},10.1,{"$error":"#VALUE!"},13,15.1,16,16,{"$error":"#VALUE!"},19.5,21.8,25.5,29,32.299999999999997,34.700000000000003,null,"N/A",9.1999999999999993,"N/A",6.2,5.4,4.7,3.9,"N/A",3.2,2.9,2.5,2.2999999999999998,2.2000000000000002,2.1,null,"MIDIGAS 46",null,4.8,null,4.8,5.0999999999999996,5,4.9000000000000004,null,4.9000000000000004,5.0999999999999996,5,5,4.9000000000000004,4.8]
[null,"MIDIGAS 4",7,"MIDIGAS 47",null,1.2,null,2.4,3.2,3.9,4.7,null,6.9,8.5,11.6,14.3,16.7,18.8,null,"MIDIGAS 47",{"$error":"#VALUE!"},11.5,{"$error":"#VALUE!"},15.6,17.899999999999999,19.100000000000001,18.3,{"$error":"#VALUE!"},22.1,24.7,29,32.9,36.700000000000003,39.5,null,"N/A",9.6,"N/A",6.5,5.6,4.9000000000000004,3.9,"N/A",3.2,2.9,2.5,2.2999999999999998,2.2000000000000002,2.1,null,"MIDIGAS 47",null,5.6,null,5.4,5.9,5.7,5.6,null,5.7,6,6,5.8,5.7,5.6]
[null,"MIDIGAS 4",8,"MIDIGAS 48",null,1.2,null,2.4,3.2,3.9,5.2,null,7.6,9.4,12.8,15.7,18.399999999999999,20.7,null,"MIDIGAS 48",{"$error":"#VALUE!"},12.1,{"$error":"#VALUE!"},16.600000000000001,18.899999999999999,20.3,20.3,{"$error":"#VALUE!"},24.3,27.3,32,36.1,40.5,43.5,null,"N/A",10.1,"N/A",6.9,5.9,5.2,3.9,"N/A",3.2,2.9,2.5,2.2999999999999998,2.2000000000000002,2.1,null,"MIDIGAS 48",null,6.6,null,6.1,6.6,6.4,6,null,6.4,6.6,6.5,6.4,6.2,6]
[null,"MIDIGAS 4",9,"MIDIGAS 49",null,1.2,null,2.4,3.2,3.9,5.6,null,8.3000000000000007,10.199999999999999,13.9,17.2,20,22.6,null,"MIDIGAS 49",{"$error":"#VALUE!"},12.5,{"$error":"#VALUE!"},17,19.5,20.7,22.4,{"$error":"#VALUE!"},27.4,30.6,36.1,39.6,44,47.5,null,"N/A",10.4,"N/A",7.1,6.1,5.3,4,"N/A",3.3,3,2.6,2.2999999999999998,2.2000000000000002,2.1,null,"MIDIGAS 49",null,7.2,null,6.7,7.1,6.9,6.6,null,6.7,7.8,7.3,7.4,6.8,6.9]
[null,"MIDIGAS 4",10,"MIDIGAS 410",null,1.2,null,2.4,3.2,3.9,5.9,null,8.6,10.6,14.5,17.899999999999999,20.9,23.5,null,"MIDIGAS 410",{"$error":"#VALUE!"},12.8,{"$error":"#VALUE!"},17.3,19.8,21.1,23.6,{"$error":"#VALUE!"},28.4,31.8,37.700000000000003,43,48.1,51.7,null,"N/A",10.7,"N/A",7.2,6.2,5.4,4,"N/A",3.3,3,2.6,2.4,2.2999999999999998,2.2000000000000002,null,"MIDIGAS 410",null,7.6,null,7.2,7.7,7.4,6.8,null,7,8.4,8.1,7.8,7.6,7.3]
[null,"MIDIGAS 4",11,"MIDIGAS 411",null,null,null,null,null,null,6.2,null,9,11.1,15.2,18.7,21.9,24.6,null,"MIDIGAS 411",{"$error":"#VALUE!"},{"$error":"#VALUE!"},{"$error":"#VALUE!"},{"$error":"#VALUE!"},{"$error":"#VALUE!"},{"$error":"#VALUE!"},25.4,{"$error":"#VALUE!"},30.6,33.299999999999997,39.5,44.9,50.4,54.1,null,"N/A","N/A","N/A","N/A","N/A","N/A",4.0999999999999996,"N/A",3.4,3,2.6,2.4,2.2999999999999998,2.2000000000000002,null,"MIDIGAS 411",null,null,null,null,null,null,9.4,null,8.8000000000000007,9.8000000000000007,9.1,9.5,8.6999999999999993,9]
[null,"MIDIGAS 4",12,"MIDIGAS 412",null,null,null,null,null,null,6.3,null,9.1999999999999993,11.4,15.5,19.2,22.4,25.2,null,"MIDIGAS 412",{"$error":"#VALUE!"},{"$error":"#VALUE!"},{"$error":"#VALUE!"},{"$error":"#VALUE!"},{"$error":"#VALUE!"},{"$error":"#VALUE!"},26.5,{"$error":"#VALUE!"},32.200000000000003,35.299999999999997,41.9,48,53.8,58,null,"N/A","N/A","N/A","N/A","N/A","N/A",4.2,"N/A",3.5,3.1,2.7,2.5,2.4,2.2999999999999998,null,"MIDIGAS 412",null,null,null,null,null,null,9.8000000000000007,null,8.9,10.199999999999999,10,9.6999999999999993,9.6,9.4]
[null,"MIDIGAS 4",13,"MIDIGAS 413",null,null,null,null,null,null,6.4,null,9.4,11.6,15.8,19.399999999999999,22.7,25.6,null,"MIDIGAS 413",{"$error":"#VALUE!"},{"$error":"#VALUE!"},{"$error":"#VALUE!"},{"$error":"#VALUE!"},{"$error":"#VALUE!"},{"$error":"#VALUE!"},28.2,{"$error":"#VALUE!"},33.799999999999997,37.1,44.2,50.4,56.8,61.4,null,"N/A","N/A","N/A","N/A","N/A","N/A",4.4000000000000004,"N/A",3.6,3.2,2.8,2.6,2.5,2.4,null,"MIDIGAS 413",null,null,null,null,null,null,10.6,null,9.3000000000000007,11,10.6,10.4,9.9,9.8000000000000007]
[null,"MIDIGAS 6",6,"MIDIGAS 66",null,1.3,null,2.8,3.7,4.7,5.7,null,8.4,10.1,13.4,16.5,19.100000000000001,21.6,null,"MIDIGAS 66",{"$error":"#VALUE!"},12,{"$error":"#VALUE!"},17.399999999999999,20,22.1,22.2,{"$error":"#VALUE!"},26.9,29.3,33.5,38,42,45.4,null,"N/A",9.1999999999999993,"N/A",6.2,5.4,4.7,3.9,"N/A",3.2,2.9,2.5,2.2999999999999998,2.2000000000000002,2.1,null,"MIDIGAS 66",null,4.8,null,4.8,5.0999999999999996,5,4.9000000000000004,null,4.9000000000000004,5.0999999999999996,5,5,4.9000000000000004,4.8]
[null,"MIDIGAS 6",7,"MIDIGAS 67",null,1.5,null,3.2,4.2,5.3,6.5,null,9.5,11.5,15.2,18.7,21.7,24.5,null,"MIDIGAS 67",{"$error":"#VALUE!"},14.4,{"$error":"#VALUE!"},20.8,23.5,26,25.4,{"$error":"#VALUE!"},30.4,33.4,38,43,47.7,51.5,null,"N/A",9.6,"N/A",6.5,5.6,4.9000000000000004,3.9,"N/A",3.2,2.9,2.5,2.2999999999999998,2.2000000000000002,2.1,null,"MIDIGAS 67",null,5.6,null,5.4,5.9,5.7,5.6,null,5.7,6,6,5.8,5.7,5.6]
[null,"MIDIGAS 6",8,"MIDIGAS 68",null,1.5,null,3.2,4.2,5.3,7.2,null,10.5,12.7,16.7,20.6,23.9,27,null,"MIDIGAS 68",{"$error":"#VALUE!"},15.2,{"$error":"#VALUE!"},22.1,24.8,27.6,28.1,{"$error":"#VALUE!"},33.6,36.799999999999997,41.8,47.4,52.6,56.7,null,"N/A",10.1,"N/A",6.9,5.9,5.2,3.9,"N/A",3.2,2.9,2.5,2.2999999999999998,2.2000000000000002,2.1,null,"MIDIGAS 68",null,6.6,null,6.1,6.6,6.4,6,null,6.4,6.6,6.5,6.4,6.2,6]
[null,"MIDIGAS 6",9,"MIDIGAS 69",null,1.5,null,3.2,4.2,5.3,7.8,null,11.4,13.8,18.2,22.4,26,29.4,null,"MIDIGAS 69",{"$error":"#VALUE!"},15.6,{"$error":"#VALUE!"},22.7,25.6,28.1,31.2,{"$error":"#VALUE!"},37.6,41.4,47.3,51.5,57.2,61.7,null,"N/A",10.4,"N/A",7.1,6.1,5.3,4,"N/A",3.3,3,2.6,2.2999999999999998,2.2000000000000002,2.1,null,"MIDIGAS 69",null,7.2,null,6.7,7.1,6.9,6.6,null,6.7,7.8,7.3,7.4,6.8,6.9]
[null,"MIDIGAS 6",10,"MIDIGAS 610",null,1.5,null,3.2,4.2,5.3,8.1,null,11.9,14.4,19,23.4,27.1,30.6,null,"MIDIGAS 610",{"$error":"#VALUE!"},16.100000000000001,{"$error":"#VALUE!"},23,26,28.6,32.4,{"$error":"#VALUE!"},39.299999999999997,43.2,49.4,56.2,62.3,67.3,null,"N/A",10.7,"N/A",7.2,6.2,5.4,4,"N/A",3.3,3,2.6,2.4,2.2999999999999998,2.2000000000000002,null,"MIDIGAS 610",null,7.6,null,7.2,7.7,7.4,6.8,null,7,8.4,8.1,7.8,7.6,7.3]
[null,"MIDIGAS 6",11,"MIDIGAS 611",null,null,null,null,null,null,8.5,null,12.4,15.1,19.899999999999999,24.5,28.4,32.1,null,"MIDIGAS 611",{"$error":"#VALUE!"},{"$error":"#VALUE!"},{"$error":"#VALUE!"},{"$error":"#VALUE!"},{"$error":"#VALUE!"},{"$error":"#VALUE!"},34.9,{"$error":"#VALUE!"},42.2,45.3,51.7,58.8,65.3,70.599999999999994,null,"N/A","N/A","N/A","N/A","N/A","N/A",4.0999999999999996,"N/A",3.4,3,2.6,2.4,2.2999999999999998,2.2000000000000002,null,"MIDIGAS 611",null,null,null,null,null,null,9.4,null,8.8000000000000007,9.8000000000000007,9.1,9.5,8.6999999999999993,9]
[null,"MIDIGAS 6",12,"MIDIGAS 612",null,null,null,null,null,null,8.6999999999999993,null,12.7,15.4,20.399999999999999,25.1,29.1,32.799999999999997,null,"MIDIGAS 612",{"$error":"#VALUE!"},{"$error":"#VALUE!"},{"$error":"#VALUE!"},{"$error":"#VALUE!"},{"$error":"#VALUE!"},{"$error":"#VALUE!"},36.5,{"$error":"#VALUE!"},44.5,47.7,55.1,62.8,69.8,75.400000000000006,null,"N/A","N/A","N/A","N/A","N/A","N/A",4.2,"N/A",3.5,3.1,2.7,2.5,2.4,2.2999999999999998,null,"MIDIGAS 612",null,null,null,null,null,null,9.8000000000000007,null,8.9,10.199999999999999,10,9.6999999999999993,9.6,9.4]
[null,"MIDIGAS 6",13,"MIDIGAS 613",null,null,null,null,null,null,8.8000000000000007,null,12.9,15.6,20.7,25.4,29.5,33.299999999999997,null,"MIDIGAS 613",{"$error":"#VALUE!"},{"$error":"#VALUE!"},{"$error":"#VALUE!"},{"$error":"#VALUE!"},{"$error":"#VALUE!"},{"$error":"#VALUE!"},38.700000000000003,{"$error":"#VALUE!"},46.4,49.9,58,66,73.8,79.900000000000006,null,"N/A","N/A","N/A","N/A","N/A","N/A",4.4000000000000004,"N/A",3.6,3.2,2.8,2.6,2.5,2.4,null,"MIDIGAS 613",null,null,null,null,null,null,10.6,null,9.3000000000000007,11,10.6,10.4,9.9,9.8000000000000007]
[null,"Nitroflow HP1",5,"Nitroflow HP15",null,null,null,null,null,null,null,null,1.1000000000000001,1.6,2.5,3.3,4.0999999999999996,4.9000000000000004,null,"Nitroflow HP15",{"$error":"#VALUE!"},{"$error":"#VALUE!"},{"$error":"#VALUE!"},{"$error":"#VALUE!"},{"$error":"#VALUE!"},{"$error":"#VALUE!"},{"$error":"#VALUE!"},{"$error":"#VALUE!"},9.4,9.6,10.8,11.6,12.3,13.7,null,"N/A","N/A","N/A","N/A","N/A","N/A","N/A","N/A",8.5,6,4.3,3.5,3,2.8,null,"Nitroflow HP15"]
[null,"Nitroflow HP1",6,"Nitroflow HP16",null,null,null,null,null,null,null,null,1.4,2,4,4,5,6,null,"Nitroflow HP16",{"$error":"#VALUE!"},{"$error":"#VALUE!"},{"$error":"#VALUE!"},{"$error":"#VALUE!"},{"$error":"#VALUE!"},{"$error":"#VALUE!"},{"$error":"#VALUE!"},{"$error":"#VALUE!"},11.9,12,17.2,14,15,15.6,null,"N/A","N/A","N/A","N/A","N/A","N/A","N/A","N/A",8.5,6,4.3,3.5,3,2.6,null,"Nitroflow HP16"]
[null,"Nitroflow HP1",7,"Nitroflow HP17",null,null,null,null,null,null,null,null,1.7,2.5,3.8,5,6.3,7.5,null,"Nitroflow HP17",{"$error":"#VALUE!"},{"$error":"#VALUE!"},{"$error":"#VALUE!"},{"$error":"#VALUE!"},{"$error":"#VALUE!"},{"$error":"#VALUE!"},{"$error":"#VALUE!"},{"$error":"#VALUE!"},14.5,15,16.3,17.5,18.899999999999999,19.5,null,"N/A","N/A","N/A","N/A","N/A","N/A","N/A","N/A",8.5,6,4.3,3.5,3,2.6,null,"Nitroflow HP17"]
[null,"Nitroflow HP1",8,"Nitroflow HP18",null,null,null,null,null,null,null,null,2,2.9,4.4000000000000004,5.8,7.2,8.6,null,"Nitroflow HP18",{"$error":"#VALUE!"},{"$error":"#VALUE!"},{"$error":"#VALUE!"},{"$error":"#VALUE!"},{"$error":"#VALUE!"},{"$error":"#VALUE!"},{"$error":"#VALUE!"},{"$error":"#VALUE!"},17,17.399999999999999,18.899999999999999,20.3,21.6,22.4,null,"N/A","N/A","N/A","N/A","N/A","N/A","N/A","N/A",8.5,6,4.3,3.5,3,2.6,null,"Nitroflow HP18"]
[null,"Nitroflow HP1",9,"Nitroflow HP19",null,null,null,null,null,null,null,null,2.2000000000000002,3.3,4.9000000000000004,6.5,8.1999999999999993,9.8000000000000007,null,"Nitroflow HP19",{"$error":"#VALUE!"},{"$error":"#VALUE!"},{"$error":"#VALUE!"},{"$error":"#VALUE!"},{"$error":"#VALUE!"},{"$error":"#VALUE!"},{"$error":"#VALUE!"},{"$error":"#VALUE!"},18.7,19.8,21.1,22.8,24.6,25.5,null,"N/A","N/A","N/A","N/A","N/A","N/A","N/A","N/A",8.5,6,4.3,3.5,3,2.6,null,"Nitroflow HP19"]
[null,"Nitroflow HP1",10,"Nitroflow HP110",null,null,null,null,null,null,null,null,2.6,3.8,5.7,7.5,9.5,11.3,null,"Nitroflow HP110",{"$error":"#VALUE!"},{"$error":"#VALUE!"},{"$error":"#VALUE!"},{"$error":"#VALUE!"},{"$error":"#VALUE!"},{"$error":"#VALUE!"},{"$error":"#VALUE!"},{"$error":"#VALUE!"},22.1,22.8,24.5,26.3,28.5,29.4,null,"N/A","N/A","N/A","N/A","N/A","N/A","N/A","N/A",8.5,6,4.3,3.5,3,2.6,null,"Nitroflow HP110"]
[null,"Nitroflow HP1",11,"Nitroflow HP111",null,null,null,null,null,null,null,null,2.8,4.0999999999999996,6.3,8.3000000000000007,10.4,12.4,null,"Nitroflow HP111",{"$error":"#VALUE!"},{"$error":"#VALUE!"},{"$error":"#VALUE!"},{"$error":"#VALUE!"},{"$error":"#VALUE!"},{"$error":"#VALUE!"},{"$error":"#VALUE!"},{"$error":"#VALUE!"},23.8,24.6,27.1,29.1,31.2,32.200000000000003,null,"N/A","N/A","N/A","N/A","N/A","N/A","N/A","N/A",8.5,6,4.3,3.5,3,2.6,null,"Nitroflow HP111"]
[null,"Nitroflow HP1",12,"Nitroflow HP112",null,null,null,null,null,null,null,null,3.1,4.5,6.8,9,11.3,13.5,null,"Nitroflow HP112",{"$error":"#VALUE!"},{"$error":"#VALUE!"},{"$error":"#VALUE!"},{"$error":"#VALUE!"},{"$error":"#VALUE!"},{"$error":"#VALUE!"},{"$error":"#VALUE!"},{"$error":"#VALUE!"},26.4,27,29.2,31.5,33.9,35.1,null,"N/A","N/A","N/A","N/A","N/A","N/A","N/A","N/A",8.5,6,4.3,3.5,3,2.6,null,"Nitroflow HP112"]
[null,"Nitroflow HP1",13,"Nitroflow HP113",null,null,null,null,null,null,null,null,3.3,5,7.6,10,12.6,15,null,"Nitroflow HP113",{"$error":"#VALUE!"},{"$error":"#VALUE!"},{"$error":"#VALUE!"},{"$error":"#VALUE!"},{"$error":"#VALUE!"},{"$error":"#VALUE!"},{"$error":"#VALUE!"},{"$error":"#VALUE!"},28.1,30,32.700000000000003,35,37.799999999999997,40.5,null,"N/A","N/A","N/A","N/A","N/A","N/A","N/A","N/A",8.5,6,4.3,3.5,3,2.7,null,"Nitroflow HP113"]
[null,"Nitroflow HP2",5,"Nitroflow HP25",null,null,null,null,null,null,null,null,2.2000000000000002,3.3,4.9000000000000004,6.5,8.1999999999999993,9.8000000000000007,null,"Nitroflow HP25",{"$error":"#VALUE!"},{"$error":"#VALUE!"},{"$error":"#VALUE!"},{"$error":"#VALUE!"},{"$error":"#VALUE!"},{"$error":"#VALUE!"},{"$error":"#VALUE!"},{"$error":"#VALUE!"},18.7,19.8,21.1,22.8,24.6,27.4,null,"N/A","N/A","N/A","N/A","N/A","N/A","N/A","N/A",8.5,6,4.3,3.5,3,2.8,null,"Nitroflow HP25"]
[null,"Nitroflow HP2",6,"Nitroflow HP26",null,null,null,null,null,null,null,null,2.7,4,6.1,8,10.1,12,null,"Nitroflow HP26",{"$error":"#VALUE!"},{"$error":"#VALUE!"},{"$error":"#VALUE!"},{"$error":"#VALUE!"},{"$error":"#VALUE!"},{"$error":"#VALUE!"},{"$error":"#VALUE!"},{"$error":"#VALUE!"},23,24,26.2,28,30.3,31.2,null,"N/A","N/A","N/A","N/A","N/A","N/A","N/A","N/A",8.5,6,4.3,3.5,3,2.6,null,"Nitroflow HP26"]
[null,"Nitroflow HP2",7,"Nitroflow HP27",null,null,null,null,null,null,null,null,3.4,5,7.6,10,12.6,15,null,"Nitroflow HP27",{"$error":"#VALUE!"},{"$error":"#VALUE!"},{"$error":"#VALUE!"},{"$error":"#VALUE!"},{"$error":"#VALUE!"},{"$error":"#VALUE!"},{"$error":"#VALUE!"},{"$error":"#VALUE!"},28.9,30,32.700000000000003,35,37.799999999999997,39,null,"N/A","N/A","N/A","N/A","N/A","N/A","N/A","N/A",8.5,6,4.3,3.5,3,2.6,null,"Nitroflow HP27"]
[null,"Nitroflow HP2",8,"Nitroflow HP28",null,null,null,null,null,null,null,null,3.9,5.8,8.6999999999999993,11.5,14.5,17.3,null,"Nitroflow HP28",{"$error":"#VALUE!"},{"$error":"#VALUE!"},{"$error":"#VALUE!"},{"$error":"#VALUE!"},{"$error":"#VALUE!"},{"$error":"#VALUE!"},{"$error":"#VALUE!"},{"$error":"#VALUE!"},33.200000000000003,34.799999999999997,37.4,40.299999999999997,43.5,45,null,"N/A","N/A","N/A","N/A","N/A","N/A","N/A","N/A",8.5,6,4.3,3.5,3,2.6,null,"Nitroflow HP28"]
[null,"Nitroflow HP2",9,"Nitroflow HP29",null,null,null,null,null,null,null,null,4.4000000000000004,6.5,9.9,13,16.399999999999999,19.5,null,"Nitroflow HP29",{"$error":"#VALUE!"},{"$error":"#VALUE!"},{"$error":"#VALUE!"},{"$error":"#VALUE!"},{"$error":"#VALUE!"},{"$error":"#VALUE!"},{"$error":"#VALUE!"},{"$error":"#VALUE!"},37.4,39,42.6,45.5,49.2,50.7,null,"N/A","N/A","N/A","N/A","N/A","N/A","N/A","N/A",8.5,6,4.3,3.5,3,2.6,null,"Nitroflow HP29"]
[null,"Nitroflow HP2",10,"Nitroflow HP210",null,null,null,null,null,null,null,null,5.0999999999999996,7.5,11.4,15,18.899999999999999,22.5,null,"Nitroflow HP210",{"$error":"#VALUE!"},{"$error":"#VALUE!"},{"$error":"#VALUE!"},{"$error":"#VALUE!"},{"$error":"#VALUE!"},{"$error":"#VALUE!"},{"$error":"#VALUE!"},{"$error":"#VALUE!"},43.4,45,49,52.5,56.7,58.5,null,"N/A","N/A","N/A","N/A","N/A","N/A","N/A","N/A",8.5,6,4.3,3.5,3,2.6,null,"Nitroflow HP210"]
[null,"Nitroflow HP2",11,"Nitroflow HP211",null,null,null,null,null,null,null,null,5.6,8.3000000000000007,12.5,16.5,20.8,24.8,null,"Nitroflow HP211",{"$error":"#VALUE!"},{"$error":"#VALUE!"},{"$error":"#VALUE!"},{"$error":"#VALUE!"},{"$error":"#VALUE!"},{"$error":"#VALUE!"},{"$error":"#VALUE!"},{"$error":"#VALUE!"},47.6,49.8,53.8,57.8,62.4,64.5,null,"N/A","N/A","N/A","N/A","N/A","N/A","N/A","N/A",8.5,6,4.3,3.5,3,2.6,null,"Nitroflow HP211"]
[null,"Nitroflow HP2",12,"Nitroflow HP212",null,null,null,null,null,null,null,null,6.1,9,13.7,18,22.7,27,null,"Nitroflow HP212",{"$error":"#VALUE!"},{"$error":"#VALUE!"},{"$error":"#VALUE!"},{"$error":"#VALUE!"},{"$error":"#VALUE!"},{"$error":"#VALUE!"},{"$error":"#VALUE!"},{"$error":"#VALUE!"},51.9,54,58.9,63,68.099999999999994,70.2,null,"N/A","N/A","N/A","N/A","N/A","N/A","N/A","N/A",8.5,6,4.3,3.5,3,2.6,null,"Nitroflow HP212"]
[null,"Nitroflow HP2",13,"Nitroflow HP213",null,null,null,null,null,null,null,null,6.8,10,15.2,20,25.2,30,null,"Nitroflow HP213",{"$error":"#VALUE!"},{"$error":"#VALUE!"},{"$error":"#VALUE!"},{"$error":"#VALUE!"},{"$error":"#VALUE!"},{"$error":"#VALUE!"},{"$error":"#VALUE!"},{"$error":"#VALUE!"},57.8,60,65.400000000000006,70,75.599999999999994,81,null,"N/A","N/A","N/A","N/A","N/A","N/A","N/A","N/A",8.5,6,4.3,3.5,3,2.7,null,"Nitroflow HP213"]
[null,"Nitroflow HP3",5,"Nitroflow HP35",null,null,null,null,null,null,null,null,3.3,4.9000000000000004,7.4,9.8000000000000007,12.3,14.6,null,"Nitroflow HP35",{"$error":"#VALUE!"},{"$error":"#VALUE!"},{"$error":"#VALUE!"},{"$error":"#VALUE!"},{"$error":"#VALUE!"},{"$error":"#VALUE!"},{"$error":"#VALUE!"},{"$error":"#VALUE!"},28.1,29.4,31.8,34.299999999999997,36.9,40.9,null,"N/A","N/A","N/A","N/A","N/A","N/A","N/A","N/A",8.5,6,4.3,3.5,3,2.8,null,"Nitroflow HP35"]
[null,"Nitroflow HP3",6,"Nitroflow HP36",null,null,null,null,null,null,null,null,4.0999999999999996,6,9.1,12,15.1,18,null,"Nitroflow HP36",{"$error":"#VALUE!"},{"$error":"#VALUE!"},{"$error":"#VALUE!"},{"$error":"#VALUE!"},{"$error":"#VALUE!"},{"$error":"#VALUE!"},{"$error":"#VALUE!"},{"$error":"#VALUE!"},34.9,36,39.1,42,45.3,46.8,null,"N/A","N/A","N/A","N/A","N/A","N/A","N/A","N/A",8.5,6,4.3,3.5,3,2.6,null,"Nitroflow HP36"]
[null,"Nitroflow HP3",7,"Nitroflow HP37",null,null,null,null,null,null,null,null,5.0999999999999996,7.5,11.4,15,18.899999999999999,22.5,null,"Nitroflow HP37",{"$error":"#VALUE!"},{"$error":"#VALUE!"},{"$error":"#VALUE!"},{"$error":"#VALUE!"},{"$error":"#VALUE!"},{"$error":"#VALUE!"},{"$error":"#VALUE!"},{"$error":"#VALUE!"},43.4,45,49,52.5,56.7,58.5,null,"N/A","N/A","N/A","N/A","N/A","N/A","N/A","N/A",8.5,6,4.3,3.5,3,2.6,null,"Nitroflow HP37"]
[null,"Nitroflow HP3",8,"Nitroflow HP38",null,null,null,null,null,null,null,null,5.9,8.6,13.1,17.3,21.7,25.9,null,"Nitroflow HP38",{"$error":"#VALUE!"},{"$error":"#VALUE!"},{"$error":"#VALUE!"},{"$error":"#VALUE!"},{"$error":"#VALUE!"},{"$error":"#VALUE!"},{"$error":"#VALUE!"},{"$error":"#VALUE!"},50.2,51.6,56.3,60.6,65.099999999999994,67.3,null,"N/A","N/A","N/A","N/A","N/A","N/A","N/A","N/A",8.5,6,4.3,3.5,3,2.6,null,"Nitroflow HP38"]
[null,"Nitroflow HP3",9,"Nitroflow HP39",null,null,null,null,null,null,null,null,6.6,9.8000000000000007,14.8,19.5,24.6,29.3,null,"Nitroflow HP39",{"$error":"#VALUE!"},{"$error":"#VALUE!"},{"$error":"#VALUE!"},{"$error":"#VALUE!"},{"$error":"#VALUE!"},{"$error":"#VALUE!"},{"$error":"#VALUE!"},{"$error":"#VALUE!"},56.1,58.8,63.6,68.3,73.8,76.2,null,"N/A","N/A","N/A","N/A","N/A","N/A","N/A","N/A",8.5,6,4.3,3.5,3,2.6,null,"Nitroflow HP39"]
[null,"Nitroflow HP3",10,"Nitroflow HP310",null,null,null,null,null,null,null,null,7.7,11.3,17.100000000000001,22.5,28.4,33.799999999999997,null,"Nitroflow HP310",{"$error":"#VALUE!"},{"$error":"#VALUE!"},{"$error":"#VALUE!"},{"$error":"#VALUE!"},{"$error":"#VALUE!"},{"$error":"#VALUE!"},{"$error":"#VALUE!"},{"$error":"#VALUE!"},65.5,67.8,73.5,78.8,85.2,87.9,null,"N/A","N/A","N/A","N/A","N/A","N/A","N/A","N/A",8.5,6,4.3,3.5,3,2.6,null,"Nitroflow HP310"]
[null,"Nitroflow HP3",11,"Nitroflow HP311",null,null,null,null,null,null,null,null,8.4,12.4,18.8,24.8,31.2,37.1,null,"Nitroflow HP311",{"$error":"#VALUE!"},{"$error":"#VALUE!"},{"$error":"#VALUE!"},{"$error":"#VALUE!"},{"$error":"#VALUE!"},{"$error":"#VALUE!"},{"$error":"#VALUE!"},{"$error":"#VALUE!"},71.400000000000006,74.400000000000006,80.8,86.8,93.6,96.5,null,"N/A","N/A","N/A","N/A","N/A","N/A","N/A","N/A",8.5,6,4.3,3.5,3,2.6,null,"Nitroflow HP311"]
[null,"Nitroflow HP3",12,"Nitroflow HP312",null,null,null,null,null,null,null,null,9.1999999999999993,13.5,20.5,27,34,40.5,null,"Nitroflow HP312",{"$error":"#VALUE!"},{"$error":"#VALUE!"},{"$error":"#VALUE!"},{"$error":"#VALUE!"},{"$error":"#VALUE!"},{"$error":"#VALUE!"},{"$error":"#VALUE!"},{"$error":"#VALUE!"},78.2,81,88.2,94.5,102,105.3,null,"N/A","N/A","N/A","N/A","N/A","N/A","N/A","N/A",8.5,6,4.3,3.5,3,2.6,null,"Nitroflow HP312"]
[null,"Nitroflow HP3",13,"Nitroflow HP313",null,null,null,null,null,null,null,null,10.199999999999999,15,22.8,30,37.799999999999997,45,null,"Nitroflow HP313",{"$error":"#VALUE!"},{"$error":"#VALUE!"},{"$error":"#VALUE!"},{"$error":"#VALUE!"},{"$error":"#VALUE!"},{"$error":"#VALUE!"},{"$error":"#VALUE!"},{"$error":"#VALUE!"},86.7,90,98,105,113.4,121.5,null,"N/A","N/A","N/A","N/A","N/A","N/A","N/A","N/A",8.5,6,4.3,3.5,3,2.7,null,"Nitroflow HP313"]
[null,"Nitrosource Main",4,"Nitrosource Main4",null,null,null,null,null,null,null,null,2.1,3.3,5.7,7.7,9.8000000000000007,11.9,null,"Nitrosource Main4",{"$error":"#VALUE!"},{"$error":"#VALUE!"},{"$error":"#VALUE!"},{"$error":"#VALUE!"},{"$error":"#VALUE!"},{"$error":"#VALUE!"},{"$error":"#VALUE!"},{"$error":"#VALUE!"},17.899999999999999,19.8,24.5,27,29.4,33.299999999999997,null,"N/A","N/A","N/A","N/A","N/A","N/A","N/A","N/A",8.5,6,4.3,3.5,3,2.8,null,"Nitrosource Main4"]
[null,"Nitrosource Main",5,"Nitrosource Main5",null,null,null,null,null,null,null,null,3.1,4.8,8.3000000000000007,11.2,14.3,17.3,null,"Nitrosource Main5",{"$error":"#VALUE!"},{"$error":"#VALUE!"},{"$error":"#VALUE!"},{"$error":"#VALUE!"},{"$error":"#VALUE!"},{"$error":"#VALUE!"},{"$error":"#VALUE!"},{"$error":"#VALUE!"},26.4,28.8,35.700000000000003,39.200000000000003,42.9,48.4,null,"N/A","N/A","N/A","N/A","N/A","N/A","N/A","N/A",8.5,6,4.3,3.5,3,2.8,null,"Nitrosource Main5"]
[null,"Nitrosource Main",6,"Nitrosource Main6",null,null,null,null,null,null,null,null,4.5999999999999996,7.1,12.3,16.7,21.3,25.8,null,"Nitrosource Main6",{"$error":"#VALUE!"},{"$error":"#VALUE!"},{"$error":"#VALUE!"},{"$error":"#VALUE!"},{"$error":"#VALUE!"},{"$error":"#VALUE!"},{"$error":"#VALUE!"},{"$error":"#VALUE!"},39.1,42.6,52.9,58.5,63.9,67.099999999999994,null,"N/A","N/A","N/A","N/A","N/A","N/A","N/A","N/A",8.5,6,4.3,3.5,3,2.6,null,"Nitrosource Main6"]
[null,"Nitrosource Main",7,"Nitrosource Main7",null,null,null,null,null,null,null,null,6,9.4,16.2,22,28,34,null,"Nitrosource Main7",{"$error":"#VALUE!"},{"$error":"#VALUE!"},{"$error":"#VALUE!"},{"$error":"#VALUE!"},{"$error":"#VALUE!"},{"$error":"#VALUE!"},{"$error":"#VALUE!"},{"$error":"#VALUE!"},51,56.4,69.7,77,84,88.4,null,"N/A","N/A","N/A","N/A","N/A","N/A","N/A","N/A",8.5,6,4.3,3.5,3,2.6,null,"Nitrosource Main7"]
[null,"Nitrosource Main",8,"Nitrosource Main8",null,null,null,null,null,null,null,null,7.2,11.3,19.399999999999999,26.4,33.6,40.799999999999997,null,"Nitrosource Main8",{"$error":"#VALUE!"},{"$error":"#VALUE!"},{"$error":"#VALUE!"},{"$error":"#VALUE!"},{"$error":"#VALUE!"},{"$error":"#VALUE!"},{"$error":"#VALUE!"},{"$error":"#VALUE!"},61.2,67.8,83.4,92.4,100.8,106.1,null,"N/A","N/A","N/A","N/A","N/A","N/A","N/A","N/A",8.5,6,4.3,3.5,3,2.6,null,"Nitrosource Main8"]
[null,"Nitrosource Main",9,"Nitrosource Main9",null,null,null,null,null,null,null,null,8.4,13.2,22.7,30.8,39.200000000000003,47.6,null,"Nitrosource Main9",{"$error":"#VALUE!"},{"$error":"#VALUE!"},{"$error":"#VALUE!"},{"$error":"#VALUE!"},{"$error":"#VALUE!"},{"$error":"#VALUE!"},{"$error":"#VALUE!"},{"$error":"#VALUE!"},71.400000000000006,79.2,97.6,107.8,117.6,123.8,null,"N/A","N/A","N/A","N/A","N/A","N/A","N/A","N/A",8.5,6,4.3,3.5,3,2.6,null,"Nitrosource Main9"]
[null,"Nitrosource Main",10,"Nitrosource Main10",null,null,null,null,null,null,null,null,9.6,15,25.9,35.200000000000003,44.8,54.4,null,"Nitrosource Main10",{"$error":"#VALUE!"},{"$error":"#VALUE!"},{"$error":"#VALUE!"},{"$error":"#VALUE!"},{"$error":"#VALUE!"},{"$error":"#VALUE!"},{"$error":"#VALUE!"},{"$error":"#VALUE!"},81.599999999999994,90,111.4,123.2,134.4,141.4,null,"N/A","N/A","N/A","N/A","N/A","N/A","N/A","N/A",8.5,6,4.3,3.5,3,2.6,null,"Nitrosource Main10"]
[null,"Nitrosource Main",11,"Nitrosource Main11",null,null,null,null,null,null,null,null,11.4,17.899999999999999,30.8,41.8,53.2,64.599999999999994,null,"Nitrosource Main11",{"$error":"#VALUE!"},{"$error":"#VALUE!"},{"$error":"#VALUE!"},{"$error":"#VALUE!"},{"$error":"#VALUE!"},{"$error":"#VALUE!"},{"$error":"#VALUE!"},{"$error":"#VALUE!"},96.9,107.4,132.4,146.30000000000001,159.6,168,null,"N/A","N/A","N/A","N/A","N/A","N/A","N/A","N/A",8.5,6,4.3,3.5,3,2.6,null,"Nitrosource Main11"]
[null,"Nitrosource Main",12,"Nitrosource Main12",null,null,null,null,null,null,null,null,12.6,19.7,34,46.2,58.8,71.400000000000006,null,"Nitrosource Main12",{"$error":"#VALUE!"},{"$error":"#VALUE!"},{"$error":"#VALUE!"},{"$error":"#VALUE!"},{"$error":"#VALUE!"},{"$error":"#VALUE!"},{"$error":"#VALUE!"},{"$error":"#VALUE!"},107.1,118.2,146.19999999999999,161.69999999999999,176.4,185.6,null,"N/A","N/A","N/A","N/A","N/A","N/A","N/A","N/A",8.5,6,4.3,3.5,3,2.6,null,"Nitrosource Main12"]
[null,"Nitrosource Main",13,"Nitrosource Main13",null,null,null,null,null,null,null,null,14.4,22.6,38.9,52.8,67.2,81.599999999999994,null,"Nitrosource Main13",{"$error":"#VALUE!"},{"$error":"#VALUE!"},{"$error":"#VALUE!"},{"$error":"#VALUE!"},{"$error":"#VALUE!"},{"$error":"#VALUE!"},{"$error":"#VALUE!"},{"$error":"#VALUE!"},122.4,135.6,167.3,184.8,201.6,220.3,null,"N/A","N/A","N/A","N/A","N/A","N/A","N/A","N/A",8.5,6,4.3,3.5,3,2.7,null,"Nitrosource Main13"]
[null,"Nitrosource Main + 1 Sub",4,"Nitrosource Main + 1 Sub4",null,null,null,null,null,null,null,null,4.2,6.6,11.3,15.4,19.600000000000001,23.8,null,"Nitrosource Main + 1 Sub4",{"$error":"#VALUE!"},{"$error":"#VALUE!"},{"$error":"#VALUE!"},{"$error":"#VALUE!"},{"$error":"#VALUE!"},{"$error":"#VALUE!"},{"$error":"#VALUE!"},{"$error":"#VALUE!"},35.700000000000003,39.6,48.6,53.9,58.8,66.599999999999994,null,"N/A","N/A","N/A","N/A","N/A","N/A","N/A","N/A",8.5,6,4.3,3.5,3,2.8,null,"Nitrosource Main + 1 Sub4"]
[null,"Nitrosource Main + 1 Sub",5,"Nitrosource Main + 1 Sub5",null,null,null,null,null,null,null,null,6.1,9.6,16.5,22.4,28.6,34.700000000000003,null,"Nitrosource Main + 1 Sub5",{"$error":"#VALUE!"},{"$error":"#VALUE!"},{"$error":"#VALUE!"},{"$error":"#VALUE!"},{"$error":"#VALUE!"},{"$error":"#VALUE!"},{"$error":"#VALUE!"},{"$error":"#VALUE!"},51.9,57.6,71,78.400000000000006,85.8,97.2,null,"N/A","N/A","N/A","N/A","N/A","N/A","N/A","N/A",8.5,6,4.3,3.5,3,2.8,null,"Nitrosource Main + 1 Sub5"]
[null,"Nitrosource Main + 1 Sub",6,"Nitrosource Main + 1 Sub6",null,null,null,null,null,null,null,null,9.1,14.3,24.6,33.4,42.6,51.7,null,"Nitrosource Main + 1 Sub6",{"$error":"#VALUE!"},{"$error":"#VALUE!"},{"$error":"#VALUE!"},{"$error":"#VALUE!"},{"$error":"#VALUE!"},{"$error":"#VALUE!"},{"$error":"#VALUE!"},{"$error":"#VALUE!"},77.400000000000006,85.8,105.8,116.9,127.8,134.4,null,"N/A","N/A","N/A","N/A","N/A","N/A","N/A","N/A",8.5,6,4.3,3.5,3,2.6,null,"Nitrosource Main + 1 Sub6"]
[null,"Nitrosource Main + 1 Sub",7,"Nitrosource Main + 1 Sub7",null,null,null,null,null,null,null,null,12,18.8,32.4,44,56,68,null,"Nitrosource Main + 1 Sub7",{"$error":"#VALUE!"},{"$error":"#VALUE!"},{"$error":"#VALUE!"},{"$error":"#VALUE!"},{"$error":"#VALUE!"},{"$error":"#VALUE!"},{"$error":"#VALUE!"},{"$error":"#VALUE!"},102,112.8,139.30000000000001,154,168,176.8,null,"N/A","N/A","N/A","N/A","N/A","N/A","N/A","N/A",8.5,6,4.3,3.5,3,2.6,null,"Nitrosource Main + 1 Sub7"]
[null,"Nitrosource Main + 1 Sub",8,"Nitrosource Main + 1 Sub8",null,null,null,null,null,null,null,null,14.4,22.6,38.9,52.8,67.2,81.599999999999994,null,"Nitrosource Main + 1 Sub8",{"$error":"#VALUE!"},{"$error":"#VALUE!"},{"$error":"#VALUE!"},{"$error":"#VALUE!"},{"$error":"#VALUE!"},{"$error":"#VALUE!"},{"$error":"#VALUE!"},{"$error":"#VALUE!"},122.4,135.6,167.3,184.8,201.6,212.2,null,"N/A","N/A","N/A","N/A","N/A","N/A","N/A","N/A",8.5,6,4.3,3.5,3,2.6,null,"Nitrosource Main + 1 Sub8"]
[null,"Nitrosource Main + 1 Sub",9,"Nitrosource Main + 1 Sub9",null,null,null,null,null,null,null,null,16.8,26.3,45.4,61.6,78.400000000000006,95.2,null,"Nitrosource Main + 1 Sub9",{"$error":"#VALUE!"},{"$error":"#VALUE!"},{"$error":"#VALUE!"},{"$error":"#VALUE!"},{"$error":"#VALUE!"},{"$error":"#VALUE!"},{"$error":"#VALUE!"},{"$error":"#VALUE!"},142.80000000000001,157.80000000000001,195.2,215.6,235.2,247.5,null,"N/A","N/A","N/A","N/A","N/A","N/A","N/A","N/A",8.5,6,4.3,3.5,3,2.6,null,"Nitrosource Main + 1 Sub9"]
[null,"Nitrosource Main + 1 Sub",10,"Nitrosource Main + 1 Sub10",null,null,null,null,null,null,null,null,19.2,30.1,51.8,70.400000000000006,89.6,109,null,"Nitrosource Main + 1 Sub10",{"$error":"#VALUE!"},{"$error":"#VALUE!"},{"$error":"#VALUE!"},{"$error":"#VALUE!"},{"$error":"#VALUE!"},{"$error":"#VALUE!"},{"$error":"#VALUE!"},{"$error":"#VALUE!"},163.19999999999999,180.6,222.7,246.4,268.8,283.39999999999998,null,"N/A","N/A","N/A","N/A","N/A","N/A","N/A","N/A",8.5,6,4.3,3.5,3,2.6,null,"Nitrosource Main + 1 Sub10"]
[null,"Nitrosource Main + 1 Sub",11,"Nitrosource Main + 1 Sub11",null,null,null,null,null,null,null,null,22.8,35.700000000000003,61.6,83.6,106,129,null,"Nitrosource Main + 1 Sub11",{"$error":"#VALUE!"},{"$error":"#VALUE!"},{"$error":"#VALUE!"},{"$error":"#VALUE!"},{"$error":"#VALUE!"},{"$error":"#VALUE!"},{"$error":"#VALUE!"},{"$error":"#VALUE!"},193.8,214.2,264.89999999999998,292.60000000000002,318,335.4,null,"N/A","N/A","N/A","N/A","N/A","N/A","N/A","N/A",8.5,6,4.3,3.5,3,2.6,null,"Nitrosource Main + 1 Sub11"]
[null,"Nitrosource Main + 1 Sub",12,"Nitrosource Main + 1 Sub12",null,null,null,null,null,null,null,null,25.2,39,68,92.4,118,143,null,"Nitrosource Main + 1 Sub12",{"$error":"#VALUE!"},{"$error":"#VALUE!"},{"$error":"#VALUE!"},{"$error":"#VALUE!"},{"$error":"#VALUE!"},{"$error":"#VALUE!"},{"$error":"#VALUE!"},{"$error":"#VALUE!"},214.2,234,292.39999999999998,323.39999999999998,354,371.8,null,"N/A","N/A","N/A","N/A","N/A","N/A","N/A","N/A",8.5,6,4.3,3.5,3,2.6,null,"Nitrosource Main + 1 Sub12"]
[null,"Nitrosource Main + 1 Sub",13,"Nitrosource Main + 1 Sub13",null,null,null,null,null,null,null,null,28.8,45.1,77.8,106,134,163,null,"Nitrosource Main + 1 Sub13",{"$error":"#VALUE!"},{"$error":"#VALUE!"},{"$error":"#VALUE!"},{"$error":"#VALUE!"},{"$error":"#VALUE!"},{"$error":"#VALUE!"},{"$error":"#VALUE!"},{"$error":"#VALUE!"},244.8,270.60000000000002,334.5,371,402,440.1,null,"N/A","N/A","N/A","N/A","N/A","N/A","N/A","N/A",8.5,6,4.3,3.5,3,2.7,null,"Nitrosource Main + 1 Sub13"]
[null,"Nitrosource Main + 2 Subs",4,"Nitrosource Main + 2 Subs4",null,null,null,null,null,null,null,null,6.3,9.9,17,23.1,29.4,35.700000000000003,null,"Nitrosource Main + 2 Subs4",{"$error":"#VALUE!"},{"$error":"#VALUE!"},{"$error":"#VALUE!"},{"$error":"#VALUE!"},{"$error":"#VALUE!"},{"$error":"#VALUE!"},{"$error":"#VALUE!"},{"$error":"#VALUE!"},53.6,59.4,73.099999999999994,80.900000000000006,88.2,100,null,"N/A","N/A","N/A","N/A","N/A","N/A","N/A","N/A",8.5,6,4.3,3.5,3,2.8,null,"Nitrosource Main + 2 Subs4"]
[null,"Nitrosource Main + 2 Subs",5,"Nitrosource Main + 2 Subs5",null,null,null,null,null,null,null,null,9.1999999999999993,14.4,24.8,33.700000000000003,42.8,52,null,"Nitrosource Main + 2 Subs5",{"$error":"#VALUE!"},{"$error":"#VALUE!"},{"$error":"#VALUE!"},{"$error":"#VALUE!"},{"$error":"#VALUE!"},{"$error":"#VALUE!"},{"$error":"#VALUE!"},{"$error":"#VALUE!"},78.2,86.4,106.6,118,128.4,145.6,null,"N/A","N/A","N/A","N/A","N/A","N/A","N/A","N/A",8.5,6,4.3,3.5,3,2.8,null,"Nitrosource Main + 2 Subs5"]
[null,"Nitrosource Main + 2 Subs",6,"Nitrosource Main + 2 Subs6",null,null,null,null,null,null,null,null,13.7,21.4,36.9,50.2,63.8,77.5,null,"Nitrosource Main + 2 Subs6",{"$error":"#VALUE!"},{"$error":"#VALUE!"},{"$error":"#VALUE!"},{"$error":"#VALUE!"},{"$error":"#VALUE!"},{"$error":"#VALUE!"},{"$error":"#VALUE!"},{"$error":"#VALUE!"},116.5,128.4,158.69999999999999,175.7,191.4,201.5,null,"N/A","N/A","N/A","N/A","N/A","N/A","N/A","N/A",8.5,6,4.3,3.5,3,2.6,null,"Nitrosource Main + 2 Subs6"]
[null,"Nitrosource Main + 2 Subs",7,"Nitrosource Main + 2 Subs7",null,null,null,null,null,null,null,null,18,28.2,48.6,66,84,102,null,"Nitrosource Main + 2 Subs7",{"$error":"#VALUE!"},{"$error":"#VALUE!"},{"$error":"#VALUE!"},{"$error":"#VALUE!"},{"$error":"#VALUE!"},{"$error":"#VALUE!"},{"$error":"#VALUE!"},{"$error":"#VALUE!"},153,169.2,209,231,252,265.2,null,"N/A","N/A","N/A","N/A","N/A","N/A","N/A","N/A",8.5,6,4.3,3.5,3,2.6,null,"Nitrosource Main + 2 Subs7"]
[null,"Nitrosource Main + 2 Subs",8,"Nitrosource Main + 2 Subs8",null,null,null,null,null,null,null,null,21.6,33.799999999999997,58.3,79.2,101,122,null,"Nitrosource Main + 2 Subs8",{"$error":"#VALUE!"},{"$error":"#VALUE!"},{"$error":"#VALUE!"},{"$error":"#VALUE!"},{"$error":"#VALUE!"},{"$error":"#VALUE!"},{"$error":"#VALUE!"},{"$error":"#VALUE!"},183.6,202.8,250.7,277.2,303,317.2,null,"N/A","N/A","N/A","N/A","N/A","N/A","N/A","N/A",8.5,6,4.3,3.5,3,2.6,null,"Nitrosource Main + 2 Subs8"]
[null,"Nitrosource Main + 2 Subs",9,"Nitrosource Main + 2 Subs9",null,null,null,null,null,null,null,null,25.2,39.5,68,92.4,118,143,null,"Nitrosource Main + 2 Subs9",{"$error":"#VALUE!"},{"$error":"#VALUE!"},{"$error":"#VALUE!"},{"$error":"#VALUE!"},{"$error":"#VALUE!"},{"$error":"#VALUE!"},{"$error":"#VALUE!"},{"$error":"#VALUE!"},214.2,237,292.39999999999998,323.39999999999998,354,371.8,null,"N/A","N/A","N/A","N/A","N/A","N/A","N/A","N/A",8.5,6,4.3,3.5,3,2.6,null,"Nitrosource Main + 2 Subs9"]
[null,"Nitrosource Main + 2 Subs",10,"Nitrosource Main + 2 Subs10",null,null,null,null,null,null,null,null,28.8,45.1,77.8,106,134,163,null,"Nitrosource Main + 2 Subs10",{"$error":"#VALUE!"},{"$error":"#VALUE!"},{"$error":"#VALUE!"},{"$error":"#VALUE!"},{"$error":"#VALUE!"},{"$error":"#VALUE!"},{"$error":"#VALUE!"},{"$error":"#VALUE!"},244.8,270.60000000000002,334.5,371,402,423.8,null,"N/A","N/A","N/A","N/A","N/A","N/A","N/A","N/A",8.5,6,4.3,3.5,3,2.6,null,"Nitrosource Main + 2 Subs10"]
[null,"Nitrosource Main + 2 Subs",11,"Nitrosource Main + 2 Subs11",null,null,null,null,null,null,null,null,34.200000000000003,53.6,92.3,125,160,194,null,"Nitrosource Main + 2 Subs11",{"$error":"#VALUE!"},{"$error":"#VALUE!"},{"$error":"#VALUE!"},{"$error":"#VALUE!"},{"$error":"#VALUE!"},{"$error":"#VALUE!"},{"$error":"#VALUE!"},{"$error":"#VALUE!"},290.7,321.60000000000002,396.9,437.5,480,504.4,null,"N/A","N/A","N/A","N/A","N/A","N/A","N/A","N/A",8.5,6,4.3,3.5,3,2.6,null,"Nitrosource Main + 2 Subs11"]
[null,"Nitrosource Main + 2 Subs",12,"Nitrosource Main + 2 Subs12",null,null,null,null,null,null,null,null,37.799999999999997,59.2,102,139,176,214,null,"Nitrosource Main + 2 Subs12",{"$error":"#VALUE!"},{"$error":"#VALUE!"},{"$error":"#VALUE!"},{"$error":"#VALUE!"},{"$error":"#VALUE!"},{"$error":"#VALUE!"},{"$error":"#VALUE!"},{"$error":"#VALUE!"},321.3,355.2,438.6,486.5,528,556.4,null,"N/A","N/A","N/A","N/A","N/A","N/A","N/A","N/A",8.5,6,4.3,3.5,3,2.6,null,"Nitrosource Main + 2 Subs12"]
[null,"Nitrosource Main + 2 Subs",13,"Nitrosource Main + 2 Subs13",null,null,null,null,null,null,null,null,43.2,67.7,117,158,202,245,null,"Nitrosource Main + 2 Subs13",{"$error":"#VALUE!"},{"$error":"#VALUE!"},{"$error":"#VALUE!"},{"$error":"#VALUE!"},{"$error":"#VALUE!"},{"$error":"#VALUE!"},{"$error":"#VALUE!"},{"$error":"#VALUE!"},367.2,406.2,503.1,553,606,661.5,null,"N/A","N/A","N/A","N/A","N/A","N/A","N/A","N/A",8.5,6,4.3,3.5,3,2.7,null,"Nitrosource Main + 2 Subs13"]
[null,"Nitrosource Main + 3 Subs",4,"Nitrosource Main + 3 Subs4",null,null,null,null,null,null,null,null,8.4,13.2,22.7,30.8,39.200000000000003,47.6,null,"Nitrosource Main + 3 Subs4",{"$error":"#VALUE!"},{"$error":"#VALUE!"},{"$error":"#VALUE!"},{"$error":"#VALUE!"},{"$error":"#VALUE!"},{"$error":"#VALUE!"},{"$error":"#VALUE!"},{"$error":"#VALUE!"},71.400000000000006,79.2,97.6,107.8,117.6,133.30000000000001,null,"N/A","N/A","N/A","N/A","N/A","N/A","N/A","N/A",8.5,6,4.3,3.5,3,2.8,null,"Nitrosource Main + 3 Subs4"]
[null,"Nitrosource Main + 3 Subs",5,"Nitrosource Main + 3 Subs5",null,null,null,null,null,null,null,null,12.2,19.2,33,44.9,57.1,69.400000000000006,null,"Nitrosource Main + 3 Subs5",{"$error":"#VALUE!"},{"$error":"#VALUE!"},{"$error":"#VALUE!"},{"$error":"#VALUE!"},{"$error":"#VALUE!"},{"$error":"#VALUE!"},{"$error":"#VALUE!"},{"$error":"#VALUE!"},103.7,115.2,141.9,157.19999999999999,171.3,194.3,null,"N/A","N/A","N/A","N/A","N/A","N/A","N/A","N/A",8.5,6,4.3,3.5,3,2.8,null,"Nitrosource Main + 3 Subs5"]
[null,"Nitrosource Main + 3 Subs",6,"Nitrosource Main + 3 Subs6",null,null,null,null,null,null,null,null,18.2,28.6,49.2,66.900000000000006,85.1,103,null,"Nitrosource Main + 3 Subs6",{"$error":"#VALUE!"},{"$error":"#VALUE!"},{"$error":"#VALUE!"},{"$error":"#VALUE!"},{"$error":"#VALUE!"},{"$error":"#VALUE!"},{"$error":"#VALUE!"},{"$error":"#VALUE!"},154.69999999999999,171.6,211.6,234.2,255.3,267.8,null,"N/A","N/A","N/A","N/A","N/A","N/A","N/A","N/A",8.5,6,4.3,3.5,3,2.6,null,"Nitrosource Main + 3 Subs6"]
[null,"Nitrosource Main + 3 Subs",7,"Nitrosource Main + 3 Subs7",null,null,null,null,null,null,null,null,24,37.6,64.8,88,112,136,null,"Nitrosource Main + 3 Subs7",{"$error":"#VALUE!"},{"$error":"#VALUE!"},{"$error":"#VALUE!"},{"$error":"#VALUE!"},{"$error":"#VALUE!"},{"$error":"#VALUE!"},{"$error":"#VALUE!"},{"$error":"#VALUE!"},204,225.6,278.60000000000002,308,336,353.6,null,"N/A","N/A","N/A","N/A","N/A","N/A","N/A","N/A",8.5,6,4.3,3.5,3,2.6,null,"Nitrosource Main + 3 Subs7"]
[null,"Nitrosource Main + 3 Subs",8,"Nitrosource Main + 3 Subs8",null,null,null,null,null,null,null,null,28.8,45.1,77.8,106,134,163,null,"Nitrosource Main + 3 Subs8",{"$error":"#VALUE!"},{"$error":"#VALUE!"},{"$error":"#VALUE!"},{"$error":"#VALUE!"},{"$error":"#VALUE!"},{"$error":"#VALUE!"},{"$error":"#VALUE!"},{"$error":"#VALUE!"},244.8,270.60000000000002,334.5,371,402,423.8,null,"N/A","N/A","N/A","N/A","N/A","N/A","N/A","N/A",8.5,6,4.3,3.5,3,2.6,null,"Nitrosource Main + 3 Subs8"]
[null,"Nitrosource Main + 3 Subs",9,"Nitrosource Main + 3 Subs9",null,null,null,null,null,null,null,null,33.6,52.6,90.7,123,157,190,null,"Nitrosource Main + 3 Subs9",{"$error":"#VALUE!"},{"$error":"#VALUE!"},{"$error":"#VALUE!"},{"$error":"#VALUE!"},{"$error":"#VALUE!"},{"$error":"#VALUE!"},{"$error":"#VALUE!"},{"$error":"#VALUE!"},285.60000000000002,315.60000000000002,390,430.5,471,494,null,"N/A","N/A","N/A","N/A","N/A","N/A","N/A","N/A",8.5,6,4.3,3.5,3,2.6,null,"Nitrosource Main + 3 Subs9"]
[null,"Nitrosource Main + 3 Subs",10,"Nitrosource Main + 3 Subs10",null,null,null,null,null,null,null,null,38.4,60.2,104,141,179,218,null,"Nitrosource Main + 3 Subs10",{"$error":"#VALUE!"},{"$error":"#VALUE!"},{"$error":"#VALUE!"},{"$error":"#VALUE!"},{"$error":"#VALUE!"},{"$error":"#VALUE!"},{"$error":"#VALUE!"},{"$error":"#VALUE!"},326.39999999999998,361.2,447.2,493.5,537,566.79999999999995,null,"N/A","N/A","N/A","N/A","N/A","N/A","N/A","N/A",8.5,6,4.3,3.5,3,2.6,null,"Nitrosource Main + 3 Subs10"]
[null,"Nitrosource Main + 3 Subs",11,"Nitrosource Main + 3 Subs11",null,null,null,null,null,null,null,null,45.6,71.400000000000006,123,167,213,258,null,"Nitrosource Main + 3 Subs11",{"$error":"#VALUE!"},{"$error":"#VALUE!"},{"$error":"#VALUE!"},{"$error":"#VALUE!"},{"$error":"#VALUE!"},{"$error":"#VALUE!"},{"$error":"#VALUE!"},{"$error":"#VALUE!"},387.6,428.4,528.9,584.5,639,670.8,null,"N/A","N/A","N/A","N/A","N/A","N/A","N/A","N/A",8.5,6,4.3,3.5,3,2.6,null,"Nitrosource Main + 3 Subs11"]
[null,"Nitrosource Main + 3 Subs",12,"Nitrosource Main + 3 Subs12",null,null,null,null,null,null,null,null,50.4,79,136,185,235,286,null,"Nitrosource Main + 3 Subs12",{"$error":"#VALUE!"},{"$error":"#VALUE!"},{"$error":"#VALUE!"},{"$error":"#VALUE!"},{"$error":"#VALUE!"},{"$error":"#VALUE!"},{"$error":"#VALUE!"},{"$error":"#VALUE!"},428.4,474,584.79999999999995,647.5,705,743.6,null,"N/A","N/A","N/A","N/A","N/A","N/A","N/A","N/A",8.5,6,4.3,3.5,3,2.6,null,"Nitrosource Main + 3 Subs12"]
[null,"Nitrosource Main + 3 Subs",13,"Nitrosource Main + 3 Subs13",null,null,null,null,null,null,null,null,57.6,90.2,156,211,269,326,null,"Nitrosource Main + 3 Subs13",{"$error":"#VALUE!"},{"$error":"#VALUE!"},{"$error":"#VALUE!"},{"$error":"#VALUE!"},{"$error":"#VALUE!"},{"$error":"#VALUE!"},{"$error":"#VALUE!"},{"$error":"#VALUE!"},489.6,541.20000000000005,670.8,738.5,807,880.2,null,"N/A","N/A","N/A","N/A","N/A","N/A","N/A","N/A",8.5,6,4.3,3.5,3,2.7,null,"Nitrosource Main + 3 Subs13"]
[null,"Nitrosource Main + 4 Subs",4,"Nitrosource Main + 4 Subs4",null,null,null,null,null,null,null,null,10.5,16.5,28.4,38.5,49,59.5,null,"Nitrosource Main + 4 Subs4",{"$error":"#VALUE!"},{"$error":"#VALUE!"},{"$error":"#VALUE!"},{"$error":"#VALUE!"},{"$error":"#VALUE!"},{"$error":"#VALUE!"},{"$error":"#VALUE!"},{"$error":"#VALUE!"},89.3,99,122.1,134.80000000000001,147,166.6,null,"N/A","N/A","N/A","N/A","N/A","N/A","N/A","N/A",8.5,6,4.3,3.5,3,2.8,null,"Nitrosource Main + 4 Subs4"]
[null,"Nitrosource Main + 4 Subs",5,"Nitrosource Main + 4 Subs5",null,null,null,null,null,null,null,null,15.3,24,41.3,56.1,71.400000000000006,86.7,null,"Nitrosource Main + 4 Subs5",{"$error":"#VALUE!"},{"$error":"#VALUE!"},{"$error":"#VALUE!"},{"$error":"#VALUE!"},{"$error":"#VALUE!"},{"$error":"#VALUE!"},{"$error":"#VALUE!"},{"$error":"#VALUE!"},130.1,144,177.6,196.4,214.2,242.8,null,"N/A","N/A","N/A","N/A","N/A","N/A","N/A","N/A",8.5,6,4.3,3.5,3,2.8,null,"Nitrosource Main + 4 Subs5"]
[null,"Nitrosource Main + 4 Subs",6,"Nitrosource Main + 4 Subs6",null,null,null,null,null,null,null,null,22.8,35.700000000000003,61.6,83.6,106,129,null,"Nitrosource Main + 4 Subs6",{"$error":"#VALUE!"},{"$error":"#VALUE!"},{"$error":"#VALUE!"},{"$error":"#VALUE!"},{"$error":"#VALUE!"},{"$error":"#VALUE!"},{"$error":"#VALUE!"},{"$error":"#VALUE!"},193.8,214.2,264.89999999999998,292.60000000000002,318,335.4,null,"N/A","N/A","N/A","N/A","N/A","N/A","N/A","N/A",8.5,6,4.3,3.5,3,2.6,null,"Nitrosource Main + 4 Subs6"]
[null,"Nitrosource Main + 4 Subs",7,"Nitrosource Main + 4 Subs7",null,null,null,null,null,null,null,null,30,47,81,110,140,170,null,"Nitrosource Main + 4 Subs7",{"$error":"#VALUE!"},{"$error":"#VALUE!"},{"$error":"#VALUE!"},{"$error":"#VALUE!"},{"$error":"#VALUE!"},{"$error":"#VALUE!"},{"$error":"#VALUE!"},{"$error":"#VALUE!"},255,282,348.3,385,420,442,null,"N/A","N/A","N/A","N/A","N/A","N/A","N/A","N/A",8.5,6,4.3,3.5,3,2.6,null,"Nitrosource Main + 4 Subs7"]
[null,"Nitrosource Main + 4 Subs",8,"Nitrosource Main + 4 Subs8",null,null,null,null,null,null,null,null,36,56.4,97.2,132,168,204,null,"Nitrosource Main + 4 Subs8",{"$error":"#VALUE!"},{"$error":"#VALUE!"},{"$error":"#VALUE!"},{"$error":"#VALUE!"},{"$error":"#VALUE!"},{"$error":"#VALUE!"},{"$error":"#VALUE!"},{"$error":"#VALUE!"},306,338.4,418,462,504,530.4,null,"N/A","N/A","N/A","N/A","N/A","N/A","N/A","N/A",8.5,6,4.3,3.5,3,2.6,null,"Nitrosource Main + 4 Subs8"]
[null,"Nitrosource Main + 4 Subs",9,"Nitrosource Main + 4 Subs9",null,null,null,null,null,null,null,null,42,65.8,113,154,196,238,null,"Nitrosource Main + 4 Subs9",{"$error":"#VALUE!"},{"$error":"#VALUE!"},{"$error":"#VALUE!"},{"$error":"#VALUE!"},{"$error":"#VALUE!"},{"$error":"#VALUE!"},{"$error":"#VALUE!"},{"$error":"#VALUE!"},357,394.8,485.9,539,588,618.79999999999995,null,"N/A","N/A","N/A","N/A","N/A","N/A","N/A","N/A",8.5,6,4.3,3.5,3,2.6,null,"Nitrosource Main + 4 Subs9"]
[null,"Nitrosource Main + 4 Subs",10,"Nitrosource Main + 4 Subs10",null,null,null,null,null,null,null,null,48,75.2,130,176,224,272,null,"Nitrosource Main + 4 Subs10",{"$error":"#VALUE!"},{"$error":"#VALUE!"},{"$error":"#VALUE!"},{"$error":"#VALUE!"},{"$error":"#VALUE!"},{"$error":"#VALUE!"},{"$error":"#VALUE!"},{"$error":"#VALUE!"},408,451.2,559,616,672,707.2,null,"N/A","N/A","N/A","N/A","N/A","N/A","N/A","N/A",8.5,6,4.3,3.5,3,2.6,null,"Nitrosource Main + 4 Subs10"]
[null,"Nitrosource Main + 4 Subs",11,"Nitrosource Main + 4 Subs11",null,null,null,null,null,null,null,null,57,9.3000000000000007,154,209,266,323,null,"Nitrosource Main + 4 Subs11",{"$error":"#VALUE!"},{"$error":"#VALUE!"},{"$error":"#VALUE!"},{"$error":"#VALUE!"},{"$error":"#VALUE!"},{"$error":"#VALUE!"},{"$error":"#VALUE!"},{"$error":"#VALUE!"},484.5,55.8,662.2,731.5,798,839.8,null,"N/A","N/A","N/A","N/A","N/A","N/A","N/A","N/A",8.5,6,4.3,3.5,3,2.6,null,"Nitrosource Main + 4 Subs11"]
[null,"Nitrosource Main + 4 Subs",12,"Nitrosource Main + 4 Subs12",null,null,null,null,null,null,null,null,63,98.7,170,231,294,357,null,"Nitrosource Main + 4 Subs12",{"$error":"#VALUE!"},{"$error":"#VALUE!"},{"$error":"#VALUE!"},{"$error":"#VALUE!"},{"$error":"#VALUE!"},{"$error":"#VALUE!"},{"$error":"#VALUE!"},{"$error":"#VALUE!"},535.5,592.20000000000005,731,808.5,882,928.2,null,"N/A","N/A","N/A","N/A","N/A","N/A","N/A","N/A",8.5,6,4.3,3.5,3,2.6,null,"Nitrosource Main + 4 Subs12"]
[null,"Nitrosource Main + 4 Subs",13,"Nitrosource Main + 4 Subs13",null,null,null,null,null,null,null,null,72,113,194,264,336,408,null,"Nitrosource Main + 4 Subs13",{"$error":"#VALUE!"},{"$error":"#VALUE!"},{"$error":"#VALUE!"},{"$error":"#VALUE!"},{"$error":"#VALUE!"},{"$error":"#VALUE!"},{"$error":"#VALUE!"},{"$error":"#VALUE!"},612,678,834.2,924,1008,1101.5999999999999,null,"N/A","N/A","N/A","N/A","N/A","N/A","N/A","N/A",8.5,6,4.3,3.5,3,2.7,null,"Nitrosource Main + 4 Subs13"]
[null,"Nitrosource Main + 5 Subs",4,"Nitrosource Main + 5 Subs4",null,null,null,null,null,null,null,null,12.6,19.7,34,46.2,58.8,71.400000000000006,null,"Nitrosource Main + 5 Subs4",{"$error":"#VALUE!"},{"$error":"#VALUE!"},{"$error":"#VALUE!"},{"$error":"#VALUE!"},{"$error":"#VALUE!"},{"$error":"#VALUE!"},{"$error":"#VALUE!"},{"$error":"#VALUE!"},107.1,118.2,146.19999999999999,161.69999999999999,176.4,199.9,null,"N/A","N/A","N/A","N/A","N/A","N/A","N/A","N/A",8.5,6,4.3,3.5,3,2.8,null,"Nitrosource Main + 5 Subs4"]
[null,"Nitrosource Main + 5 Subs",5,"Nitrosource Main + 5 Subs5",null,null,null,null,null,null,null,null,18.399999999999999,28.8,49.6,67.3,85.7,104,null,"Nitrosource Main + 5 Subs5",{"$error":"#VALUE!"},{"$error":"#VALUE!"},{"$error":"#VALUE!"},{"$error":"#VALUE!"},{"$error":"#VALUE!"},{"$error":"#VALUE!"},{"$error":"#VALUE!"},{"$error":"#VALUE!"},156.4,172.8,213.3,235.6,257.10000000000002,291.2,null,"N/A","N/A","N/A","N/A","N/A","N/A","N/A","N/A",8.5,6,4.3,3.5,3,2.8,null,"Nitrosource Main + 5 Subs5"]
[null,"Nitrosource Main + 5 Subs",6,"Nitrosource Main + 5 Subs6",null,null,null,null,null,null,null,null,27.4,42.9,73.900000000000006,100,128,155,null,"Nitrosource Main + 5 Subs6",{"$error":"#VALUE!"},{"$error":"#VALUE!"},{"$error":"#VALUE!"},{"$error":"#VALUE!"},{"$error":"#VALUE!"},{"$error":"#VALUE!"},{"$error":"#VALUE!"},{"$error":"#VALUE!"},232.9,257.39999999999998,317.8,350,384,403,null,"N/A","N/A","N/A","N/A","N/A","N/A","N/A","N/A",8.5,6,4.3,3.5,3,2.6,null,"Nitrosource Main + 5 Subs6"]
[null,"Nitrosource Main + 5 Subs",7,"Nitrosource Main + 5 Subs7",null,null,null,null,null,null,null,null,36,56.4,97.2,132,168,204,null,"Nitrosource Main + 5 Subs7",{"$error":"#VALUE!"},{"$error":"#VALUE!"},{"$error":"#VALUE!"},{"$error":"#VALUE!"},{"$error":"#VALUE!"},{"$error":"#VALUE!"},{"$error":"#VALUE!"},{"$error":"#VALUE!"},306,338.4,418,462,504,530.4,null,"N/A","N/A","N/A","N/A","N/A","N/A","N/A","N/A",8.5,6,4.3,3.5,3,2.6,null,"Nitrosource Main + 5 Subs7"]
[null,"Nitrosource Main + 5 Subs",8,"Nitrosource Main + 5 Subs8",null,null,null,null,null,null,null,null,43.2,67.7,117,158,202,245,null,"Nitrosource Main + 5 Subs8",{"$error":"#VALUE!"},{"$error":"#VALUE!"},{"$error":"#VALUE!"},{"$error":"#VALUE!"},{"$error":"#VALUE!"},{"$error":"#VALUE!"},{"$error":"#VALUE!"},{"$error":"#VALUE!"},367.2,406.2,503.1,553,606,637,null,"N/A","N/A","N/A","N/A","N/A","N/A","N/A","N/A",8.5,6,4.3,3.5,3,2.6,null,"Nitrosource Main + 5 Subs8"]
[null,"Nitrosource Main + 5 Subs",9,"Nitrosource Main + 5 Subs9",null,null,null,null,null,null,null,null,50.4,79,136,185,235,286,null,"Nitrosource Main + 5 Subs9",{"$error":"#VALUE!"},{"$error":"#VALUE!"},{"$error":"#VALUE!"},{"$error":"#VALUE!"},{"$error":"#VALUE!"},{"$error":"#VALUE!"},{"$error":"#VALUE!"},{"$error":"#VALUE!"},428.4,474,584.79999999999995,647.5,705,743.6,null,"N/A","N/A","N/A","N/A","N/A","N/A","N/A","N/A",8.5,6,4.3,3.5,3,2.6,null,"Nitrosource Main + 5 Subs9"]
[null,"Nitrosource Main + 5 Subs",10,"Nitrosource Main + 5 Subs10",null,null,null,null,null,null,null,null,57.6,90.2,156,211,269,326,null,"Nitrosource Main + 5 Subs10",{"$error":"#VALUE!"},{"$error":"#VALUE!"},{"$error":"#VALUE!"},{"$error":"#VALUE!"},{"$error":"#VALUE!"},{"$error":"#VALUE!"},{"$error":"#VALUE!"},{"$error":"#VALUE!"},489.6,541.20000000000005,670.8,738.5,807,847.6,null,"N/A","N/A","N/A","N/A","N/A","N/A","N/A","N/A",8.5,6,4.3,3.5,3,2.6,null,"Nitrosource Main + 5 Subs10"]
[null,"Nitrosource Main + 5 Subs",11,"Nitrosource Main + 5 Subs11",null,null,null,null,null,null,null,null,68.400000000000006,107,185,251,319,388,null,"Nitrosource Main + 5 Subs11",{"$error":"#VALUE!"},{"$error":"#VALUE!"},{"$error":"#VALUE!"},{"$error":"#VALUE!"},{"$error":"#VALUE!"},{"$error":"#VALUE!"},{"$error":"#VALUE!"},{"$error":"#VALUE!"},581.4,642,795.5,878.5,957,1008.8,null,"N/A","N/A","N/A","N/A","N/A","N/A","N/A","N/A",8.5,6,4.3,3.5,3,2.6,null,"Nitrosource Main + 5 Subs11"]
[null,"Nitrosource Main + 5 Subs",12,"Nitrosource Main + 5 Subs12",null,null,null,null,null,null,null,null,75.599999999999994,118,204,277,353,428,null,"Nitrosource Main + 5 Subs12",{"$error":"#VALUE!"},{"$error":"#VALUE!"},{"$error":"#VALUE!"},{"$error":"#VALUE!"},{"$error":"#VALUE!"},{"$error":"#VALUE!"},{"$error":"#VALUE!"},{"$error":"#VALUE!"},642.6,708,877.2,969.5,1059,1112.8,null,"N/A","N/A","N/A","N/A","N/A","N/A","N/A","N/A",8.5,6,4.3,3.5,3,2.6,null,"Nitrosource Main + 5 Subs12"]
[null,"Nitrosource Main + 5 Subs",13,"Nitrosource Main + 5 Subs13",null,null,null,null,null,null,null,null,86.4,135,233,317,403,490,null,"Nitrosource Main + 5 Subs13",{"$error":"#VALUE!"},{"$error":"#VALUE!"},{"$error":"#VALUE!"},{"$error":"#VALUE!"},{"$error":"#VALUE!"},{"$error":"#VALUE!"},{"$error":"#VALUE!"},{"$error":"#VALUE!"},734.4,810,1001.9,1109.5,1209,1323,null,"N/A","N/A","N/A","N/A","N/A","N/A","N/A","N/A",8.5,6,4.3,3.5,3,2.7,null,"Nitrosource Main + 5 Subs13"]
[null,"N2-20P",5,"N2-20P5",2.1,2.7,4.4000000000000004,5.2,6.3,7.2,8.1,11.2,11.9,14.3,17,21.5,22.2,24.3,null,"N2-20P5",19.5,19.399999999999999,22.4,23.9,25.8,26.6,27.5,32.5,33.299999999999997,37.200000000000003,39.1,47.3,48.8,51,null,9.3000000000000007,7.2,5.0999999999999996,4.5999999999999996,4.0999999999999996,3.7,3.4,2.9,2.8,2.6,2.2999999999999998,2.2000000000000002,2.2000000000000002,2.1,null,"N2-20P5",4.2,4.2,4.2,4.2,4.0999999999999996,4.0999999999999996,4.0999999999999996,4.0999999999999996,4.0999999999999996,4,3.9,3.8,3.7,3.7]
[null,"N2-25P",5,"N2-25P5",3.1,4,6.5,7.8,9.5,10.8,12.1,16.8,17.8,21.4,25.4,32.200000000000003,33.4,36.4,null,"N2-25P5",28.8,28.8,33.200000000000003,35.9,39,40,41.1,48.7,49.8,55.6,58.4,70.8,73.5,76.400000000000006,null,9.3000000000000007,7.2,5.0999999999999996,4.5999999999999996,4.0999999999999996,3.7,3.4,2.9,2.8,2.6,2.2999999999999998,2.2000000000000002,2.2000000000000002,2.1,null,"N2-25P5",4.2,4.2,4.2,4.2,4.0999999999999996,4.0999999999999996,4.0999999999999996,4.0999999999999996,4.0999999999999996,4,3.9,3.8,3.7,3.7]
[null,"N2-35P",5,"N2-35P5",4.0999999999999996,5.3,8.6999999999999993,10.4,12.6,14.4,16.100000000000001,22.4,23.7,28.5,33.9,42.9,44.5,48.5,null,"N2-35P5",38.1,38.200000000000003,44.4,47.8,51.7,53.3,54.7,65,66.400000000000006,74.099999999999994,78,94.4,97.9,101.9,null,9.3000000000000007,7.2,5.0999999999999996,4.5999999999999996,4.0999999999999996,3.7,3.4,2.9,2.8,2.6,2.2999999999999998,2.2000000000000002,2.2000000000000002,2.1,null,"N2-35P5",4.2,4.2,4.2,4.2,4.0999999999999996,4.0999999999999996,4.0999999999999996,4.0999999999999996,4.0999999999999996,4,3.9,3.8,3.7,3.7]
[null,"N2-45P",5,"N2-45P5",5.2,6.6,10.9,13,15.8,18,20.2,28,29.6,35.700000000000003,42.4,53.6,55.6,60.7,null,"N2-45P5",48.4,47.5,55.6,59.8,64.8,66.599999999999994,68.7,81.2,82.9,92.8,97.5,117.9,122.3,127.5,null,9.3000000000000007,7.2,5.0999999999999996,4.5999999999999996,4.0999999999999996,3.7,3.4,2.9,2.8,2.6,2.2999999999999998,2.2000000000000002,2.2000000000000002,2.1,null,"N2-45P5",4.2,4.2,4.2,4.2,4.0999999999999996,4.0999999999999996,4.0999999999999996,4.0999999999999996,4.0999999999999996,4,3.9,3.8,3.7,3.7]
[null,"N2-55P",5,"N2-55P5",6.2,8,13.1,15.6,18.899999999999999,21.6,24.2,33.6,35.6,42.8,50.9,64.400000000000006,66.7,72.8,null,"N2-55P5",57.7,57.6,66.8,71.8,77.5,79.900000000000006,82.3,97.4,99.7,111.3,117.1,141.69999999999999,146.69999999999999,152.9,null,9.3000000000000007,7.2,5.0999999999999996,4.5999999999999996,4.0999999999999996,3.7,3.4,2.9,2.8,2.6,2.2999999999999998,2.2000000000000002,2.2000000000000002,2.1,null,"N2-55P5",4.2,4.2,4.2,4.2,4.0999999999999996,4.0999999999999996,4.0999999999999996,4.0999999999999996,4.0999999999999996,4,3.9,3.8,3.7,3.7]
[null,"N2-60P",5,"N2-60P5",6.9,8.8000000000000007,14.5,17.3,21,24,26.8,37.200000000000003,39.4,47.5,56.4,71.3,74,80.7,null,"N2-60P5",67.599999999999994,66.900000000000006,76.900000000000006,84.8,90.3,93.6,93.8,111.6,114.3,128.30000000000001,141,164,170.2,177.5,null,9.8000000000000007,7.6,5.3,4.9000000000000004,4.3,3.9,3.5,3,2.9,2.7,2.5,2.2999999999999998,2.2999999999999998,2.2000000000000002,null,"N2-60P5",4.2,4.2,4.2,4.2,4.0999999999999996,4.0999999999999996,4.0999999999999996,4.0999999999999996,4.0999999999999996,4,3.9,3.8,3.7,3.7]
[null,"N2-65P",5,"N2-65P5",7.8,10.1,16.5,19.8,24,27.4,30.6,42.5,45.1,54.2,64.400000000000006,81.5,84.5,92.2,null,"N2-65P5",76.400000000000006,76.8,87.5,97,103.2,106.9,107.1,127.5,130.80000000000001,146.30000000000001,161,187.5,194.4,202.8,null,9.8000000000000007,7.6,5.3,4.9000000000000004,4.3,3.9,3.5,3,2.9,2.7,2.5,2.2999999999999998,2.2999999999999998,2.2000000000000002,null,"N2-65P5",4.2,4.2,4.2,4.2,4.0999999999999996,4.0999999999999996,4.0999999999999996,4.0999999999999996,4.0999999999999996,4,3.9,3.8,3.7,3.7]
[null,"N2-75P",5,"N2-75P5",8.5,11,18,21.5,26.1,29.9,33.4,46.3,49.1,59.1,70.2,88.8,92.1,100.5,null,"N2-75P5",85.9,85.8,99,107.5,114.8,119.6,123.6,143.5,147.30000000000001,165.5,175.5,213.1,221,231.2,null,10.1,7.8,5.5,5,4.4000000000000004,4,3.7,3.1,3,2.8,2.5,2.4,2.4,2.2999999999999998,null,"N2-75P5",4.2,4.2,4.2,4.2,4.0999999999999996,4.0999999999999996,4.0999999999999996,4.0999999999999996,4.0999999999999996,4,3.9,3.8,3.7,3.7]
[null,"N2-80P",5,"N2-80P5",9.5,12.2,20,23.9,29,33.200000000000003,37.1,51.5,54.6,65.599999999999994,78,98.7,102.3,111.6,null,"N2-80P5",96,95.2,110,119.5,127.6,132.80000000000001,137.30000000000001,159.69999999999999,163.80000000000001,183.7,195,236.9,245.5,256.7,null,10.1,7.8,5.5,5,4.4000000000000004,4,3.7,3.1,3,2.8,2.5,2.4,2.4,2.2999999999999998,null,"N2-80P5",4.2,4.2,4.2,4.2,4.0999999999999996,4.0999999999999996,4.0999999999999996,4.0999999999999996,4.0999999999999996,4,3.9,3.8,3.7,3.7]
[null,"N2-20P",6,"N2-20P6",2.8,3.6,5.6,6.6,8.1,9.1999999999999993,10.3,13.9,14.7,17.7,21,25.6,26.6,29,null,"N2-20P6",26,25.9,28.6,30.4,33.200000000000003,34,35,40.299999999999997,41.2,46,48.3,56.3,58.5,60.9,null,9.3000000000000007,7.2,5.0999999999999996,4.5999999999999996,4.0999999999999996,3.7,3.4,2.9,2.8,2.6,2.2999999999999998,2.2000000000000002,2.2000000000000002,2.1,null,"N2-20P6",5.0999999999999996,5.0999999999999996,5.0999999999999996,5.0999999999999996,5,5,5,5,4.9000000000000004,4.8,4.8,4.7,4.5999999999999996,4.5999999999999996]
[null,"N2-25P",6,"N2-25P6",4.0999999999999996,5.3,8.3000000000000007,10,12.1,13.8,15.4,20.8,22,26.5,31.5,38.4,39.9,43.5,null,"N2-25P6",38.1,38.200000000000003,42.3,46,49.6,51.1,52.4,60.3,61.6,68.900000000000006,72.5,84.5,87.8,91.4,null,9.3000000000000007,7.2,5.0999999999999996,4.5999999999999996,4.0999999999999996,3.7,3.4,2.9,2.8,2.6,2.2999999999999998,2.2000000000000002,2.2000000000000002,2.1,null,"N2-25P6",5.0999999999999996,5.0999999999999996,5.0999999999999996,5.0999999999999996,5,5,5,5,4.9000000000000004,4.8,4.8,4.7,4.5999999999999996,4.5999999999999996]
[null,"N2-35P",6,"N2-35P6",5.5,7.1,11.1,13.3,16.100000000000001,18.399999999999999,20.6,27.7,29.4,35.4,42,51.3,53.1,58,null,"N2-35P6",51.2,51.1,56.6,61.2,66,68.099999999999994,70,80.3,82.3,92,96.6,112.9,116.8,121.8,null,9.3000000000000007,7.2,5.0999999999999996,4.5999999999999996,4.0999999999999996,3.7,3.4,2.9,2.8,2.6,2.2999999999999998,2.2000000000000002,2.2000000000000002,2.1,null,"N2-35P6",5.0999999999999996,5.0999999999999996,5.0999999999999996,5.0999999999999996,5,5,5,5,4.9000000000000004,4.8,4.8,4.7,4.5999999999999996,4.5999999999999996]
[null,"N2-45P",6,"N2-45P6",6.9,8.9,13.9,16.600000000000001,20.100000000000001,23,25.7,34.700000000000003,36.700000000000003,44.2,52.5,64.099999999999994,66.400000000000006,72.5,null,"N2-45P6",64.2,64.099999999999994,70.900000000000006,76.400000000000006,82.4,85.1,87.4,100.6,102.8,114.9,120.8,141,146.1,152.30000000000001,null,9.3000000000000007,7.2,5.0999999999999996,4.5999999999999996,4.0999999999999996,3.7,3.4,2.9,2.8,2.6,2.2999999999999998,2.2000000000000002,2.2000000000000002,2.1,null,"N2-45P6",5.0999999999999996,5.0999999999999996,5.0999999999999996,5.0999999999999996,5,5,5,5,4.9000000000000004,4.8,4.8,4.7,4.5999999999999996,4.5999999999999996]
[null,"N2-55P",6,"N2-55P6",8.3000000000000007,10.7,16.7,19.899999999999999,24.2,27.6,30.9,41.6,44.1,53,63,76.900000000000006,79.7,86.9,null,"N2-55P6",77.2,77,85.2,91.5,99.2,102.1,105.1,120.6,123.5,137.80000000000001,144.9,169.2,175.3,182.5,null,9.3000000000000007,7.2,5.0999999999999996,4.5999999999999996,4.0999999999999996,3.7,3.4,2.9,2.8,2.6,2.2999999999999998,2.2000000000000002,2.2000000000000002,2.1,null,"N2-55P6",5.0999999999999996,5.0999999999999996,5.0999999999999996,5.0999999999999996,5,5,5,5,4.9000000000000004,4.8,4.8,4.7,4.5999999999999996,4.5999999999999996]
[null,"N2-60P",6,"N2-60P6",9.1999999999999993,11.8,18.5,22.1,26.8,30.6,34.200000000000003,46.1,48.8,58.8,69.8,85.2,88.4,96.4,null,"N2-60P6",90.2,89.7,98.1,108.3,115.2,119.3,119.7,138.30000000000001,141.5,158.80000000000001,174.5,196,203.3,212.1,null,9.8000000000000007,7.6,5.3,4.9000000000000004,4.3,3.9,3.5,3,2.9,2.7,2.5,2.2999999999999998,2.2999999999999998,2.2000000000000002,null,"N2-60P6",5.0999999999999996,5.0999999999999996,5.0999999999999996,5.0999999999999996,5,5,5,5,4.9000000000000004,4.8,4.8,4.7,4.5999999999999996,4.5999999999999996]
[null,"N2-65P",6,"N2-65P6",10.5,13.5,21.1,25.2,30.6,35,39.1,52.7,55.8,67.2,79.8,97.4,101,110.1,null,"N2-65P6",102.9,102.6,111.8,123.5,131.6,136.5,136.9,158.1,161.80000000000001,181.4,199.5,224,232.3,242.2,null,9.8000000000000007,7.6,5.3,4.9000000000000004,4.3,3.9,3.5,3,2.9,2.7,2.5,2.2999999999999998,2.2999999999999998,2.2000000000000002,null,"N2-65P6",5.0999999999999996,5.0999999999999996,5.0999999999999996,5.0999999999999996,5,5,5,5,4.9000000000000004,4.8,4.8,4.7,4.5999999999999996,4.5999999999999996]
[null,"N2-75P",6,"N2-75P6",11.4,14.7,23,27.5,33.299999999999997,38.1,42.6,57.4,60.8,73.2,86.9,106.1,110,120,null,"N2-75P6",115.1,114.7,126.5,137.5,146.5,152.4,157.6,177.9,182.4,205,217.3,254.6,264,276,null,10.1,7.8,5.5,5,4.4000000000000004,4,3.7,3.1,3,2.8,2.5,2.4,2.4,2.2999999999999998,null,"N2-75P6",5.0999999999999996,5.0999999999999996,5.0999999999999996,5.0999999999999996,5,5,5,5,4.9000000000000004,4.8,4.8,4.7,4.5999999999999996,4.5999999999999996]
[null,"N2-80P",6,"N2-80P6",12.7,16.399999999999999,25.6,30.5,37,42.4,47.3,63.8,67.599999999999994,81.3,96.6,117.9,122.2,133.30000000000001,null,"N2-80P6",128.30000000000001,127.9,140.80000000000001,152.5,162.80000000000001,169.6,175,197.8,202.8,227.6,241.5,283,293.3,306.60000000000002,null,10.1,7.8,5.5,5,4.4000000000000004,4,3.7,3.1,3,2.8,2.5,2.4,2.4,2.2999999999999998,null,"N2-80P6",5.0999999999999996,5.0999999999999996,5.0999999999999996,5.0999999999999996,5,5,5,5,4.9000000000000004,4.8,4.8,4.7,4.5999999999999996,4.5999999999999996]
[null,"N2-20P",7,"N2-20P7",3.5,4.5,6.7,8,9.6999999999999993,11.1,12.4,16.7,17.7,21.3,25.3,29.8,30.9,33.700000000000003,null,"N2-20P7",32.6,32.4,34.200000000000003,36.799999999999997,39.799999999999997,41.1,42.2,48.4,49.6,55.4,58.2,65.599999999999994,68,70.8,null,9.3000000000000007,7.2,5.0999999999999996,4.5999999999999996,4.0999999999999996,3.7,3.4,2.9,2.8,2.6,2.2999999999999998,2.2000000000000002,2.2000000000000002,2.1,null,"N2-20P7",6,6,6,6,6,6,5.8,5.8,5.7,5.7,5.6,5.5,5.4,5.4]
[null,"N2-25P",7,"N2-25P7",5.3,6.8,10.1,12,14.6,16.7,18.600000000000001,25.1,26.6,32,38,44.7,46.4,50.6,null,"N2-25P7",49.3,49,51.5,55.2,59.9,61.8,63.2,72.8,74.5,83.2,87.4,98.3,102.1,106.3,null,9.3000000000000007,7.2,5.0999999999999996,4.5999999999999996,4.0999999999999996,3.7,3.4,2.9,2.8,2.6,2.2999999999999998,2.2000000000000002,2.2000000000000002,2.1,null,"N2-25P7",6,6,6,6,6,6,5.8,5.8,5.7,5.7,5.6,5.5,5.4,5.4]
[null,"N2-35P",7,"N2-35P7",7,9,13.4,16,19.399999999999999,22.2,24.8,33.4,35.4,42.6,50.6,59.6,61.8,67.400000000000006,null,"N2-35P7",65.099999999999994,64.8,68.3,73.599999999999994,79.5,82.1,84.3,96.9,99.1,110.8,116.4,131.1,136,141.5,null,9.3000000000000007,7.2,5.0999999999999996,4.5999999999999996,4.0999999999999996,3.7,3.4,2.9,2.8,2.6,2.2999999999999998,2.2000000000000002,2.2000000000000002,2.1,null,"N2-35P7",6,6,6,6,6,6,5.8,5.8,5.7,5.7,5.6,5.5,5.4,5.4]
[null,"N2-45P",7,"N2-45P7",8.8000000000000007,11.3,16.8,20,24.3,27.8,31,41.8,44.3,53.3,63.3,74.5,77.3,84.3,null,"N2-45P7",81.8,81.400000000000006,85.7,92,99.6,102.9,105.4,121.2,124,138.6,145.6,163.9,170.1,177,null,9.3000000000000007,7.2,5.0999999999999996,4.5999999999999996,4.0999999999999996,3.7,3.4,2.9,2.8,2.6,2.2999999999999998,2.2000000000000002,2.2000000000000002,2.1,null,"N2-45P7",6,6,6,6,6,6,5.8,5.8,5.7,5.7,5.6,5.5,5.4,5.4]
[null,"N2-55P",7,"N2-55P7",10.5,13.5,20.100000000000001,24,29.1,33.299999999999997,37.200000000000003,50.1,53.1,63.9,75.900000000000006,89.4,92.7,101.1,null,"N2-55P7",97.7,97.2,102.5,110.4,119.3,123.2,126.5,145.30000000000001,148.69999999999999,166.1,174.6,196.7,203.9,212.3,null,9.3000000000000007,7.2,5.0999999999999996,4.5999999999999996,4.0999999999999996,3.7,3.4,2.9,2.8,2.6,2.2999999999999998,2.2000000000000002,2.2000000000000002,2.1,null,"N2-55P7",6,6,6,6,6,6,5.8,5.8,5.7,5.7,5.6,5.5,5.4,5.4]
[null,"N2-60P",7,"N2-60P7",11.6,15,22.3,26.6,32.299999999999997,36.9,41.2,55.5,58.9,70.8,84.1,99.1,102.7,112.1,null,"N2-60P7",113.7,114,118.2,130.30000000000001,138.9,143.9,144.19999999999999,166.5,170.8,191.2,210.3,227.9,236.2,246.6,null,9.8000000000000007,7.6,5.3,4.9000000000000004,4.3,3.9,3.5,3,2.9,2.7,2.5,2.2999999999999998,2.2999999999999998,2.2000000000000002,null,"N2-60P7",6,6,6,6,6,6,5.8,5.8,5.7,5.7,5.6,5.5,5.4,5.4]
[null,"N2-65P",7,"N2-65P7",13.3,17.100000000000001,25.5,30.4,36.9,42.2,47.1,63.5,67.3,80.900000000000006,96.1,113.2,117.4,128.1,null,"N2-65P7",130.30000000000001,130,135.19999999999999,149,158.69999999999999,164.6,164.9,190.5,195.2,218.4,240.3,260.39999999999998,270,281.8,null,9.8000000000000007,7.6,5.3,4.9000000000000004,4.3,3.9,3.5,3,2.9,2.7,2.5,2.2999999999999998,2.2999999999999998,2.2000000000000002,null,"N2-65P7",6,6,6,6,6,6,5.8,5.8,5.7,5.7,5.6,5.5,5.4,5.4]
[null,"N2-75P",7,"N2-75P7",14.5,18.600000000000001,27.7,33.1,40.200000000000003,46,51.3,69.099999999999994,73.3,88.2,104.7,123.4,127.9,139.5,null,"N2-75P7",146.5,145.1,152.4,165.5,176.9,184,189.8,214.2,219.9,247,261.8,296.2,307,320.89999999999998,null,10.1,7.8,5.5,5,4.4000000000000004,4,3.7,3.1,3,2.8,2.5,2.4,2.4,2.2999999999999998,null,"N2-75P7",6,6,6,6,6,6,5.8,5.8,5.7,5.7,5.6,5.5,5.4,5.4]
[null,"N2-80P",7,"N2-80P7",16.100000000000001,20.7,30.8,36.799999999999997,44.6,51.1,57,76.8,81.400000000000006,98,116.4,137.1,142.1,155,null,"N2-80P7",162.6,161.5,169.4,184,196.2,204.4,210.9,238.1,244.2,274.39999999999998,291,329,341,356.5,null,10.1,7.8,5.5,5,4.4000000000000004,4,3.7,3.1,3,2.8,2.5,2.4,2.4,2.2999999999999998,null,"N2-80P7",6,6,6,6,6,6,5.8,5.8,5.7,5.7,5.6,5.5,5.4,5.4]
[null,"N2-20P",8,"N2-20P8",4,5.2,7.5,9,10.9,12.4,13.9,18.5,19.600000000000001,23.2,27.6,32.5,33.700000000000003,36.700000000000003,null,"N2-20P8",37.200000000000003,37.4,38.299999999999997,41.4,44.7,45.9,47.3,53.7,54.9,60.3,63.5,71.5,74.099999999999994,77.099999999999994,null,9.3000000000000007,7.2,5.0999999999999996,4.5999999999999996,4.0999999999999996,3.7,3.4,2.9,2.8,2.6,2.2999999999999998,2.2000000000000002,2.2000000000000002,2.1,null,"N2-20P8",6.9,6.9,6.9,6.8,6.8,6.7,6.7,6.6,6.6,6.5,6.4,6.3,6.2,6.2]
[null,"N2-25P",8,"N2-25P8",6,7.8,11.3,13.4,16.3,18.600000000000001,20.8,27.8,29.5,34.799999999999997,41.4,48.7,50.5,55.1,null,"N2-25P8",55.8,56.2,57.6,61.6,66.8,68.8,70.7,80.599999999999994,82.6,90.5,95.2,107.1,111.1,115.7,null,9.3000000000000007,7.2,5.0999999999999996,4.5999999999999996,4.0999999999999996,3.7,3.4,2.9,2.8,2.6,2.2999999999999998,2.2000000000000002,2.2000000000000002,2.1,null,"N2-25P8",6.9,6.9,6.9,6.8,6.8,6.7,6.7,6.6,6.6,6.5,6.4,6.3,6.2,6.2]
[null,"N2-35P",8,"N2-35P8",8.1,10.4,15,17.899999999999999,21.7,24.9,27.8,37.1,39.299999999999997,46.4,55.2,65,67.400000000000006,73.5,null,"N2-35P8",75.3,74.900000000000006,76.5,82.3,89,92.1,94.5,107.6,110,120.6,127,143,148.30000000000001,154.4,null,9.3000000000000007,7.2,5.0999999999999996,4.5999999999999996,4.0999999999999996,3.7,3.4,2.9,2.8,2.6,2.2999999999999998,2.2000000000000002,2.2000000000000002,2.1,null,"N2-35P8",6.9,6.9,6.9,6.8,6.8,6.7,6.7,6.6,6.6,6.5,6.4,6.3,6.2,6.2]
[null,"N2-45P",8,"N2-45P8",10.1,12.9,18.8,22.4,27.2,31.1,34.700000000000003,46.3,49.1,58,68.900000000000006,81.2,84.2,91.8,null,"N2-45P8",93.9,92.9,95.9,103,111.5,115.1,118,134.30000000000001,137.5,150.80000000000001,158.5,178.6,185.2,192.8,null,9.3000000000000007,7.2,5.0999999999999996,4.5999999999999996,4.0999999999999996,3.7,3.4,2.9,2.8,2.6,2.2999999999999998,2.2000000000000002,2.2000000000000002,2.1,null,"N2-45P8",6.9,6.9,6.9,6.8,6.8,6.7,6.7,6.6,6.6,6.5,6.4,6.3,6.2,6.2]
[null,"N2-55P",8,"N2-55P8",12.1,15.5,22.5,26.9,32.6,37.299999999999997,41.7,55.6,58.9,69.7,82.7,97.4,101,110.2,null,"N2-55P8",112.5,111.6,114.8,123.7,133.69999999999999,138,141.80000000000001,161.19999999999999,164.9,181.2,190.2,214.3,222.2,231.4,null,9.3000000000000007,7.2,5.0999999999999996,4.5999999999999996,4.0999999999999996,3.7,3.4,2.9,2.8,2.6,2.2999999999999998,2.2000000000000002,2.2000000000000002,2.1,null,"N2-55P8",6.9,6.9,6.9,6.8,6.8,6.7,6.7,6.6,6.6,6.5,6.4,6.3,6.2,6.2]
[null,"N2-60P",8,"N2-60P8",13.4,17.2,25,29.8,36.1,41.3,46.2,61.6,65.3,77.2,91.7,108,112,122.1,null,"N2-60P8",131.30000000000001,130.69999999999999,132.5,146,155.19999999999999,161.1,161.69999999999999,184.8,189.4,208.4,229.3,248.4,257.60000000000002,268.60000000000002,null,9.8000000000000007,7.6,5.3,4.9000000000000004,4.3,3.9,3.5,3,2.9,2.7,2.5,2.2999999999999998,2.2999999999999998,2.2000000000000002,null,"N2-60P8",6.9,6.9,6.9,6.8,6.8,6.7,6.7,6.6,6.6,6.5,6.4,6.3,6.2,6.2]
[null,"N2-65P",8,"N2-65P8",15.3,19.7,28.5,34,41.3,47.2,52.8,70.400000000000006,74.7,88.2,104.8,123.4,128,139.6,null,"N2-65P8",149.9,149.69999999999999,151.1,166.6,177.6,184.1,184.8,211.2,216.6,238.1,262,283.8,294.39999999999998,307.10000000000002,null,9.8000000000000007,7.6,5.3,4.9000000000000004,4.3,3.9,3.5,3,2.9,2.7,2.5,2.2999999999999998,2.2999999999999998,2.2000000000000002,null,"N2-65P8",6.9,6.9,6.9,6.8,6.8,6.7,6.7,6.6,6.6,6.5,6.4,6.3,6.2,6.2]
[null,"N2-75P",8,"N2-75P8",16.7,21.4,31.1,37.1,45,51.5,57.5,76.7,81.3,96.1,114.2,134.5,139.4,152.1,null,"N2-75P8",168.7,166.9,171.1,185.5,198,206,212.8,237.8,243.9,269.10000000000002,285.5,322.8,334.6,349.8,null,10.1,7.8,5.5,5,4.4000000000000004,4,3.7,3.1,3,2.8,2.5,2.4,2.4,2.2999999999999998,null,"N2-75P8",6.9,6.9,6.9,6.8,6.8,6.7,6.7,6.6,6.6,6.5,6.4,6.3,6.2,6.2]
[null,"N2-80P",8,"N2-80P8",18.5,23.8,34.5,41.2,50,57.2,63.9,85.3,90.4,106.8,126.9,149.4,154.9,169,null,"N2-80P8",186.9,185.6,189.8,206,220,228.8,236.4,264.39999999999998,271.2,299,317.3,358.6,371.8,388.7,null,10.1,7.8,5.5,5,4.4000000000000004,4,3.7,3.1,3,2.8,2.5,2.4,2.4,2.2999999999999998,null,"N2-80P8",6.9,6.9,6.9,6.8,6.8,6.7,6.7,6.6,6.6,6.5,6.4,6.3,6.2,6.2]
[null,"N2-20P",9,"N2-20P9",4.5999999999999996,5.9,8.3000000000000007,9.9,12,13.8,15.4,20.399999999999999,21.6,25.3,30.1,35.5,36.799999999999997,40.1,null,"N2-20P9",42.8,42.5,42.3,45.5,49.2,51.1,52.4,59.2,60.5,65.8,69.2,78.099999999999994,81,84.2,null,9.3000000000000007,7.2,5.0999999999999996,4.5999999999999996,4.0999999999999996,3.7,3.4,2.9,2.8,2.6,2.2999999999999998,2.2000000000000002,2.2000000000000002,2.1,null,"N2-20P9",7.8,7.8,7.8,7.7,7.7,7.6,7.5,7.4,7.4,7.2,7.1,7,6.9,6.9]
[null,"N2-25P",9,"N2-25P9",6.8,8.8000000000000007,12.5,14.9,18,20.6,23.1,30.6,32.4,38,45.2,53.2,55.2,60.2,null,"N2-25P9",63.2,63.4,63.8,68.5,73.8,76.2,78.5,88.7,90.7,98.8,104,117,121.4,126.4,null,9.3000000000000007,7.2,5.0999999999999996,4.5999999999999996,4.0999999999999996,3.7,3.4,2.9,2.8,2.6,2.2999999999999998,2.2000000000000002,2.2000000000000002,2.1,null,"N2-25P9",7.8,7.8,7.8,7.7,7.7,7.6,7.5,7.4,7.4,7.2,7.1,7,6.9,6.9]
[null,"N2-35P",9,"N2-35P9",9.1,11.7,16.600000000000001,19.8,24.1,27.5,30.8,40.700000000000003,43.2,50.7,60.2,70.900000000000006,73.5,80.2,null,"N2-35P9",84.6,84.2,84.7,91.1,98.8,101.8,104.7,118,121,131.80000000000001,138.5,156,161.69999999999999,168.4,null,9.3000000000000007,7.2,5.0999999999999996,4.5999999999999996,4.0999999999999996,3.7,3.4,2.9,2.8,2.6,2.2999999999999998,2.2000000000000002,2.2000000000000002,2.1,null,"N2-35P9",7.8,7.8,7.8,7.7,7.7,7.6,7.5,7.4,7.4,7.2,7.1,7,6.9,6.9]
[null,"N2-45P",9,"N2-45P9",11.4,14.6,20.8,24.8,30.1,34.4,38.4,50.9,54,63.4,75.3,88.7,91.9,100.3,null,"N2-45P9",106,105.1,106.1,114.1,123.4,127.3,130.6,147.6,151.19999999999999,164.8,173.2,195.1,202.2,210.6,null,9.3000000000000007,7.2,5.0999999999999996,4.5999999999999996,4.0999999999999996,3.7,3.4,2.9,2.8,2.6,2.2999999999999998,2.2000000000000002,2.2000000000000002,2.1,null,"N2-45P9",7.8,7.8,7.8,7.7,7.7,7.6,7.5,7.4,7.4,7.2,7.1,7,6.9,6.9]
[null,"N2-55P",9,"N2-55P9",13.7,17.600000000000001,24.9,29.8,36.1,41.3,46.1,61.1,64.8,76,90.3,106.4,110.3,120.3,null,"N2-55P9",127.4,126.7,127,137.1,148,152.80000000000001,156.69999999999999,177.2,181.4,197.6,207.7,234.1,242.7,252.6,null,9.3000000000000007,7.2,5.0999999999999996,4.5999999999999996,4.0999999999999996,3.7,3.4,2.9,2.8,2.6,2.2999999999999998,2.2000000000000002,2.2000000000000002,2.1,null,"N2-55P9",7.8,7.8,7.8,7.7,7.7,7.6,7.5,7.4,7.4,7.2,7.1,7,6.9,6.9]
[null,"N2-60P",9,"N2-60P9",15.1,19.5,27.6,33,40,45.8,51.1,67.7,71.8,84.3,100.1,117.9,122.3,133.30000000000001,null,"N2-60P9",148,148.19999999999999,146.30000000000001,161.69999999999999,172,178.6,178.9,203.1,208.2,227.6,250.3,271.2,281.3,293.3,null,9.8000000000000007,7.6,5.3,4.9000000000000004,4.3,3.9,3.5,3,2.9,2.7,2.5,2.2999999999999998,2.2999999999999998,2.2000000000000002,null,"N2-60P9",7.8,7.8,7.8,7.7,7.7,7.6,7.5,7.4,7.4,7.2,7.1,7,6.9,6.9]
[null,"N2-65P",9,"N2-65P9",17.3,22.2,31.6,37.700000000000003,45.7,52.3,58.4,77.400000000000006,82.1,96.3,114.4,134.80000000000001,139.69999999999999,152.4,null,"N2-65P9",169.5,168.7,167.5,184.7,196.5,204,204.4,232.2,238.1,260,286,310,321.3,335.3,null,9.8000000000000007,7.6,5.3,4.9000000000000004,4.3,3.9,3.5,3,2.9,2.7,2.5,2.2999999999999998,2.2999999999999998,2.2000000000000002,null,"N2-65P9",7.8,7.8,7.8,7.7,7.7,7.6,7.5,7.4,7.4,7.2,7.1,7,6.9,6.9]
[null,"N2-75P",9,"N2-75P9",18.8,24.2,34.4,41.1,49.8,57,63.7,84.3,89.4,104.9,124.6,146.80000000000001,152.19999999999999,166,null,"N2-75P9",189.9,188.8,189.2,205.5,219.1,228,235.7,261.3,268.2,293.7,311.5,352.3,365.3,381.8,null,10.1,7.8,5.5,5,4.4000000000000004,4,3.7,3.1,3,2.8,2.5,2.4,2.4,2.2999999999999998,null,"N2-75P9",7.8,7.8,7.8,7.7,7.7,7.6,7.5,7.4,7.4,7.2,7.1,7,6.9,6.9]
[null,"N2-80P",9,"N2-80P9",20.9,26.9,38.200000000000003,45.6,55.3,63.3,70.7,93.7,99.3,116.6,138.5,163.1,169.1,184.5,null,"N2-80P9",211.1,209.8,210.1,228,243.3,253.2,261.60000000000002,290.5,297.89999999999998,326.5,346.3,391.4,405.8,424.4,null,10.1,7.8,5.5,5,4.4000000000000004,4,3.7,3.1,3,2.8,2.5,2.4,2.4,2.2999999999999998,null,"N2-80P9",7.8,7.8,7.8,7.7,7.7,7.6,7.5,7.4,7.4,7.2,7.1,7,6.9,6.9]
[null,"N2-20P",10,"N2-20P10",5.0999999999999996,6.5,9.1999999999999993,11,13.3,15.2,17,22,23.4,27.3,32.4,38.1,39.6,43.1,null,"N2-20P10",47.4,46.8,46.9,50.6,54.5,56.2,57.8,63.8,65.5,71,74.5,83.8,87.1,90.5,null,9.3000000000000007,7.2,5.0999999999999996,4.5999999999999996,4.0999999999999996,3.7,3.4,2.9,2.8,2.6,2.2999999999999998,2.2000000000000002,2.2000000000000002,2.1,null,"N2-20P10",8.6999999999999993,8.6999999999999993,8.6999999999999993,8.6,8.5,8.4,8.3000000000000007,8.3000000000000007,8.1999999999999993,8,7.9,7.7,7.66,7.6]
[null,"N2-25P",10,"N2-25P10",7.6,9.8000000000000007,13.8,16.399999999999999,19.899999999999999,22.8,25.5,33.1,35,40.9,48.6,57.2,59.3,64.7,null,"N2-25P10",70.7,70.599999999999994,70.400000000000006,75.400000000000006,81.599999999999994,84.4,86.7,96,98,106.3,111.8,125.8,130.5,135.9,null,9.3000000000000007,7.2,5.0999999999999996,4.5999999999999996,4.0999999999999996,3.7,3.4,2.9,2.8,2.6,2.2999999999999998,2.2000000000000002,2.2000000000000002,2.1,null,"N2-25P10",8.6999999999999993,8.6999999999999993,8.6999999999999993,8.6,8.5,8.4,8.3000000000000007,8.3000000000000007,8.1999999999999993,8,7.9,7.7,7.66,7.6]
[null,"N2-35P",10,"N2-35P10",10.199999999999999,13.1,18.399999999999999,21.9,26.6,30.4,34,44.1,46.7,54.5,64.8,76.3,79.099999999999994,86.3,null,"N2-35P10",94.9,94.3,93.8,100.7,109.1,112.5,115.6,127.9,130.80000000000001,141.69999999999999,149,167.9,174,181.2,null,9.3000000000000007,7.2,5.0999999999999996,4.5999999999999996,4.0999999999999996,3.7,3.4,2.9,2.8,2.6,2.2999999999999998,2.2000000000000002,2.2000000000000002,2.1,null,"N2-35P10",8.6999999999999993,8.6999999999999993,8.6999999999999993,8.6,8.5,8.4,8.3000000000000007,8.3000000000000007,8.1999999999999993,8,7.9,7.7,7.66,7.6]
[null,"N2-45P",10,"N2-45P10",12.7,16.3,22.9,27.4,33.200000000000003,38,42.5,55.1,58.4,68.2,81,95.4,98.9,107.8,null,"N2-45P10",118.1,117.4,116.8,126,136.1,140.6,144.5,159.80000000000001,163.5,177.3,186.3,209.9,217.6,226.4,null,9.3000000000000007,7.2,5.0999999999999996,4.5999999999999996,4.0999999999999996,3.7,3.4,2.9,2.8,2.6,2.2999999999999998,2.2000000000000002,2.2000000000000002,2.1,null,"N2-45P10",8.6999999999999993,8.6999999999999993,8.6999999999999993,8.6,8.5,8.4,8.3000000000000007,8.3000000000000007,8.1999999999999993,8,7.9,7.7,7.66,7.6]
[null,"N2-55P",10,"N2-55P10",15.2,19.600000000000001,27.5,32.9,39.9,45.6,51,66.099999999999994,70.099999999999994,81.8,97.2,114.4,118.7,129.4,null,"N2-55P10",141.4,141.1,140.30000000000001,151.30000000000001,163.6,168.7,173.4,191.7,196.3,212.7,223.6,251.7,261.10000000000002,271.7,null,9.3000000000000007,7.2,5.0999999999999996,4.5999999999999996,4.0999999999999996,3.7,3.4,2.9,2.8,2.6,2.2999999999999998,2.2000000000000002,2.2000000000000002,2.1,null,"N2-55P10",8.6999999999999993,8.6999999999999993,8.6999999999999993,8.6,8.5,8.4,8.3000000000000007,8.3000000000000007,8.1999999999999993,8,7.9,7.7,7.66,7.6]
[null,"N2-60P",10,"N2-60P10",16.899999999999999,21.7,30.5,36.4,44.2,50.6,56.5,73.3,77.7,90.7,107.7,126.8,131.5,143.4,null,"N2-60P10",165.6,164.9,161.69999999999999,178.4,190.1,197.3,197.8,219.9,225.3,244.9,269.3,291.60000000000002,302.5,315.5,null,9.8000000000000007,7.6,5.3,4.9000000000000004,4.3,3.9,3.5,3,2.9,2.7,2.5,2.2999999999999998,2.2999999999999998,2.2000000000000002,null,"N2-60P10",8.6999999999999993,8.6999999999999993,8.6999999999999993,8.6,8.5,8.4,8.3000000000000007,8.3000000000000007,8.1999999999999993,8,7.9,7.7,7.66,7.6]
[null,"N2-65P",10,"N2-65P10",19.3,24.8,34.9,41.6,50.5,57.8,64.599999999999994,83.8,88.8,103.6,123.1,144.9,150.30000000000001,163.9,null,"N2-65P10",189.1,188.5,185,203.8,217.2,225.4,226.1,251.4,257.5,279.7,307.8,333.3,345.7,360.6,null,9.8000000000000007,7.6,5.3,4.9000000000000004,4.3,3.9,3.5,3,2.9,2.7,2.5,2.2999999999999998,2.2999999999999998,2.2000000000000002,null,"N2-65P10",8.6999999999999993,8.6999999999999993,8.6999999999999993,8.6,8.5,8.4,8.3000000000000007,8.3000000000000007,8.1999999999999993,8,7.9,7.7,7.66,7.6]
[null,"N2-75P",10,"N2-75P10",21,27,38,45.4,55,63,70.3,91.3,96.7,112.9,134.1,157.9,163.69999999999999,178.6,null,"N2-75P10",212.1,210.6,209,227,242,252,260.10000000000002,283,290.10000000000002,316.10000000000002,335.3,379,392.9,410.8,null,10.1,7.8,5.5,5,4.4000000000000004,4,3.7,3.1,3,2.8,2.5,2.4,2.4,2.2999999999999998,null,"N2-75P10",8.6999999999999993,8.6999999999999993,8.6999999999999993,8.6,8.5,8.4,8.3000000000000007,8.3000000000000007,8.1999999999999993,8,7.9,7.7,7.66,7.6]
[null,"N2-80P",10,"N2-80P10",23.3,30,42.2,50.4,61.1,70,78.099999999999994,101.4,107.5,125.4,149,175.5,181.9,198.4,null,"N2-80P10",235.3,234,232.1,252,268.8,280,289,314.3,322.5,351.1,372.5,421.2,436.6,456.3,null,10.1,7.8,5.5,5,4.4000000000000004,4,3.7,3.1,3,2.8,2.5,2.4,2.4,2.2999999999999998,null,"N2-80P10",8.6999999999999993,8.6999999999999993,8.6999999999999993,8.6,8.5,8.4,8.3000000000000007,8.3000000000000007,8.1999999999999993,8,7.9,7.7,7.66,7.6]
[null,"N2-20P",11,"N2-20P11",5.4,6.9,9.5,11.4,13.8,15.8,17.600000000000001,23,24.4,28.3,33.6,39.6,41.1,44.8,null,"N2-20P11",55.1,54.5,53.2,58.1,62.1,64.8,65.099999999999994,73.599999999999994,75.599999999999994,79.2,87.4,95,98.6,103,null,10.199999999999999,7.9,5.6,5.0999999999999996,4.5,4.0999999999999996,3.7,3.2,3.1,2.8,2.6,2.4,2.4,2.2999999999999998,null,"N2-20P11",9.6,9.6,9.6,9.5,9.4,9.3000000000000007,9.1999999999999993,9.1,9,8.8000000000000007,8.6,8.4,8.3000000000000007,8.3000000000000007]
[null,"N2-25P",11,"N2-25P11",8.1,10.4,14.3,17,20.7,23.6,26.4,34.6,36.6,42.5,50.5,59.5,61.6,67.2,null,"N2-25P11",82.6,82.2,80.099999999999994,86.7,93.2,96.8,97.7,110.7,113.5,119,131.30000000000001,142.80000000000001,147.80000000000001,154.6,null,10.199999999999999,7.9,5.6,5.0999999999999996,4.5,4.0999999999999996,3.7,3.2,3.1,2.8,2.6,2.4,2.4,2.2999999999999998,null,"N2-25P11",9.6,9.6,9.6,9.5,9.4,9.3000000000000007,9.1999999999999993,9.1,9,8.8000000000000007,8.6,8.4,8.3000000000000007,8.3000000000000007]
[null,"N2-35P",11,"N2-35P11",10.8,13.9,19,22.7,27.5,31.5,35.200000000000003,46.1,48.9,56.7,67.3,79.3,82.2,89.6,null,"N2-35P11",110.2,109.8,106.4,115.8,123.8,129.19999999999999,130.19999999999999,147.5,151.6,158.80000000000001,175,190.3,197.3,206.1,null,10.199999999999999,7.9,5.6,5.0999999999999996,4.5,4.0999999999999996,3.7,3.2,3.1,2.8,2.6,2.4,2.4,2.2999999999999998,null,"N2-35P11",9.6,9.6,9.6,9.5,9.4,9.3000000000000007,9.1999999999999993,9.1,9,8.8000000000000007,8.6,8.4,8.3000000000000007,8.3000000000000007]
[null,"N2-45P",11,"N2-45P11",13.5,17.3,23.8,28.4,34.4,39.4,44,57.6,61.1,70.8,84.1,99.1,102.7,112.1,null,"N2-45P11",137.69999999999999,136.69999999999999,133.30000000000001,144.80000000000001,154.80000000000001,161.5,162.80000000000001,184.3,189.4,198.2,218.7,237.8,246.5,257.8,null,10.199999999999999,7.9,5.6,5.0999999999999996,4.5,4.0999999999999996,3.7,3.2,3.1,2.8,2.6,2.4,2.4,2.2999999999999998,null,"N2-45P11",9.6,9.6,9.6,9.5,9.4,9.3000000000000007,9.1999999999999993,9.1,9,8.8000000000000007,8.6,8.4,8.3000000000000007,8.3000000000000007]
[null,"N2-55P",11,"N2-55P11",16.2,20.8,28.5,34.1,41.3,47.3,52.8,69.099999999999994,73.3,85,100.9,118.9,123.3,134.5,null,"N2-55P11",165.2,164.3,159.6,173.9,185.9,193.9,195.4,221.1,227.2,238,262.3,285.39999999999998,295.89999999999998,309.39999999999998,null,10.199999999999999,7.9,5.6,5.0999999999999996,4.5,4.0999999999999996,3.7,3.2,3.1,2.8,2.6,2.4,2.4,2.2999999999999998,null,"N2-55P11",9.6,9.6,9.6,9.5,9.4,9.3000000000000007,9.1999999999999993,9.1,9,8.8000000000000007,8.6,8.4,8.3000000000000007,8.3000000000000007]
[null,"N2-60P",11,"N2-60P11",17.899999999999999,23,31.6,37.799999999999997,45.8,52.4,58.5,76.599999999999994,81.2,94.2,111.9,131.80000000000001,136.6,149,null,"N2-60P11",191.5,190.9,186.4,200.3,215.3,225.3,228.2,252.8,259.8,282.60000000000002,302.10000000000002,342.7,341.5,372.5,null,10.7,8.3000000000000007,5.9,5.3,4.7,4.3,3.9,3.3,3.2,3,2.7,2.6,2.5,2.5,null,"N2-60P11",9.6,9.6,9.6,9.5,9.4,9.3000000000000007,9.1999999999999993,9.1,9,8.8000000000000007,8.6,8.4,8.3000000000000007,8.3000000000000007]
[null,"N2-65P",11,"N2-65P11",20.5,26.3,36.200000000000003,43.2,52.3,59.9,66.900000000000006,87.6,92.8,107.7,127.9,150.6,156.19999999999999,170.3,null,"N2-65P11",219.4,218.3,213.6,229,245.8,257.60000000000002,260.89999999999998,289.10000000000002,297,323.10000000000002,345.3,391.6,390.5,425.8,null,10.7,8.3000000000000007,5.9,5.3,4.7,4.3,3.9,3.3,3.2,3,2.7,2.6,2.5,2.5,null,"N2-65P11",9.6,9.6,9.6,9.5,9.4,9.3000000000000007,9.1999999999999993,9.1,9,8.8000000000000007,8.6,8.4,8.3000000000000007,8.3000000000000007]
[null,"N2-75P",11,"N2-75P11",22.3,28.7,39.4,47,57,65.3,72.900000000000006,95.4,101.1,117.3,139.30000000000001,164.1,170.1,185.6,null,"N2-75P11",247.5,246.8,240.3,258.5,279.3,287.3,291.60000000000002,324.39999999999998,333.6,363.6,390,426.7,442.3,464,null,11.1,8.6,6.1,5.5,4.9000000000000004,4.4000000000000004,4,3.4,3.3,3.1,2.8,2.6,2.6,2.5,null,"N2-75P11",9.6,9.6,9.6,9.5,9.4,9.3000000000000007,9.1999999999999993,9.1,9,8.8000000000000007,8.6,8.4,8.3000000000000007,8.3000000000000007]
[null,"N2-80P",11,"N2-80P11",24.8,31.9,43.8,52.3,63.4,72.5,81,106,112.4,130.30000000000001,154.80000000000001,182.3,189,206.2,null,"N2-80P11",275.3,274.3,267.2,287.7,310.7,319,324,360.4,370.9,403.9,433.4,474,491.4,515.5,null,11.1,8.6,6.1,5.5,4.9000000000000004,4.4000000000000004,4,3.4,3.3,3.1,2.8,2.6,2.6,2.5,null,"N2-80P11",9.6,9.6,9.6,9.5,9.4,9.3000000000000007,9.1999999999999993,9.1,9,8.8000000000000007,8.6,8.4,8.3000000000000007,8.3000000000000007]
[null,"N2-20P",12,"N2-20P12",5.7,7.3,9.9,11.8,14.4,16.399999999999999,18.399999999999999,23.9,25.3,29.4,34.9,41.1,42.6,46.5,null,"N2-20P12",58.1,57.7,55.4,60.2,64.8,67.2,68.099999999999994,76.5,78.400000000000006,82.3,90.7,98.6,102.2,107,null,10.199999999999999,7.9,5.6,5.0999999999999996,4.5,4.0999999999999996,3.7,3.2,3.1,2.8,2.6,2.4,2.4,2.2999999999999998,null,"N2-20P12",10.5,10.5,10.5,10.4,10.3,10.199999999999999,10,9.9,9.8000000000000007,9.5,9.3000000000000007,9,9,8.9]
[null,"N2-25P",12,"N2-25P12",8.6,11,14.9,17.8,21.5,24.6,27.5,35.799999999999997,38,44.1,52.4,61.7,64,69.8,null,"N2-25P12",87.7,86.9,83.4,90.8,96.8,100.9,101.8,114.6,117.8,123.5,136.19999999999999,148.1,153.6,160.5,null,10.199999999999999,7.9,5.6,5.0999999999999996,4.5,4.0999999999999996,3.7,3.2,3.1,2.8,2.6,2.4,2.4,2.2999999999999998,null,"N2-25P12",10.5,10.5,10.5,10.4,10.3,10.199999999999999,10,9.9,9.8000000000000007,9.5,9.3000000000000007,9,9,8.9]
[null,"N2-35P",12,"N2-35P12",11.4,14.7,19.8,23.7,28.7,32.9,36.700000000000003,47.8,50.6,58.8,69.8,82.2,85.3,93,null,"N2-35P12",116.3,116.1,110.9,120.9,129.19999999999999,134.9,135.80000000000001,153,156.9,164.6,181.5,197.3,204.7,213.9,null,10.199999999999999,7.9,5.6,5.0999999999999996,4.5,4.0999999999999996,3.7,3.2,3.1,2.8,2.6,2.4,2.4,2.2999999999999998,null,"N2-35P12",10.5,10.5,10.5,10.4,10.3,10.199999999999999,10,9.9,9.8000000000000007,9.5,9.3000000000000007,9,9,8.9]
[null,"N2-45P",12,"N2-45P12",14.3,18.3,24.8,29.6,35.9,41.1,45.9,59.7,63.3,73.5,87.3,102.8,106.6,116.3,null,"N2-45P12",145.9,144.6,138.9,151,161.6,168.5,169.8,191,196.2,205.8,227,246.7,255.8,267.5,null,10.199999999999999,7.9,5.6,5.0999999999999996,4.5,4.0999999999999996,3.7,3.2,3.1,2.8,2.6,2.4,2.4,2.2999999999999998,null,"N2-45P12",10.5,10.5,10.5,10.4,10.3,10.199999999999999,10,9.9,9.8000000000000007,9.5,9.3000000000000007,9,9,8.9]
[null,"N2-55P",12,"N2-55P12",17.100000000000001,22,29.7,35.5,43.1,49.3,55.1,71.599999999999994,75.900000000000006,88.2,104.7,123.4,127.9,139.5,null,"N2-55P12",174.4,173.8,166.3,181.1,194,202.1,203.9,229.1,235.3,247,272.2,296.2,307,320.89999999999998,null,10.199999999999999,7.9,5.6,5.0999999999999996,4.5,4.0999999999999996,3.7,3.2,3.1,2.8,2.6,2.4,2.4,2.2999999999999998,null,"N2-55P12",10.5,10.5,10.5,10.4,10.3,10.199999999999999,10,9.9,9.8000000000000007,9.5,9.3000000000000007,9,9,8.9]
[null,"N2-60P",12,"N2-60P12",19,24.4,33,39.4,47.7,54.6,61,79.400000000000006,84.2,97.7,116.1,136.69999999999999,141.80000000000001,154.6,null,"N2-60P12",203.3,202.5,194.7,208.8,224.2,234.8,237.9,262,269.39999999999998,293.10000000000002,313.5,355.4,354.5,386.5,null,10.7,8.3000000000000007,5.9,5.3,4.7,4.3,3.9,3.3,3.2,3,2.7,2.6,2.5,2.5,null,"N2-60P12",10.5,10.5,10.5,10.4,10.3,10.199999999999999,10,9.9,9.8000000000000007,9.5,9.3000000000000007,9,9,8.9]
[null,"N2-65P",12,"N2-65P12",21.7,27.9,37.700000000000003,45,54.6,62.4,69.7,90.7,96.2,111.7,132.69999999999999,156.30000000000001,162,176.7,null,"N2-65P12",232.2,231.6,222.4,238.5,256.60000000000002,268.3,271.8,299.3,307.8,335.1,358.3,406.4,405,441.8,null,10.7,8.3000000000000007,5.9,5.3,4.7,4.3,3.9,3.3,3.2,3,2.7,2.6,2.5,2.5,null,"N2-65P12",10.5,10.5,10.5,10.4,10.3,10.199999999999999,10,9.9,9.8000000000000007,9.5,9.3000000000000007,9,9,8.9]
[null,"N2-75P",12,"N2-75P12",23.6,30.4,41.1,49,59.4,68,76,98.9,104.8,121.7,144.5,170.3,176.5,192.5,null,"N2-75P12",262,261.39999999999998,250.7,269.5,291.10000000000002,299.2,304,336.3,345.8,377.3,404.6,442.8,458.9,481.3,null,11.1,8.6,6.1,5.5,4.9000000000000004,4.4000000000000004,4,3.4,3.3,3.1,2.8,2.6,2.6,2.5,null,"N2-75P12",10.5,10.5,10.5,10.4,10.3,10.199999999999999,10,9.9,9.8000000000000007,9.5,9.3000000000000007,9,9,8.9]
[null,"N2-80P",12,"N2-80P12",26.2,33.700000000000003,45.6,54.5,66,75.599999999999994,84.4,109.9,116.4,135.19999999999999,160.6,189.2,196.2,213.9,null,"N2-80P12",290.8,289.8,278.2,299.8,323.39999999999998,332.6,337.6,373.7,384.1,419.1,449.7,491.9,510.1,534.79999999999995,null,11.1,8.6,6.1,5.5,4.9000000000000004,4.4000000000000004,4,3.4,3.3,3.1,2.8,2.6,2.6,2.5,null,"N2-80P12",10.5,10.5,10.5,10.4,10.3,10.199999999999999,10,9.9,9.8000000000000007,9.5,9.3000000000000007,9,9,8.9]
[null,"N2-20P",13,"N2-20P13",6,7.7,10.3,12.2,14.8,17,19,24.9,26.4,30.2,35.9,42.3,43.9,47.9,null,"N2-20P13",61.2,60.8,57.7,62.2,66.599999999999994,69.7,70.3,79.7,81.8,84.6,93.3,101.5,105.4,110.2,null,10.199999999999999,7.9,5.6,5.0999999999999996,4.5,4.0999999999999996,3.7,3.2,3.1,2.8,2.6,2.4,2.4,2.2999999999999998,null,"N2-20P13",11.4,11.4,11.3,11.2,11.2,11,10.9,10.7,10.6,10.3,10,9.6,9.5,9.5]
[null,"N2-25P",13,"N2-25P13",9,11.6,15.4,18.399999999999999,22.3,25.5,28.5,37.299999999999997,39.6,45.4,53.9,63.5,65.8,71.8,null,"N2-25P13",91.8,91.6,86.2,93.8,100.4,104.6,105.5,119.4,122.8,127.1,140.1,152.4,157.9,165.1,null,10.199999999999999,7.9,5.6,5.0999999999999996,4.5,4.0999999999999996,3.7,3.2,3.1,2.8,2.6,2.4,2.4,2.2999999999999998,null,"N2-25P13",11.4,11.4,11.3,11.2,11.2,11,10.9,10.7,10.6,10.3,10,9.6,9.5,9.5]
[null,"N2-35P",13,"N2-35P13",12,15.5,20.5,24.5,29.7,34,37.9,49.8,52.7,60.5,71.900000000000006,84.6,87.8,95.7,null,"N2-35P13",122.4,122.5,114.8,125,133.69999999999999,139.4,140.19999999999999,159.4,163.4,169.4,186.9,203,210.7,220.1,null,10.199999999999999,7.9,5.6,5.0999999999999996,4.5,4.0999999999999996,3.7,3.2,3.1,2.8,2.6,2.4,2.4,2.2999999999999998,null,"N2-35P13",11.4,11.4,11.3,11.2,11.2,11,10.9,10.7,10.6,10.3,10,9.6,9.5,9.5]
[null,"N2-45P",13,"N2-45P13",15.1,19.399999999999999,25.6,30.6,37.1,42.5,47.4,62.2,65.900000000000006,75.599999999999994,89.8,105.8,109.7,119.6,null,"N2-45P13",154,153.30000000000001,143.4,156.1,167,174.3,175.4,199,204.3,211.7,233.5,253.9,263.3,275.10000000000002,null,10.199999999999999,7.9,5.6,5.0999999999999996,4.5,4.0999999999999996,3.7,3.2,3.1,2.8,2.6,2.4,2.4,2.2999999999999998,null,"N2-45P13",11.4,11.4,11.3,11.2,11.2,11,10.9,10.7,10.6,10.3,10,9.6,9.5,9.5]
[null,"N2-55P",13,"N2-55P13",18.100000000000001,23.2,30.8,36.700000000000003,44.5,50.9,56.9,74.599999999999994,79.099999999999994,90.7,107.8,126.9,131.6,143.6,null,"N2-55P13",184.6,183.3,172.5,187.2,200.3,208.7,210.5,238.7,245.2,254,280.3,304.60000000000002,315.8,330.3,null,10.199999999999999,7.9,5.6,5.0999999999999996,4.5,4.0999999999999996,3.7,3.2,3.1,2.8,2.6,2.4,2.4,2.2999999999999998,null,"N2-55P13",11.4,11.4,11.3,11.2,11.2,11,10.9,10.7,10.6,10.3,10,9.6,9.5,9.5]
[null,"N2-60P",13,"N2-60P13",20,25.7,34.1,40.700000000000003,49.3,56.5,63.1,82.7,87.7,100.6,119.5,140.69999999999999,145.9,159.1,null,"N2-60P13",214,213.3,201.2,215.7,231.7,243,246.1,272.89999999999998,280.60000000000002,301.8,322.7,365.8,364.8,397.8,null,10.7,8.3000000000000007,5.9,5.3,4.7,4.3,3.9,3.3,3.2,3,2.7,2.6,2.5,2.5,null,"N2-60P13",11.4,11.4,11.3,11.2,11.2,11,10.9,10.7,10.6,10.3,10,9.6,9.5,9.5]
[null,"N2-65P",13,"N2-65P13",22.9,29.4,39,46.5,56.4,64.5,72.099999999999994,94.6,100.2,114.9,136.5,160.80000000000001,166.7,181.8,null,"N2-65P13",245,244,230.1,246.5,265.10000000000002,277.39999999999998,281.2,312.2,320.60000000000002,344.7,368.6,418.1,416.8,454.5,null,10.7,8.3000000000000007,5.9,5.3,4.7,4.3,3.9,3.3,3.2,3,2.7,2.6,2.5,2.5,null,"N2-65P13",11.4,11.4,11.3,11.2,11.2,11,10.9,10.7,10.6,10.3,10,9.6,9.5,9.5]
[null,"N2-75P",13,"N2-75P13",24.9,32,42.4,50.7,61.4,70.3,78.5,103,109.2,125.2,148.69999999999999,175.2,181.7,198.1,null,"N2-75P13",276.39999999999998,275.2,258.60000000000002,278.89999999999998,300.89999999999998,309.3,314,350.2,360.4,388.1,416.4,455.5,472.4,495.3,null,11.1,8.6,6.1,5.5,4.9000000000000004,4.4000000000000004,4,3.4,3.3,3.1,2.8,2.6,2.6,2.5,null,"N2-75P13",11.4,11.4,11.3,11.2,11.2,11,10.9,10.7,10.6,10.3,10,9.6,9.5,9.5]
[null,"N2-80P",13,"N2-80P13",27.7,35.6,47.2,56.3,68.3,78.099999999999994,87.3,114.5,121.3,139.1,165.3,194.7,201.8,220.1,null,"N2-80P13",307.5,306.2,287.89999999999998,309.7,334.7,343.6,349.2,389.3,400.3,431.2,462.8,506.2,524.70000000000005,550.29999999999995,null,11.1,8.6,6.1,5.5,4.9000000000000004,4.4000000000000004,4,3.4,3.3,3.1,2.8,2.6,2.6,2.5,null,"N2-80P13",11.4,11.4,11.3,11.2,11.2,11,10.9,10.7,10.6,10.3,10,9.6,9.5,9.5]
[null,{"$f":"B3","v":"MIDIGAS 2"},6.5,"MIDIGAS 26,5",null,0.55000000000000004,0,1.1499999999999999,1.35,1.7999999999999998,2.25,0,3.2,4.05,5.4499999999999993,6.75,7.9,8.8500000000000014,null,"MIDIGAS 26,5",{"$error":"#VALUE!"},5.1999999999999993,{"$error":"#VALUE!"},7.3,7.45,8.65,8.8000000000000007,{"$error":"#VALUE!"},10.25,11.75,13.65,15.55,17.399999999999999,18.549999999999997,null,"N/A",9.3999999999999986,"N/A",6.35,5.5,4.8000000000000007,3.9,"N/A",3.2,2.9,2.5,2.2999999999999998,2.2000000000000002,2.1,null,"MIDIGAS 26,5",null,5.1999999999999993,null,5.0999999999999996,5.5,5.35,5.25,null,5.3000000000000007,5.55,5.5,5.4,5.3000000000000007,5.1999999999999993]
[null,"MIDIGAS 2",7.5,"MIDIGAS 27,5",null,0.6,null,1.2,1.5,1.9,2.5,null,3.55,4.5,6.1,7.5500000000000007,8.8000000000000007,9.8500000000000014,null,"MIDIGAS 27,5",{"$error":"#VALUE!"},5.9499999999999993,{"$error":"#VALUE!"},8.0500000000000007,8.65,9.6000000000000014,9.75,{"$error":"#VALUE!"},11.350000000000001,13.05,15.25,17.399999999999999,19.350000000000001,20.65,null,"N/A",9.85,"N/A",6.7,5.75,5.0500000000000007,3.9,"N/A",3.2,2.9,2.5,2.2999999999999998,2.2000000000000002,2.1,null,"MIDIGAS 27,5",null,6.1,null,5.75,6.25,6.0500000000000007,5.8,null,6.0500000000000007,6.3,6.25,6.1,5.95,5.8]
[null,"MIDIGAS 2",8.5,"MIDIGAS 28,5",null,0.6,null,1.2,1.5,1.9,2.75,null,3.9,4.95,6.7,8.25,9.6499999999999986,10.8,null,"MIDIGAS 28,5",{"$error":"#VALUE!"},6.15,{"$error":"#VALUE!"},8.4,9.0500000000000007,10,10.85,{"$error":"#VALUE!"},12.65,14.6,17.100000000000001,19,21.2,22.65,null,"N/A",10.25,"N/A",7,6,5.25,3.95,"N/A",3.25,2.95,2.5499999999999998,2.2999999999999998,2.2000000000000002,2.1,null,"MIDIGAS 28,5",null,6.9,null,6.4,6.85,6.65,6.3,null,6.5500000000000007,7.1999999999999993,6.9,6.9,6.5,6.45]
[null,"MIDIGAS 2",9.5,"MIDIGAS 29,5",null,0.6,null,1.2,1.5,1.9,2.95,null,4.1999999999999993,5.3000000000000007,7.15,8.8000000000000007,10.3,11.55,null,"MIDIGAS 29,5",{"$error":"#VALUE!"},6.3000000000000007,{"$error":"#VALUE!"},8.5500000000000007,9.25,10.199999999999999,11.8,{"$error":"#VALUE!"},13.85,15.899999999999999,18.600000000000001,20.700000000000003,23.2,24.85,null,"N/A",10.55,"N/A",7.15,6.15,5.35,4,"N/A",3.3,3,2.6,2.3499999999999996,2.25,2.1500000000000004,null,"MIDIGAS 29,5",null,7.4,null,6.95,7.4,7.15,6.6999999999999993,null,6.85,8.1,7.6999999999999993,7.6,7.1999999999999993,7.1]
[null,"MIDIGAS 2",10.5,"MIDIGAS 210,5",null,0.3,null,0.6,0.75,0.95,3.05,null,4.4000000000000004,5.5,7.4499999999999993,9.1999999999999993,10.75,12.05,null,"MIDIGAS 210,5",{"$error":"#VALUE!"},{"$error":"#VALUE!"},{"$error":"#VALUE!"},{"$error":"#VALUE!"},{"$error":"#VALUE!"},{"$error":"#VALUE!"},12.35,{"$error":"#VALUE!"},14.75,16.5,19.399999999999999,22.1,24.75,26.55,null,"N/A","N/A","N/A","N/A","N/A","N/A",4.05,"N/A",3.3499999999999996,3,2.6,2.4,2.2999999999999998,2.2000000000000002,null,"MIDIGAS 210,5",null,3.8,null,3.6,3.85,3.7,8.1,null,7.9,9.1000000000000014,8.6,8.65,8.1499999999999986,8.15]
[null,"MIDIGAS 2",11.5,"MIDIGAS 211,5",null,null,null,null,null,null,3.1500000000000004,null,4.55,5.6999999999999993,7.6999999999999993,9.5,11.15,12.45,null,"MIDIGAS 211,5",{"$error":"#VALUE!"},{"$error":"#VALUE!"},{"$error":"#VALUE!"},{"$error":"#VALUE!"},{"$error":"#VALUE!"},{"$error":"#VALUE!"},13.05,{"$error":"#VALUE!"},15.700000000000001,17.399999999999999,20.450000000000003,23.3,26.200000000000003,28.05,null,"N/A","N/A","N/A","N/A","N/A","N/A",4.1500000000000004,"N/A",3.45,3.05,2.6500000000000004,2.4500000000000002,2.3499999999999996,2.25,null,"MIDIGAS 211,5",null,null,null,null,null,null,9.6000000000000014,null,8.8500000000000014,10,9.5500000000000007,9.6,9.1499999999999986,9.1999999999999993]
[null,"MIDIGAS 2",12.5,"MIDIGAS 212,5",null,null,null,null,null,null,3.25,null,4.5999999999999996,5.8,7.85,9.6999999999999993,11.350000000000001,12.7,null,"MIDIGAS 212,5",{"$error":"#VALUE!"},{"$error":"#VALUE!"},{"$error":"#VALUE!"},{"$error":"#VALUE!"},{"$error":"#VALUE!"},{"$error":"#VALUE!"},13.95,{"$error":"#VALUE!"},16.350000000000001,18.3,21.6,24.75,27.8,29.85,null,"N/A","N/A","N/A","N/A","N/A","N/A",4.3000000000000007,"N/A",3.55,3.1500000000000004,2.75,2.5499999999999998,2.4500000000000002,2.3499999999999996,null,"MIDIGAS 212,5",null,null,null,null,null,null,10.199999999999999,null,9.1000000000000014,10.6,10.3,10.050000000000001,9.75,9.6000000000000014]
[null,{"$f":"B11","v":"MIDIGAS 4"},6.5,"MIDIGAS 46,5",null,1.1499999999999999,null,2.25,3,3.65,4.4000000000000004,null,6.5,8,10.899999999999999,13.45,15.7,17.649999999999999,null,"MIDIGAS 46,5",{"$error":"#VALUE!"},10.8,{"$error":"#VALUE!"},14.3,16.5,17.55,17.149999999999999,{"$error":"#VALUE!"},20.8,23.25,27.25,30.95,34.5,37.1,null,"N/A",9.3999999999999986,"N/A",6.35,5.5,4.8000000000000007,3.9,"N/A",3.2,2.9,2.5,2.2999999999999998,2.2000000000000002,2.1,null,"MIDIGAS 46,5",null,5.1999999999999993,null,5.0999999999999996,5.5,5.35,5.25,null,5.3000000000000007,5.55,5.5,5.4,5.3000000000000007,5.1999999999999993]
[null,"MIDIGAS 4",7.5,"MIDIGAS 47,5",null,1.2,null,2.4,3.2,3.9,4.95,null,7.25,8.9499999999999993,12.2,15,17.549999999999997,19.75,null,"MIDIGAS 47,5",{"$error":"#VALUE!"},11.8,{"$error":"#VALUE!"},16.100000000000001,18.399999999999999,19.700000000000003,19.3,{"$error":"#VALUE!"},23.200000000000003,26,30.5,34.5,38.6,41.5,null,"N/A",9.85,"N/A",6.7,5.75,5.0500000000000007,3.9,"N/A",3.2,2.9,2.5,2.2999999999999998,2.2000000000000002,2.1,null,"MIDIGAS 47,5",null,6.1,null,5.75,6.25,6.0500000000000007,5.8,null,6.0500000000000007,6.3,6.25,6.1,5.95,5.8]
[null,"MIDIGAS 4",8.5,"MIDIGAS 48,5",null,1.2,null,2.4,3.2,3.9,5.4,null,7.95,9.8000000000000007,13.350000000000001,16.45,19.2,21.65,null,"MIDIGAS 48,5",{"$error":"#VALUE!"},12.3,{"$error":"#VALUE!"},16.8,19.2,20.5,21.35,{"$error":"#VALUE!"},25.85,28.950000000000003,34.049999999999997,37.85,42.25,45.5,null,"N/A",10.25,"N/A",7,6,5.25,3.95,"N/A",3.25,2.95,2.5499999999999998,2.2999999999999998,2.2000000000000002,2.1,null,"MIDIGAS 48,5",null,6.9,null,6.4,6.85,6.65,6.3,null,6.5500000000000007,7.1999999999999993,6.9,6.9,6.5,6.45]
[null,"MIDIGAS 4",9.5,"MIDIGAS 49,5",null,1.2,null,2.4,3.2,3.9,5.75,null,8.4499999999999993,10.399999999999999,14.2,17.549999999999997,20.45,23.05,null,"MIDIGAS 49,5",{"$error":"#VALUE!"},12.65,{"$error":"#VALUE!"},17.149999999999999,19.649999999999999,20.9,23,{"$error":"#VALUE!"},27.9,31.200000000000003,36.900000000000006,41.3,46.05,49.6,null,"N/A",10.55,"N/A",7.15,6.15,5.35,4,"N/A",3.3,3,2.6,2.3499999999999996,2.25,2.1500000000000004,null,"MIDIGAS 49,5",null,7.4,null,6.95,7.4,7.15,6.6999999999999993,null,6.85,8.1,7.6999999999999993,7.6,7.1999999999999993,7.1]
[null,"MIDIGAS 4",10.5,"MIDIGAS 410,5",null,0.6,null,1.2,1.6,1.95,6.0500000000000007,null,8.8000000000000007,10.85,14.85,18.299999999999997,21.4,24.05,null,"MIDIGAS 410,5",{"$error":"#VALUE!"},{"$error":"#VALUE!"},{"$error":"#VALUE!"},{"$error":"#VALUE!"},{"$error":"#VALUE!"},{"$error":"#VALUE!"},24.5,{"$error":"#VALUE!"},29.5,32.549999999999997,38.6,43.95,49.25,52.900000000000006,null,"N/A","N/A","N/A","N/A","N/A","N/A",4.05,"N/A",3.3499999999999996,3,2.6,2.4,2.2999999999999998,2.2000000000000002,null,"MIDIGAS 410,5",null,3.8,null,3.6,3.85,3.7,8.1,null,7.9,9.1000000000000014,8.6,8.65,8.1499999999999986,8.15]
[null,"MIDIGAS 4",11.5,"MIDIGAS 411,5",null,null,null,null,null,null,6.25,null,9.1,11.25,15.35,18.95,22.15,24.9,null,"MIDIGAS 411,5",{"$error":"#VALUE!"},{"$error":"#VALUE!"},{"$error":"#VALUE!"},{"$error":"#VALUE!"},{"$error":"#VALUE!"},{"$error":"#VALUE!"},25.95,{"$error":"#VALUE!"},31.400000000000002,34.299999999999997,40.700000000000003,46.45,52.099999999999994,56.05,null,"N/A","N/A","N/A","N/A","N/A","N/A",4.1500000000000004,"N/A",3.45,3.05,2.6500000000000004,2.4500000000000002,2.3499999999999996,2.25,null,"MIDIGAS 411,5",null,null,null,null,null,null,9.6000000000000014,null,8.8500000000000014,10,9.5500000000000007,9.6,9.1499999999999986,9.1999999999999993]
[null,"MIDIGAS 4",12.5,"MIDIGAS 412,5",null,null,null,null,null,null,6.35,null,9.3000000000000007,11.5,15.65,19.299999999999997,22.549999999999997,25.4,null,"MIDIGAS 412,5",{"$error":"#VALUE!"},{"$error":"#VALUE!"},{"$error":"#VALUE!"},{"$error":"#VALUE!"},{"$error":"#VALUE!"},{"$error":"#VALUE!"},27.35,{"$error":"#VALUE!"},33,36.200000000000003,43.05,49.2,55.3,59.7,null,"N/A","N/A","N/A","N/A","N/A","N/A",4.3000000000000007,"N/A",3.55,3.1500000000000004,2.75,2.5499999999999998,2.4500000000000002,2.3499999999999996,null,"MIDIGAS 412,5",null,null,null,null,null,null,10.199999999999999,null,9.1000000000000014,10.6,10.3,10.050000000000001,9.75,9.6000000000000014]
[null,{"$f":"B19","v":"MIDIGAS 6"},6.5,"MIDIGAS 66,5",null,1.4,null,3,3.95,5,6.1,null,8.9499999999999993,10.8,14.3,17.600000000000001,20.399999999999999,23.05,null,"MIDIGAS 66,5",{"$error":"#VALUE!"},13.2,{"$error":"#VALUE!"},19.100000000000001,21.75,24.05,23.799999999999997,{"$error":"#VALUE!"},28.65,31.35,35.75,40.5,44.85,48.45,null,"N/A",9.3999999999999986,"N/A",6.35,5.5,4.8000000000000007,3.9,"N/A",3.2,2.9,2.5,2.2999999999999998,2.2000000000000002,2.1,null,"MIDIGAS 66,5",null,5.1999999999999993,null,5.0999999999999996,5.5,5.35,5.25,null,5.3000000000000007,5.55,5.5,5.4,5.3000000000000007,5.1999999999999993]
[null,"MIDIGAS 6",7.5,"MIDIGAS 67,5",null,1.5,null,3.2,4.2,5.3,6.85,null,10,12.1,15.95,19.649999999999999,22.799999999999997,25.75,null,"MIDIGAS 67,5",{"$error":"#VALUE!"},14.8,{"$error":"#VALUE!"},21.450000000000003,24.15,26.8,26.75,{"$error":"#VALUE!"},32,35.099999999999994,39.9,45.2,50.150000000000006,54.1,null,"N/A",9.85,"N/A",6.7,5.75,5.0500000000000007,3.9,"N/A",3.2,2.9,2.5,2.2999999999999998,2.2000000000000002,2.1,null,"MIDIGAS 67,5",null,6.1,null,5.75,6.25,6.0500000000000007,5.8,null,6.0500000000000007,6.3,6.25,6.1,5.95,5.8]
[null,"MIDIGAS 6",8.5,"MIDIGAS 68,5",null,1.5,null,3.2,4.2,5.3,7.5,null,10.95,13.25,17.45,21.5,24.95,28.2,null,"MIDIGAS 68,5",{"$error":"#VALUE!"},15.399999999999999,{"$error":"#VALUE!"},22.4,25.200000000000003,27.85,29.65,{"$error":"#VALUE!"},35.6,39.099999999999994,44.55,49.45,54.900000000000006,59.2,null,"N/A",10.25,"N/A",7,6,5.25,3.95,"N/A",3.25,2.95,2.5499999999999998,2.2999999999999998,2.2000000000000002,2.1,null,"MIDIGAS 68,5",null,6.9,null,6.4,6.85,6.65,6.3,null,6.5500000000000007,7.1999999999999993,6.9,6.9,6.5,6.45]
[null,"MIDIGAS 6",9.5,"MIDIGAS 69,5",null,1.5,null,3.2,4.2,5.3,7.9499999999999993,null,11.65,14.100000000000001,18.600000000000001,22.9,26.55,30,null,"MIDIGAS 69,5",{"$error":"#VALUE!"},15.850000000000001,{"$error":"#VALUE!"},22.85,25.8,28.35,31.799999999999997,{"$error":"#VALUE!"},38.450000000000003,42.3,48.349999999999994,53.85,59.75,64.5,null,"N/A",10.55,"N/A",7.15,6.15,5.35,4,"N/A",3.3,3,2.6,2.3499999999999996,2.25,2.1500000000000004,null,"MIDIGAS 69,5",null,7.4,null,6.95,7.4,7.15,6.6999999999999993,null,6.85,8.1,7.6999999999999993,7.6,7.1999999999999993,7.1]
[null,"MIDIGAS 6",10.5,"MIDIGAS 610,5",null,0.75,null,1.6,2.1,2.65,8.3000000000000007,null,12.15,14.75,19.45,23.95,27.75,31.35,null,"MIDIGAS 610,5",{"$error":"#VALUE!"},{"$error":"#VALUE!"},{"$error":"#VALUE!"},{"$error":"#VALUE!"},{"$error":"#VALUE!"},{"$error":"#VALUE!"},33.65,{"$error":"#VALUE!"},40.75,44.25,50.55,57.5,63.8,68.949999999999989,null,"N/A","N/A","N/A","N/A","N/A","N/A",4.05,"N/A",3.3499999999999996,3,2.6,2.4,2.2999999999999998,2.2000000000000002,null,"MIDIGAS 610,5",null,3.8,null,3.6,3.85,3.7,8.1,null,7.9,9.1000000000000014,8.6,8.65,8.1499999999999986,8.15]
[null,"MIDIGAS 6",11.5,"MIDIGAS 611,5",null,null,null,null,null,null,8.6,null,12.55,15.25,20.149999999999999,24.8,28.75,32.450000000000003,null,"MIDIGAS 611,5",{"$error":"#VALUE!"},{"$error":"#VALUE!"},{"$error":"#VALUE!"},{"$error":"#VALUE!"},{"$error":"#VALUE!"},{"$error":"#VALUE!"},35.700000000000003,{"$error":"#VALUE!"},43.35,46.5,53.400000000000006,60.8,67.55,73,null,"N/A","N/A","N/A","N/A","N/A","N/A",4.1500000000000004,"N/A",3.45,3.05,2.6500000000000004,2.4500000000000002,2.3499999999999996,2.25,null,"MIDIGAS 611,5",null,null,null,null,null,null,9.6000000000000014,null,8.8500000000000014,10,9.5500000000000007,9.6,9.1499999999999986,9.1999999999999993]
[null,"MIDIGAS 6",12.5,"MIDIGAS 612,5",null,null,null,null,null,null,8.75,null,12.8,15.5,20.549999999999997,25.25,29.3,33.049999999999997,null,"MIDIGAS 612,5",{"$error":"#VALUE!"},{"$error":"#VALUE!"},{"$error":"#VALUE!"},{"$error":"#VALUE!"},{"$error":"#VALUE!"},{"$error":"#VALUE!"},37.6,{"$error":"#VALUE!"},45.45,48.8,56.55,64.400000000000006,71.8,77.650000000000006,null,"N/A","N/A","N/A","N/A","N/A","N/A",4.3000000000000007,"N/A",3.55,3.1500000000000004,2.75,2.5499999999999998,2.4500000000000002,2.3499999999999996,null,"MIDIGAS 612,5",null,null,null,null,null,null,10.199999999999999,null,9.1000000000000014,10.6,10.3,10.050000000000001,9.75,9.6000000000000014]
[null,"Nitroflow HP1",5.5,"Nitroflow HP15,5",null,null,null,null,null,null,null,null,1.25,1.8,3.25,3.65,4.55,5.45,null,"Nitroflow HP15,5",{"$error":"#VALUE!"},{"$error":"#VALUE!"},{"$error":"#VALUE!"},{"$error":"#VALUE!"},{"$error":"#VALUE!"},{"$error":"#VALUE!"},{"$error":"#VALUE!"},{"$error":"#VALUE!"},10.65,10.8,14,12.8,13.65,14.649999999999999,null,"N/A","N/A","N/A","N/A","N/A","N/A","N/A","N/A",8.5,6,4.3,3.5,3,2.7,null,"Nitroflow HP15,5"]
[null,"Nitroflow HP1",6.5,"Nitroflow HP16,5",null,null,null,null,null,null,null,null,1.5499999999999998,2.25,3.9,4.5,5.65,6.75,null,"Nitroflow HP16,5",{"$error":"#VALUE!"},{"$error":"#VALUE!"},{"$error":"#VALUE!"},{"$error":"#VALUE!"},{"$error":"#VALUE!"},{"$error":"#VALUE!"},{"$error":"#VALUE!"},{"$error":"#VALUE!"},13.2,13.5,16.75,15.75,16.95,17.55,null,"N/A","N/A","N/A","N/A","N/A","N/A","N/A","N/A",8.5,6,4.3,3.5,3,2.6,null,"Nitroflow HP16,5"]
[null,"Nitroflow HP1",7.5,"Nitroflow HP17,5",null,null,null,null,null,null,null,null,1.85,2.7,4.0999999999999996,5.4,6.75,8.0500000000000007,null,"Nitroflow HP17,5",{"$error":"#VALUE!"},{"$error":"#VALUE!"},{"$error":"#VALUE!"},{"$error":"#VALUE!"},{"$error":"#VALUE!"},{"$error":"#VALUE!"},{"$error":"#VALUE!"},{"$error":"#VALUE!"},15.75,16.2,17.600000000000001,18.899999999999999,20.25,20.95,null,"N/A","N/A","N/A","N/A","N/A","N/A","N/A","N/A",8.5,6,4.3,3.5,3,2.6,null,"Nitroflow HP17,5"]
[null,"Nitroflow HP1",8.5,"Nitroflow HP18,5",null,null,null,null,null,null,null,null,2.1,3.0999999999999996,4.6500000000000004,6.15,7.6999999999999993,9.1999999999999993,null,"Nitroflow HP18,5",{"$error":"#VALUE!"},{"$error":"#VALUE!"},{"$error":"#VALUE!"},{"$error":"#VALUE!"},{"$error":"#VALUE!"},{"$error":"#VALUE!"},{"$error":"#VALUE!"},{"$error":"#VALUE!"},17.850000000000001,18.600000000000001,20,21.55,23.1,23.95,null,"N/A","N/A","N/A","N/A","N/A","N/A","N/A","N/A",8.5,6,4.3,3.5,3,2.6,null,"Nitroflow HP18,5"]
[null,"Nitroflow HP1",9.5,"Nitroflow HP19,5",null,null,null,null,null,null,null,null,2.4000000000000004,3.55,5.3000000000000007,7,8.85,10.55,null,"Nitroflow HP19,5",{"$error":"#VALUE!"},{"$error":"#VALUE!"},{"$error":"#VALUE!"},{"$error":"#VALUE!"},{"$error":"#VALUE!"},{"$error":"#VALUE!"},{"$error":"#VALUE!"},{"$error":"#VALUE!"},20.399999999999999,21.3,22.8,24.55,26.55,27.45,null,"N/A","N/A","N/A","N/A","N/A","N/A","N/A","N/A",8.5,6,4.3,3.5,3,2.6,null,"Nitroflow HP19,5"]
[null,"Nitroflow HP1",10.5,"Nitroflow HP110,5",null,null,null,null,null,null,null,null,2.7,3.9499999999999997,6,7.9,9.9499999999999993,11.850000000000001,null,"Nitroflow HP110,5",{"$error":"#VALUE!"},{"$error":"#VALUE!"},{"$error":"#VALUE!"},{"$error":"#VALUE!"},{"$error":"#VALUE!"},{"$error":"#VALUE!"},{"$error":"#VALUE!"},{"$error":"#VALUE!"},22.950000000000003,23.700000000000003,25.8,27.700000000000003,29.85,30.8,null,"N/A","N/A","N/A","N/A","N/A","N/A","N/A","N/A",8.5,6,4.3,3.5,3,2.6,null,"Nitroflow HP110,5"]
[null,"Nitroflow HP1",11.5,"Nitroflow HP111,5",null,null,null,null,null,null,null,null,2.95,4.3,6.55,8.65,10.850000000000001,12.95,null,"Nitroflow HP111,5",{"$error":"#VALUE!"},{"$error":"#VALUE!"},{"$error":"#VALUE!"},{"$error":"#VALUE!"},{"$error":"#VALUE!"},{"$error":"#VALUE!"},{"$error":"#VALUE!"},{"$error":"#VALUE!"},25.1,25.8,28.15,30.3,32.549999999999997,33.650000000000006,null,"N/A","N/A","N/A","N/A","N/A","N/A","N/A","N/A",8.5,6,4.3,3.5,3,2.6,null,"Nitroflow HP111,5"]
[null,"Nitroflow HP1",12.5,"Nitroflow HP112,5",null,null,null,null,null,null,null,null,3.2,4.75,7.1999999999999993,9.5,11.95,14.25,null,"Nitroflow HP112,5",{"$error":"#VALUE!"},{"$error":"#VALUE!"},{"$error":"#VALUE!"},{"$error":"#VALUE!"},{"$error":"#VALUE!"},{"$error":"#VALUE!"},{"$error":"#VALUE!"},{"$error":"#VALUE!"},27.25,28.5,30.950000000000003,33.25,35.849999999999994,37.799999999999997,null,"N/A","N/A","N/A","N/A","N/A","N/A","N/A","N/A",8.5,6,4.3,3.5,3,2.6500000000000004,null,"Nitroflow HP112,5"]
[null,"Nitroflow HP2",5.5,"Nitroflow HP25,5",null,null,null,null,null,null,null,null,2.4500000000000002,3.65,5.5,7.25,9.1499999999999986,10.9,null,"Nitroflow HP25,5",{"$error":"#VALUE!"},{"$error":"#VALUE!"},{"$error":"#VALUE!"},{"$error":"#VALUE!"},{"$error":"#VALUE!"},{"$error":"#VALUE!"},{"$error":"#VALUE!"},{"$error":"#VALUE!"},20.85,21.9,23.65,25.4,27.450000000000003,29.299999999999997,null,"N/A","N/A","N/A","N/A","N/A","N/A","N/A","N/A",8.5,6,4.3,3.5,3,2.7,null,"Nitroflow HP25,5"]
[null,"Nitroflow HP2",6.5,"Nitroflow HP26,5",null,null,null,null,null,null,null,null,3.05,4.5,6.85,9,11.35,13.5,null,"Nitroflow HP26,5",{"$error":"#VALUE!"},{"$error":"#VALUE!"},{"$error":"#VALUE!"},{"$error":"#VALUE!"},{"$error":"#VALUE!"},{"$error":"#VALUE!"},{"$error":"#VALUE!"},{"$error":"#VALUE!"},25.95,27,29.450000000000003,31.5,34.049999999999997,35.1,null,"N/A","N/A","N/A","N/A","N/A","N/A","N/A","N/A",8.5,6,4.3,3.5,3,2.6,null,"Nitroflow HP26,5"]
[null,"Nitroflow HP2",7.5,"Nitroflow HP27,5",null,null,null,null,null,null,null,null,3.65,5.4,8.1499999999999986,10.75,13.55,16.149999999999999,null,"Nitroflow HP27,5",{"$error":"#VALUE!"},{"$error":"#VALUE!"},{"$error":"#VALUE!"},{"$error":"#VALUE!"},{"$error":"#VALUE!"},{"$error":"#VALUE!"},{"$error":"#VALUE!"},{"$error":"#VALUE!"},31.05,32.4,35.049999999999997,37.65,40.65,42,null,"N/A","N/A","N/A","N/A","N/A","N/A","N/A","N/A",8.5,6,4.3,3.5,3,2.6,null,"Nitroflow HP27,5"]
[null,"Nitroflow HP2",8.5,"Nitroflow HP28,5",null,null,null,null,null,null,null,null,4.1500000000000004,6.15,9.3000000000000007,12.25,15.45,18.399999999999999,null,"Nitroflow HP28,5",{"$error":"#VALUE!"},{"$error":"#VALUE!"},{"$error":"#VALUE!"},{"$error":"#VALUE!"},{"$error":"#VALUE!"},{"$error":"#VALUE!"},{"$error":"#VALUE!"},{"$error":"#VALUE!"},35.299999999999997,36.9,40,42.9,46.35,47.85,null,"N/A","N/A","N/A","N/A","N/A","N/A","N/A","N/A",8.5,6,4.3,3.5,3,2.6,null,"Nitroflow HP28,5"]
[null,"Nitroflow HP2",9.5,"Nitroflow HP29,5",null,null,null,null,null,null,null,null,4.75,7,10.65,14,17.649999999999999,21,null,"Nitroflow HP29,5",{"$error":"#VALUE!"},{"$error":"#VALUE!"},{"$error":"#VALUE!"},{"$error":"#VALUE!"},{"$error":"#VALUE!"},{"$error":"#VALUE!"},{"$error":"#VALUE!"},{"$error":"#VALUE!"},40.4,42,45.8,49,52.95,54.6,null,"N/A","N/A","N/A","N/A","N/A","N/A","N/A","N/A",8.5,6,4.3,3.5,3,2.6,null,"Nitroflow HP29,5"]
[null,"Nitroflow HP2",10.5,"Nitroflow HP210,5",null,null,null,null,null,null,null,null,5.35,7.9,11.95,15.75,19.850000000000001,23.65,null,"Nitroflow HP210,5",{"$error":"#VALUE!"},{"$error":"#VALUE!"},{"$error":"#VALUE!"},{"$error":"#VALUE!"},{"$error":"#VALUE!"},{"$error":"#VALUE!"},{"$error":"#VALUE!"},{"$error":"#VALUE!"},45.5,47.4,51.4,55.15,59.55,61.5,null,"N/A","N/A","N/A","N/A","N/A","N/A","N/A","N/A",8.5,6,4.3,3.5,3,2.6,null,"Nitroflow HP210,5"]
[null,"Nitroflow HP2",11.5,"Nitroflow HP211,5",null,null,null,null,null,null,null,null,5.85,8.65,13.1,17.25,21.75,25.9,null,"Nitroflow HP211,5",{"$error":"#VALUE!"},{"$error":"#VALUE!"},{"$error":"#VALUE!"},{"$error":"#VALUE!"},{"$error":"#VALUE!"},{"$error":"#VALUE!"},{"$error":"#VALUE!"},{"$error":"#VALUE!"},49.75,51.9,56.349999999999994,60.4,65.25,67.349999999999994,null,"N/A","N/A","N/A","N/A","N/A","N/A","N/A","N/A",8.5,6,4.3,3.5,3,2.6,null,"Nitroflow HP211,5"]
[null,"Nitroflow HP2",12.5,"Nitroflow HP212,5",null,null,null,null,null,null,null,null,6.4499999999999993,9.5,14.45,19,23.95,28.5,null,"Nitroflow HP212,5",{"$error":"#VALUE!"},{"$error":"#VALUE!"},{"$error":"#VALUE!"},{"$error":"#VALUE!"},{"$error":"#VALUE!"},{"$error":"#VALUE!"},{"$error":"#VALUE!"},{"$error":"#VALUE!"},54.849999999999994,57,62.150000000000006,66.5,71.849999999999994,75.599999999999994,null,"N/A","N/A","N/A","N/A","N/A","N/A","N/A","N/A",8.5,6,4.3,3.5,3,2.6500000000000004,null,"Nitroflow HP212,5"]
[null,"Nitroflow HP3",5.5,"Nitroflow HP35,5",null,null,null,null,null,null,null,null,3.6999999999999997,5.45,8.25,10.9,13.7,16.3,null,"Nitroflow HP35,5",{"$error":"#VALUE!"},{"$error":"#VALUE!"},{"$error":"#VALUE!"},{"$error":"#VALUE!"},{"$error":"#VALUE!"},{"$error":"#VALUE!"},{"$error":"#VALUE!"},{"$error":"#VALUE!"},31.5,32.700000000000003,35.450000000000003,38.15,41.099999999999994,43.849999999999994,null,"N/A","N/A","N/A","N/A","N/A","N/A","N/A","N/A",8.5,6,4.3,3.5,3,2.7,null,"Nitroflow HP35,5"]
[null,"Nitroflow HP3",6.5,"Nitroflow HP36,5",null,null,null,null,null,null,null,null,4.5999999999999996,6.75,10.25,13.5,17,20.25,null,"Nitroflow HP36,5",{"$error":"#VALUE!"},{"$error":"#VALUE!"},{"$error":"#VALUE!"},{"$error":"#VALUE!"},{"$error":"#VALUE!"},{"$error":"#VALUE!"},{"$error":"#VALUE!"},{"$error":"#VALUE!"},39.15,40.5,44.05,47.25,51,52.65,null,"N/A","N/A","N/A","N/A","N/A","N/A","N/A","N/A",8.5,6,4.3,3.5,3,2.6,null,"Nitroflow HP36,5"]
[null,"Nitroflow HP3",7.5,"Nitroflow HP37,5",null,null,null,null,null,null,null,null,5.5,8.0500000000000007,12.25,16.149999999999999,20.299999999999997,24.2,null,"Nitroflow HP37,5",{"$error":"#VALUE!"},{"$error":"#VALUE!"},{"$error":"#VALUE!"},{"$error":"#VALUE!"},{"$error":"#VALUE!"},{"$error":"#VALUE!"},{"$error":"#VALUE!"},{"$error":"#VALUE!"},46.8,48.3,52.65,56.55,60.9,62.9,null,"N/A","N/A","N/A","N/A","N/A","N/A","N/A","N/A",8.5,6,4.3,3.5,3,2.6,null,"Nitroflow HP37,5"]
[null,"Nitroflow HP3",8.5,"Nitroflow HP38,5",null,null,null,null,null,null,null,null,6.25,9.1999999999999993,13.95,18.399999999999999,23.15,27.6,null,"Nitroflow HP38,5",{"$error":"#VALUE!"},{"$error":"#VALUE!"},{"$error":"#VALUE!"},{"$error":"#VALUE!"},{"$error":"#VALUE!"},{"$error":"#VALUE!"},{"$error":"#VALUE!"},{"$error":"#VALUE!"},53.150000000000006,55.2,59.95,64.45,69.449999999999989,71.75,null,"N/A","N/A","N/A","N/A","N/A","N/A","N/A","N/A",8.5,6,4.3,3.5,3,2.6,null,"Nitroflow HP38,5"]
[null,"Nitroflow HP3",9.5,"Nitroflow HP39,5",null,null,null,null,null,null,null,null,7.15,10.55,15.950000000000001,21,26.5,31.549999999999997,null,"Nitroflow HP39,5",{"$error":"#VALUE!"},{"$error":"#VALUE!"},{"$error":"#VALUE!"},{"$error":"#VALUE!"},{"$error":"#VALUE!"},{"$error":"#VALUE!"},{"$error":"#VALUE!"},{"$error":"#VALUE!"},60.8,63.3,68.55,73.55,79.5,82.050000000000011,null,"N/A","N/A","N/A","N/A","N/A","N/A","N/A","N/A",8.5,6,4.3,3.5,3,2.6,null,"Nitroflow HP39,5"]
[null,"Nitroflow HP3",10.5,"Nitroflow HP310,5",null,null,null,null,null,null,null,null,8.0500000000000007,11.850000000000001,17.950000000000003,23.65,29.799999999999997,35.450000000000003,null,"Nitroflow HP310,5",{"$error":"#VALUE!"},{"$error":"#VALUE!"},{"$error":"#VALUE!"},{"$error":"#VALUE!"},{"$error":"#VALUE!"},{"$error":"#VALUE!"},{"$error":"#VALUE!"},{"$error":"#VALUE!"},68.45,71.099999999999994,77.150000000000006,82.8,89.4,92.2,null,"N/A","N/A","N/A","N/A","N/A","N/A","N/A","N/A",8.5,6,4.3,3.5,3,2.6,null,"Nitroflow HP310,5"]
[null,"Nitroflow HP3",11.5,"Nitroflow HP311,5",null,null,null,null,null,null,null,null,8.8000000000000007,12.95,19.649999999999999,25.9,32.6,38.799999999999997,null,"Nitroflow HP311,5",{"$error":"#VALUE!"},{"$error":"#VALUE!"},{"$error":"#VALUE!"},{"$error":"#VALUE!"},{"$error":"#VALUE!"},{"$error":"#VALUE!"},{"$error":"#VALUE!"},{"$error":"#VALUE!"},74.800000000000011,77.7,84.5,90.65,97.8,100.9,null,"N/A","N/A","N/A","N/A","N/A","N/A","N/A","N/A",8.5,6,4.3,3.5,3,2.6,null,"Nitroflow HP311,5"]
[null,"Nitroflow HP3",12.5,"Nitroflow HP312,5",null,null,null,null,null,null,null,null,9.6999999999999993,14.25,21.65,28.5,35.9,42.75,null,"Nitroflow HP312,5",{"$error":"#VALUE!"},{"$error":"#VALUE!"},{"$error":"#VALUE!"},{"$error":"#VALUE!"},{"$error":"#VALUE!"},{"$error":"#VALUE!"},{"$error":"#VALUE!"},{"$error":"#VALUE!"},82.45,85.5,93.1,99.75,107.7,113.4,null,"N/A","N/A","N/A","N/A","N/A","N/A","N/A","N/A",8.5,6,4.3,3.5,3,2.6500000000000004,null,"Nitroflow HP312,5"]
[null,"Nitrosource Main",4.5,"Nitrosource Main4,5",null,null,null,null,null,null,null,null,2.6,4.05,7,9.4499999999999993,12.05,14.600000000000001,null,"Nitrosource Main4,5",{"$error":"#VALUE!"},{"$error":"#VALUE!"},{"$error":"#VALUE!"},{"$error":"#VALUE!"},{"$error":"#VALUE!"},{"$error":"#VALUE!"},{"$error":"#VALUE!"},{"$error":"#VALUE!"},22.15,24.3,30.1,33.1,36.15,40.849999999999994,null,"N/A","N/A","N/A","N/A","N/A","N/A","N/A","N/A",8.5,6,4.3,3.5,3,2.8,null,"Nitrosource Main4,5"]
[null,"Nitrosource Main",5.5,"Nitrosource Main5,5",null,null,null,null,null,null,null,null,3.8499999999999996,5.9499999999999993,10.3,13.95,17.8,21.55,null,"Nitrosource Main5,5",{"$error":"#VALUE!"},{"$error":"#VALUE!"},{"$error":"#VALUE!"},{"$error":"#VALUE!"},{"$error":"#VALUE!"},{"$error":"#VALUE!"},{"$error":"#VALUE!"},{"$error":"#VALUE!"},32.75,35.700000000000003,44.3,48.85,53.4,57.75,null,"N/A","N/A","N/A","N/A","N/A","N/A","N/A","N/A",8.5,6,4.3,3.5,3,2.7,null,"Nitrosource Main5,5"]
[null,"Nitrosource Main",6.5,"Nitrosource Main6,5",null,null,null,null,null,null,null,null,5.3,8.25,14.25,19.350000000000001,24.65,29.9,null,"Nitrosource Main6,5",{"$error":"#VALUE!"},{"$error":"#VALUE!"},{"$error":"#VALUE!"},{"$error":"#VALUE!"},{"$error":"#VALUE!"},{"$error":"#VALUE!"},{"$error":"#VALUE!"},{"$error":"#VALUE!"},45.05,49.5,61.3,67.75,73.95,77.75,null,"N/A","N/A","N/A","N/A","N/A","N/A","N/A","N/A",8.5,6,4.3,3.5,3,2.6,null,"Nitrosource Main6,5"]
[null,"Nitrosource Main",7.5,"Nitrosource Main7,5",null,null,null,null,null,null,null,null,6.6,10.350000000000001,17.799999999999997,24.2,30.8,37.4,null,"Nitrosource Main7,5",{"$error":"#VALUE!"},{"$error":"#VALUE!"},{"$error":"#VALUE!"},{"$error":"#VALUE!"},{"$error":"#VALUE!"},{"$error":"#VALUE!"},{"$error":"#VALUE!"},{"$error":"#VALUE!"},56.1,62.099999999999994,76.550000000000011,84.7,92.4,97.25,null,"N/A","N/A","N/A","N/A","N/A","N/A","N/A","N/A",8.5,6,4.3,3.5,3,2.6,null,"Nitrosource Main7,5"]
[null,"Nitrosource Main",8.5,"Nitrosource Main8,5",null,null,null,null,null,null,null,null,7.8000000000000007,12.25,21.049999999999997,28.6,36.400000000000006,44.2,null,"Nitrosource Main8,5",{"$error":"#VALUE!"},{"$error":"#VALUE!"},{"$error":"#VALUE!"},{"$error":"#VALUE!"},{"$error":"#VALUE!"},{"$error":"#VALUE!"},{"$error":"#VALUE!"},{"$error":"#VALUE!"},66.300000000000011,73.5,90.5,100.1,109.19999999999999,114.94999999999999,null,"N/A","N/A","N/A","N/A","N/A","N/A","N/A","N/A",8.5,6,4.3,3.5,3,2.6,null,"Nitrosource Main8,5"]
[null,"Nitrosource Main",9.5,"Nitrosource Main9,5",null,null,null,null,null,null,null,null,9,14.1,24.299999999999997,33,42,51,null,"Nitrosource Main9,5",{"$error":"#VALUE!"},{"$error":"#VALUE!"},{"$error":"#VALUE!"},{"$error":"#VALUE!"},{"$error":"#VALUE!"},{"$error":"#VALUE!"},{"$error":"#VALUE!"},{"$error":"#VALUE!"},76.5,84.6,104.5,115.5,126,132.6,null,"N/A","N/A","N/A","N/A","N/A","N/A","N/A","N/A",8.5,6,4.3,3.5,3,2.6,null,"Nitrosource Main9,5"]
[null,"Nitrosource Main",10.5,"Nitrosource Main10,5",null,null,null,null,null,null,null,null,10.5,16.45,28.35,38.5,49,59.5,null,"Nitrosource Main10,5",{"$error":"#VALUE!"},{"$error":"#VALUE!"},{"$error":"#VALUE!"},{"$error":"#VALUE!"},{"$error":"#VALUE!"},{"$error":"#VALUE!"},{"$error":"#VALUE!"},{"$error":"#VALUE!"},89.25,98.7,121.9,134.75,147,154.69999999999999,null,"N/A","N/A","N/A","N/A","N/A","N/A","N/A","N/A",8.5,6,4.3,3.5,3,2.6,null,"Nitrosource Main10,5"]
[null,"Nitrosource Main",11.5,"Nitrosource Main11,5",null,null,null,null,null,null,null,null,12,18.799999999999997,32.4,44,56,68,null,"Nitrosource Main11,5",{"$error":"#VALUE!"},{"$error":"#VALUE!"},{"$error":"#VALUE!"},{"$error":"#VALUE!"},{"$error":"#VALUE!"},{"$error":"#VALUE!"},{"$error":"#VALUE!"},{"$error":"#VALUE!"},102,112.80000000000001,139.30000000000001,154,168,176.8,null,"N/A","N/A","N/A","N/A","N/A","N/A","N/A","N/A",8.5,6,4.3,3.5,3,2.6,null,"Nitrosource Main11,5"]
[null,"Nitrosource Main",12.5,"Nitrosource Main12,5",null,null,null,null,null,null,null,null,13.5,21.15,36.450000000000003,49.5,63,76.5,null,"Nitrosource Main12,5",{"$error":"#VALUE!"},{"$error":"#VALUE!"},{"$error":"#VALUE!"},{"$error":"#VALUE!"},{"$error":"#VALUE!"},{"$error":"#VALUE!"},{"$error":"#VALUE!"},{"$error":"#VALUE!"},114.75,126.9,156.75,173.25,189,202.95,null,"N/A","N/A","N/A","N/A","N/A","N/A","N/A","N/A",8.5,6,4.3,3.5,3,2.6500000000000004,null,"Nitrosource Main12,5"]
[null,"Nitrosource Main + 1 Sub",4.5,"Nitrosource Main + 1 Sub4,5",null,null,null,null,null,null,null,null,5.15,8.1,13.9,18.899999999999999,24.1,29.25,null,"Nitrosource Main + 1 Sub4,5",{"$error":"#VALUE!"},{"$error":"#VALUE!"},{"$error":"#VALUE!"},{"$error":"#VALUE!"},{"$error":"#VALUE!"},{"$error":"#VALUE!"},{"$error":"#VALUE!"},{"$error":"#VALUE!"},43.8,48.6,59.8,66.150000000000006,72.3,81.900000000000006,null,"N/A","N/A","N/A","N/A","N/A","N/A","N/A","N/A",8.5,6,4.3,3.5,3,2.8,null,"Nitrosource Main + 1 Sub4,5"]
[null,"Nitrosource Main + 1 Sub",5.5,"Nitrosource Main + 1 Sub5,5",null,null,null,null,null,null,null,null,7.6,11.95,20.55,27.9,35.6,43.2,null,"Nitrosource Main + 1 Sub5,5",{"$error":"#VALUE!"},{"$error":"#VALUE!"},{"$error":"#VALUE!"},{"$error":"#VALUE!"},{"$error":"#VALUE!"},{"$error":"#VALUE!"},{"$error":"#VALUE!"},{"$error":"#VALUE!"},64.650000000000006,71.7,88.4,97.65,106.8,115.80000000000001,null,"N/A","N/A","N/A","N/A","N/A","N/A","N/A","N/A",8.5,6,4.3,3.5,3,2.7,null,"Nitrosource Main + 1 Sub5,5"]
[null,"Nitrosource Main + 1 Sub",6.5,"Nitrosource Main + 1 Sub6,5",null,null,null,null,null,null,null,null,10.55,16.55,28.5,38.700000000000003,49.3,59.85,null,"Nitrosource Main + 1 Sub6,5",{"$error":"#VALUE!"},{"$error":"#VALUE!"},{"$error":"#VALUE!"},{"$error":"#VALUE!"},{"$error":"#VALUE!"},{"$error":"#VALUE!"},{"$error":"#VALUE!"},{"$error":"#VALUE!"},89.7,99.3,122.55000000000001,135.44999999999999,147.9,155.60000000000002,null,"N/A","N/A","N/A","N/A","N/A","N/A","N/A","N/A",8.5,6,4.3,3.5,3,2.6,null,"Nitrosource Main + 1 Sub6,5"]
[null,"Nitrosource Main + 1 Sub",7.5,"Nitrosource Main + 1 Sub7,5",null,null,null,null,null,null,null,null,13.2,20.700000000000003,35.65,48.4,61.6,74.8,null,"Nitrosource Main + 1 Sub7,5",{"$error":"#VALUE!"},{"$error":"#VALUE!"},{"$error":"#VALUE!"},{"$error":"#VALUE!"},{"$error":"#VALUE!"},{"$error":"#VALUE!"},{"$error":"#VALUE!"},{"$error":"#VALUE!"},112.2,124.19999999999999,153.30000000000001,169.4,184.8,194.5,null,"N/A","N/A","N/A","N/A","N/A","N/A","N/A","N/A",8.5,6,4.3,3.5,3,2.6,null,"Nitrosource Main + 1 Sub7,5"]
[null,"Nitrosource Main + 1 Sub",8.5,"Nitrosource Main + 1 Sub8,5",null,null,null,null,null,null,null,null,15.600000000000001,24.450000000000003,42.15,57.2,72.800000000000011,88.4,null,"Nitrosource Main + 1 Sub8,5",{"$error":"#VALUE!"},{"$error":"#VALUE!"},{"$error":"#VALUE!"},{"$error":"#VALUE!"},{"$error":"#VALUE!"},{"$error":"#VALUE!"},{"$error":"#VALUE!"},{"$error":"#VALUE!"},132.60000000000002,146.69999999999999,181.25,200.2,218.39999999999998,229.85,null,"N/A","N/A","N/A","N/A","N/A","N/A","N/A","N/A",8.5,6,4.3,3.5,3,2.6,null,"Nitrosource Main + 1 Sub8,5"]
[null,"Nitrosource Main + 1 Sub",9.5,"Nitrosource Main + 1 Sub9,5",null,null,null,null,null,null,null,null,18,28.200000000000003,48.599999999999994,66,84,102.1,null,"Nitrosource Main + 1 Sub9,5",{"$error":"#VALUE!"},{"$error":"#VALUE!"},{"$error":"#VALUE!"},{"$error":"#VALUE!"},{"$error":"#VALUE!"},{"$error":"#VALUE!"},{"$error":"#VALUE!"},{"$error":"#VALUE!"},153,169.2,208.95,231,252,265.45,null,"N/A","N/A","N/A","N/A","N/A","N/A","N/A","N/A",8.5,6,4.3,3.5,3,2.6,null,"Nitrosource Main + 1 Sub9,5"]
[null,"Nitrosource Main + 1 Sub",10.5,"Nitrosource Main + 1 Sub10,5",null,null,null,null,null,null,null,null,21,32.900000000000006,56.7,77,97.8,119,null,"Nitrosource Main + 1 Sub10,5",{"$error":"#VALUE!"},{"$error":"#VALUE!"},{"$error":"#VALUE!"},{"$error":"#VALUE!"},{"$error":"#VALUE!"},{"$error":"#VALUE!"},{"$error":"#VALUE!"},{"$error":"#VALUE!"},178.5,197.39999999999998,243.79999999999998,269.5,293.39999999999998,309.39999999999998,null,"N/A","N/A","N/A","N/A","N/A","N/A","N/A","N/A",8.5,6,4.3,3.5,3,2.6,null,"Nitrosource Main + 1 Sub10,5"]
[null,"Nitrosource Main + 1 Sub",11.5,"Nitrosource Main + 1 Sub11,5",null,null,null,null,null,null,null,null,24,37.35,64.8,88,112,136,null,"Nitrosource Main + 1 Sub11,5",{"$error":"#VALUE!"},{"$error":"#VALUE!"},{"$error":"#VALUE!"},{"$error":"#VALUE!"},{"$error":"#VALUE!"},{"$error":"#VALUE!"},{"$error":"#VALUE!"},{"$error":"#VALUE!"},204,224.1,278.64999999999998,308,336,353.6,null,"N/A","N/A","N/A","N/A","N/A","N/A","N/A","N/A",8.5,6,4.3,3.5,3,2.6,null,"Nitrosource Main + 1 Sub11,5"]
[null,"Nitrosource Main + 1 Sub",12.5,"Nitrosource Main + 1 Sub12,5",null,null,null,null,null,null,null,null,27,42.05,72.900000000000006,99.2,126,153,null,"Nitrosource Main + 1 Sub12,5",{"$error":"#VALUE!"},{"$error":"#VALUE!"},{"$error":"#VALUE!"},{"$error":"#VALUE!"},{"$error":"#VALUE!"},{"$error":"#VALUE!"},{"$error":"#VALUE!"},{"$error":"#VALUE!"},229.5,252.3,313.45,347.2,378,405.95000000000005,null,"N/A","N/A","N/A","N/A","N/A","N/A","N/A","N/A",8.5,6,4.3,3.5,3,2.6500000000000004,null,"Nitrosource Main + 1 Sub12,5"]
[null,"Nitrosource Main + 2 Subs",4.5,"Nitrosource Main + 2 Subs4,5",null,null,null,null,null,null,null,null,7.75,12.15,20.9,28.400000000000002,36.099999999999994,43.85,null,"Nitrosource Main + 2 Subs4,5",{"$error":"#VALUE!"},{"$error":"#VALUE!"},{"$error":"#VALUE!"},{"$error":"#VALUE!"},{"$error":"#VALUE!"},{"$error":"#VALUE!"},{"$error":"#VALUE!"},{"$error":"#VALUE!"},65.900000000000006,72.900000000000006,89.85,99.45,108.30000000000001,122.8,null,"N/A","N/A","N/A","N/A","N/A","N/A","N/A","N/A",8.5,6,4.3,3.5,3,2.8,null,"Nitrosource Main + 2 Subs4,5"]
[null,"Nitrosource Main + 2 Subs",5.5,"Nitrosource Main + 2 Subs5,5",null,null,null,null,null,null,null,null,11.45,17.899999999999999,30.85,41.95,53.3,64.75,null,"Nitrosource Main + 2 Subs5,5",{"$error":"#VALUE!"},{"$error":"#VALUE!"},{"$error":"#VALUE!"},{"$error":"#VALUE!"},{"$error":"#VALUE!"},{"$error":"#VALUE!"},{"$error":"#VALUE!"},{"$error":"#VALUE!"},97.35,107.4,132.64999999999998,146.85,159.9,173.55,null,"N/A","N/A","N/A","N/A","N/A","N/A","N/A","N/A",8.5,6,4.3,3.5,3,2.7,null,"Nitrosource Main + 2 Subs5,5"]
[null,"Nitrosource Main + 2 Subs",6.5,"Nitrosource Main + 2 Subs6,5",null,null,null,null,null,null,null,null,15.85,24.799999999999997,42.75,58.1,73.900000000000006,89.75,null,"Nitrosource Main + 2 Subs6,5",{"$error":"#VALUE!"},{"$error":"#VALUE!"},{"$error":"#VALUE!"},{"$error":"#VALUE!"},{"$error":"#VALUE!"},{"$error":"#VALUE!"},{"$error":"#VALUE!"},{"$error":"#VALUE!"},134.75,148.80000000000001,183.85,203.35,221.7,233.35,null,"N/A","N/A","N/A","N/A","N/A","N/A","N/A","N/A",8.5,6,4.3,3.5,3,2.6,null,"Nitrosource Main + 2 Subs6,5"]
[null,"Nitrosource Main + 2 Subs",7.5,"Nitrosource Main + 2 Subs7,5",null,null,null,null,null,null,null,null,19.8,31,53.45,72.599999999999994,92.5,112,null,"Nitrosource Main + 2 Subs7,5",{"$error":"#VALUE!"},{"$error":"#VALUE!"},{"$error":"#VALUE!"},{"$error":"#VALUE!"},{"$error":"#VALUE!"},{"$error":"#VALUE!"},{"$error":"#VALUE!"},{"$error":"#VALUE!"},168.3,186,229.85,254.1,277.5,291.2,null,"N/A","N/A","N/A","N/A","N/A","N/A","N/A","N/A",8.5,6,4.3,3.5,3,2.6,null,"Nitrosource Main + 2 Subs7,5"]
[null,"Nitrosource Main + 2 Subs",8.5,"Nitrosource Main + 2 Subs8,5",null,null,null,null,null,null,null,null,23.4,36.65,63.15,85.800000000000011,109.5,132.5,null,"Nitrosource Main + 2 Subs8,5",{"$error":"#VALUE!"},{"$error":"#VALUE!"},{"$error":"#VALUE!"},{"$error":"#VALUE!"},{"$error":"#VALUE!"},{"$error":"#VALUE!"},{"$error":"#VALUE!"},{"$error":"#VALUE!"},198.89999999999998,219.9,271.54999999999995,300.29999999999995,328.5,344.5,null,"N/A","N/A","N/A","N/A","N/A","N/A","N/A","N/A",8.5,6,4.3,3.5,3,2.6,null,"Nitrosource Main + 2 Subs8,5"]
[null,"Nitrosource Main + 2 Subs",9.5,"Nitrosource Main + 2 Subs9,5",null,null,null,null,null,null,null,null,27,42.3,72.900000000000006,99.2,126,153,null,"Nitrosource Main + 2 Subs9,5",{"$error":"#VALUE!"},{"$error":"#VALUE!"},{"$error":"#VALUE!"},{"$error":"#VALUE!"},{"$error":"#VALUE!"},{"$error":"#VALUE!"},{"$error":"#VALUE!"},{"$error":"#VALUE!"},229.5,253.8,313.45,347.2,378,397.8,null,"N/A","N/A","N/A","N/A","N/A","N/A","N/A","N/A",8.5,6,4.3,3.5,3,2.6,null,"Nitrosource Main + 2 Subs9,5"]
[null,"Nitrosource Main + 2 Subs",10.5,"Nitrosource Main + 2 Subs10,5",null,null,null,null,null,null,null,null,31.5,49.35,85.05,115.5,147,178.5,null,"Nitrosource Main + 2 Subs10,5",{"$error":"#VALUE!"},{"$error":"#VALUE!"},{"$error":"#VALUE!"},{"$error":"#VALUE!"},{"$error":"#VALUE!"},{"$error":"#VALUE!"},{"$error":"#VALUE!"},{"$error":"#VALUE!"},267.75,296.10000000000002,365.7,404.25,441,464.1,null,"N/A","N/A","N/A","N/A","N/A","N/A","N/A","N/A",8.5,6,4.3,3.5,3,2.6,null,"Nitrosource Main + 2 Subs10,5"]
[null,"Nitrosource Main + 2 Subs",11.5,"Nitrosource Main + 2 Subs11,5",null,null,null,null,null,null,null,null,36,56.400000000000006,97.15,132,168,204,null,"Nitrosource Main + 2 Subs11,5",{"$error":"#VALUE!"},{"$error":"#VALUE!"},{"$error":"#VALUE!"},{"$error":"#VALUE!"},{"$error":"#VALUE!"},{"$error":"#VALUE!"},{"$error":"#VALUE!"},{"$error":"#VALUE!"},306,338.4,417.75,462,504,530.4,null,"N/A","N/A","N/A","N/A","N/A","N/A","N/A","N/A",8.5,6,4.3,3.5,3,2.6,null,"Nitrosource Main + 2 Subs11,5"]
[null,"Nitrosource Main + 2 Subs",12.5,"Nitrosource Main + 2 Subs12,5",null,null,null,null,null,null,null,null,40.5,63.45,109.5,148.5,189,229.5,null,"Nitrosource Main + 2 Subs12,5",{"$error":"#VALUE!"},{"$error":"#VALUE!"},{"$error":"#VALUE!"},{"$error":"#VALUE!"},{"$error":"#VALUE!"},{"$error":"#VALUE!"},{"$error":"#VALUE!"},{"$error":"#VALUE!"},344.25,380.7,470.85,519.75,567,608.95000000000005,null,"N/A","N/A","N/A","N/A","N/A","N/A","N/A","N/A",8.5,6,4.3,3.5,3,2.6500000000000004,null,"Nitrosource Main + 2 Subs12,5"]
[null,"Nitrosource Main + 3 Subs",4.5,"Nitrosource Main + 3 Subs4,5",null,null,null,null,null,null,null,null,10.3,16.2,27.85,37.85,48.150000000000006,58.5,null,"Nitrosource Main + 3 Subs4,5",{"$error":"#VALUE!"},{"$error":"#VALUE!"},{"$error":"#VALUE!"},{"$error":"#VALUE!"},{"$error":"#VALUE!"},{"$error":"#VALUE!"},{"$error":"#VALUE!"},{"$error":"#VALUE!"},87.550000000000011,97.2,119.75,132.5,144.44999999999999,163.80000000000001,null,"N/A","N/A","N/A","N/A","N/A","N/A","N/A","N/A",8.5,6,4.3,3.5,3,2.8,null,"Nitrosource Main + 3 Subs4,5"]
[null,"Nitrosource Main + 3 Subs",5.5,"Nitrosource Main + 3 Subs5,5",null,null,null,null,null,null,null,null,15.2,23.9,41.1,55.900000000000006,71.099999999999994,86.2,null,"Nitrosource Main + 3 Subs5,5",{"$error":"#VALUE!"},{"$error":"#VALUE!"},{"$error":"#VALUE!"},{"$error":"#VALUE!"},{"$error":"#VALUE!"},{"$error":"#VALUE!"},{"$error":"#VALUE!"},{"$error":"#VALUE!"},129.19999999999999,143.4,176.75,195.7,213.3,231.05,null,"N/A","N/A","N/A","N/A","N/A","N/A","N/A","N/A",8.5,6,4.3,3.5,3,2.7,null,"Nitrosource Main + 3 Subs5,5"]
[null,"Nitrosource Main + 3 Subs",6.5,"Nitrosource Main + 3 Subs6,5",null,null,null,null,null,null,null,null,21.1,33.1,57,77.45,98.55,119.5,null,"Nitrosource Main + 3 Subs6,5",{"$error":"#VALUE!"},{"$error":"#VALUE!"},{"$error":"#VALUE!"},{"$error":"#VALUE!"},{"$error":"#VALUE!"},{"$error":"#VALUE!"},{"$error":"#VALUE!"},{"$error":"#VALUE!"},179.35,198.6,245.10000000000002,271.10000000000002,295.64999999999998,310.70000000000005,null,"N/A","N/A","N/A","N/A","N/A","N/A","N/A","N/A",8.5,6,4.3,3.5,3,2.6,null,"Nitrosource Main + 3 Subs6,5"]
[null,"Nitrosource Main + 3 Subs",7.5,"Nitrosource Main + 3 Subs7,5",null,null,null,null,null,null,null,null,26.4,41.35,71.3,97,123,149.5,null,"Nitrosource Main + 3 Subs7,5",{"$error":"#VALUE!"},{"$error":"#VALUE!"},{"$error":"#VALUE!"},{"$error":"#VALUE!"},{"$error":"#VALUE!"},{"$error":"#VALUE!"},{"$error":"#VALUE!"},{"$error":"#VALUE!"},224.4,248.10000000000002,306.55,339.5,369,388.70000000000005,null,"N/A","N/A","N/A","N/A","N/A","N/A","N/A","N/A",8.5,6,4.3,3.5,3,2.6,null,"Nitrosource Main + 3 Subs7,5"]
[null,"Nitrosource Main + 3 Subs",8.5,"Nitrosource Main + 3 Subs8,5",null,null,null,null,null,null,null,null,31.200000000000003,48.85,84.25,114.5,145.5,176.5,null,"Nitrosource Main + 3 Subs8,5",{"$error":"#VALUE!"},{"$error":"#VALUE!"},{"$error":"#VALUE!"},{"$error":"#VALUE!"},{"$error":"#VALUE!"},{"$error":"#VALUE!"},{"$error":"#VALUE!"},{"$error":"#VALUE!"},265.20000000000005,293.10000000000002,362.25,400.75,436.5,458.9,null,"N/A","N/A","N/A","N/A","N/A","N/A","N/A","N/A",8.5,6,4.3,3.5,3,2.6,null,"Nitrosource Main + 3 Subs8,5"]
[null,"Nitrosource Main + 3 Subs",9.5,"Nitrosource Main + 3 Subs9,5",null,null,null,null,null,null,null,null,36,56.400000000000006,97.35,132,168,204,null,"Nitrosource Main + 3 Subs9,5",{"$error":"#VALUE!"},{"$error":"#VALUE!"},{"$error":"#VALUE!"},{"$error":"#VALUE!"},{"$error":"#VALUE!"},{"$error":"#VALUE!"},{"$error":"#VALUE!"},{"$error":"#VALUE!"},306,338.4,418.6,462,504,530.4,null,"N/A","N/A","N/A","N/A","N/A","N/A","N/A","N/A",8.5,6,4.3,3.5,3,2.6,null,"Nitrosource Main + 3 Subs9,5"]
[null,"Nitrosource Main + 3 Subs",10.5,"Nitrosource Main + 3 Subs10,5",null,null,null,null,null,null,null,null,42,65.800000000000011,113.5,154,196,238,null,"Nitrosource Main + 3 Subs10,5",{"$error":"#VALUE!"},{"$error":"#VALUE!"},{"$error":"#VALUE!"},{"$error":"#VALUE!"},{"$error":"#VALUE!"},{"$error":"#VALUE!"},{"$error":"#VALUE!"},{"$error":"#VALUE!"},357,394.79999999999995,488.04999999999995,539,588,618.79999999999995,null,"N/A","N/A","N/A","N/A","N/A","N/A","N/A","N/A",8.5,6,4.3,3.5,3,2.6,null,"Nitrosource Main + 3 Subs10,5"]
[null,"Nitrosource Main + 3 Subs",11.5,"Nitrosource Main + 3 Subs11,5",null,null,null,null,null,null,null,null,48,75.2,129.5,176,224,272,null,"Nitrosource Main + 3 Subs11,5",{"$error":"#VALUE!"},{"$error":"#VALUE!"},{"$error":"#VALUE!"},{"$error":"#VALUE!"},{"$error":"#VALUE!"},{"$error":"#VALUE!"},{"$error":"#VALUE!"},{"$error":"#VALUE!"},408,451.2,556.84999999999991,616,672,707.2,null,"N/A","N/A","N/A","N/A","N/A","N/A","N/A","N/A",8.5,6,4.3,3.5,3,2.6,null,"Nitrosource Main + 3 Subs11,5"]
[null,"Nitrosource Main + 3 Subs",12.5,"Nitrosource Main + 3 Subs12,5",null,null,null,null,null,null,null,null,54,84.6,146,198,252,306,null,"Nitrosource Main + 3 Subs12,5",{"$error":"#VALUE!"},{"$error":"#VALUE!"},{"$error":"#VALUE!"},{"$error":"#VALUE!"},{"$error":"#VALUE!"},{"$error":"#VALUE!"},{"$error":"#VALUE!"},{"$error":"#VALUE!"},459,507.6,627.79999999999995,693,756,811.90000000000009,null,"N/A","N/A","N/A","N/A","N/A","N/A","N/A","N/A",8.5,6,4.3,3.5,3,2.6500000000000004,null,"Nitrosource Main + 3 Subs12,5"]
[null,"Nitrosource Main + 4 Subs",4.5,"Nitrosource Main + 4 Subs4,5",null,null,null,null,null,null,null,null,12.9,20.25,34.849999999999994,47.3,60.2,73.099999999999994,null,"Nitrosource Main + 4 Subs4,5",{"$error":"#VALUE!"},{"$error":"#VALUE!"},{"$error":"#VALUE!"},{"$error":"#VALUE!"},{"$error":"#VALUE!"},{"$error":"#VALUE!"},{"$error":"#VALUE!"},{"$error":"#VALUE!"},109.69999999999999,121.5,149.85,165.60000000000002,180.6,204.7,null,"N/A","N/A","N/A","N/A","N/A","N/A","N/A","N/A",8.5,6,4.3,3.5,3,2.8,null,"Nitrosource Main + 4 Subs4,5"]
[null,"Nitrosource Main + 4 Subs",5.5,"Nitrosource Main + 4 Subs5,5",null,null,null,null,null,null,null,null,19.05,29.85,51.45,69.849999999999994,88.7,107.85,null,"Nitrosource Main + 4 Subs5,5",{"$error":"#VALUE!"},{"$error":"#VALUE!"},{"$error":"#VALUE!"},{"$error":"#VALUE!"},{"$error":"#VALUE!"},{"$error":"#VALUE!"},{"$error":"#VALUE!"},{"$error":"#VALUE!"},161.94999999999999,179.1,221.25,244.5,266.10000000000002,289.10000000000002,null,"N/A","N/A","N/A","N/A","N/A","N/A","N/A","N/A",8.5,6,4.3,3.5,3,2.7,null,"Nitrosource Main + 4 Subs5,5"]
[null,"Nitrosource Main + 4 Subs",6.5,"Nitrosource Main + 4 Subs6,5",null,null,null,null,null,null,null,null,26.4,41.35,71.3,96.8,123,149.5,null,"Nitrosource Main + 4 Subs6,5",{"$error":"#VALUE!"},{"$error":"#VALUE!"},{"$error":"#VALUE!"},{"$error":"#VALUE!"},{"$error":"#VALUE!"},{"$error":"#VALUE!"},{"$error":"#VALUE!"},{"$error":"#VALUE!"},224.4,248.1,306.60000000000002,338.8,369,388.7,null,"N/A","N/A","N/A","N/A","N/A","N/A","N/A","N/A",8.5,6,4.3,3.5,3,2.6,null,"Nitrosource Main + 4 Subs6,5"]
[null,"Nitrosource Main + 4 Subs",7.5,"Nitrosource Main + 4 Subs7,5",null,null,null,null,null,null,null,null,33,51.7,89.1,121,154,187,null,"Nitrosource Main + 4 Subs7,5",{"$error":"#VALUE!"},{"$error":"#VALUE!"},{"$error":"#VALUE!"},{"$error":"#VALUE!"},{"$error":"#VALUE!"},{"$error":"#VALUE!"},{"$error":"#VALUE!"},{"$error":"#VALUE!"},280.5,310.2,383.15,423.5,462,486.2,null,"N/A","N/A","N/A","N/A","N/A","N/A","N/A","N/A",8.5,6,4.3,3.5,3,2.6,null,"Nitrosource Main + 4 Subs7,5"]
[null,"Nitrosource Main + 4 Subs",8.5,"Nitrosource Main + 4 Subs8,5",null,null,null,null,null,null,null,null,39,61.099999999999994,105.1,143,182,221,null,"Nitrosource Main + 4 Subs8,5",{"$error":"#VALUE!"},{"$error":"#VALUE!"},{"$error":"#VALUE!"},{"$error":"#VALUE!"},{"$error":"#VALUE!"},{"$error":"#VALUE!"},{"$error":"#VALUE!"},{"$error":"#VALUE!"},331.5,366.6,451.95,500.5,546,574.59999999999991,null,"N/A","N/A","N/A","N/A","N/A","N/A","N/A","N/A",8.5,6,4.3,3.5,3,2.6,null,"Nitrosource Main + 4 Subs8,5"]
[null,"Nitrosource Main + 4 Subs",9.5,"Nitrosource Main + 4 Subs9,5",null,null,null,null,null,null,null,null,45,70.5,121.5,165,210,255,null,"Nitrosource Main + 4 Subs9,5",{"$error":"#VALUE!"},{"$error":"#VALUE!"},{"$error":"#VALUE!"},{"$error":"#VALUE!"},{"$error":"#VALUE!"},{"$error":"#VALUE!"},{"$error":"#VALUE!"},{"$error":"#VALUE!"},382.5,423,522.45000000000005,577.5,630,663,null,"N/A","N/A","N/A","N/A","N/A","N/A","N/A","N/A",8.5,6,4.3,3.5,3,2.6,null,"Nitrosource Main + 4 Subs9,5"]
[null,"Nitrosource Main + 4 Subs",10.5,"Nitrosource Main + 4 Subs10,5",null,null,null,null,null,null,null,null,52.5,42.25,142,192.5,245,297.5,null,"Nitrosource Main + 4 Subs10,5",{"$error":"#VALUE!"},{"$error":"#VALUE!"},{"$error":"#VALUE!"},{"$error":"#VALUE!"},{"$error":"#VALUE!"},{"$error":"#VALUE!"},{"$error":"#VALUE!"},{"$error":"#VALUE!"},446.25,253.5,610.6,673.75,735,773.5,null,"N/A","N/A","N/A","N/A","N/A","N/A","N/A","N/A",8.5,6,4.3,3.5,3,2.6,null,"Nitrosource Main + 4 Subs10,5"]
[null,"Nitrosource Main + 4 Subs",11.5,"Nitrosource Main + 4 Subs11,5",null,null,null,null,null,null,null,null,60,54,162,220,280,340,null,"Nitrosource Main + 4 Subs11,5",{"$error":"#VALUE!"},{"$error":"#VALUE!"},{"$error":"#VALUE!"},{"$error":"#VALUE!"},{"$error":"#VALUE!"},{"$error":"#VALUE!"},{"$error":"#VALUE!"},{"$error":"#VALUE!"},510,324,696.6,770,840,884,null,"N/A","N/A","N/A","N/A","N/A","N/A","N/A","N/A",8.5,6,4.3,3.5,3,2.6,null,"Nitrosource Main + 4 Subs11,5"]
[null,"Nitrosource Main + 4 Subs",12.5,"Nitrosource Main + 4 Subs12,5",null,null,null,null,null,null,null,null,67.5,105.85,182,247.5,315,382.5,null,"Nitrosource Main + 4 Subs12,5",{"$error":"#VALUE!"},{"$error":"#VALUE!"},{"$error":"#VALUE!"},{"$error":"#VALUE!"},{"$error":"#VALUE!"},{"$error":"#VALUE!"},{"$error":"#VALUE!"},{"$error":"#VALUE!"},573.75,635.1,782.6,866.25,945,1014.9,null,"N/A","N/A","N/A","N/A","N/A","N/A","N/A","N/A",8.5,6,4.3,3.5,3,2.6500000000000004,null,"Nitrosource Main + 4 Subs12,5"]
[null,"Nitrosource Main + 5 Subs",4.5,"Nitrosource Main + 5 Subs4,5",null,null,null,null,null,null,null,null,15.5,24.25,41.8,56.75,72.25,87.7,null,"Nitrosource Main + 5 Subs4,5",{"$error":"#VALUE!"},{"$error":"#VALUE!"},{"$error":"#VALUE!"},{"$error":"#VALUE!"},{"$error":"#VALUE!"},{"$error":"#VALUE!"},{"$error":"#VALUE!"},{"$error":"#VALUE!"},131.75,145.5,179.75,198.64999999999998,216.75,245.55,null,"N/A","N/A","N/A","N/A","N/A","N/A","N/A","N/A",8.5,6,4.3,3.5,3,2.8,null,"Nitrosource Main + 5 Subs4,5"]
[null,"Nitrosource Main + 5 Subs",5.5,"Nitrosource Main + 5 Subs5,5",null,null,null,null,null,null,null,null,22.9,35.85,61.75,83.65,106.85,129.5,null,"Nitrosource Main + 5 Subs5,5",{"$error":"#VALUE!"},{"$error":"#VALUE!"},{"$error":"#VALUE!"},{"$error":"#VALUE!"},{"$error":"#VALUE!"},{"$error":"#VALUE!"},{"$error":"#VALUE!"},{"$error":"#VALUE!"},194.65,215.1,265.55,292.8,320.55,347.1,null,"N/A","N/A","N/A","N/A","N/A","N/A","N/A","N/A",8.5,6,4.3,3.5,3,2.7,null,"Nitrosource Main + 5 Subs5,5"]
[null,"Nitrosource Main + 5 Subs",6.5,"Nitrosource Main + 5 Subs6,5",null,null,null,null,null,null,null,null,31.7,49.65,85.550000000000011,116,148,179.5,null,"Nitrosource Main + 5 Subs6,5",{"$error":"#VALUE!"},{"$error":"#VALUE!"},{"$error":"#VALUE!"},{"$error":"#VALUE!"},{"$error":"#VALUE!"},{"$error":"#VALUE!"},{"$error":"#VALUE!"},{"$error":"#VALUE!"},269.45,297.89999999999998,367.9,406,444,466.7,null,"N/A","N/A","N/A","N/A","N/A","N/A","N/A","N/A",8.5,6,4.3,3.5,3,2.6,null,"Nitrosource Main + 5 Subs6,5"]
[null,"Nitrosource Main + 5 Subs",7.5,"Nitrosource Main + 5 Subs7,5",null,null,null,null,null,null,null,null,39.6,62.05,107.1,145,185,224.5,null,"Nitrosource Main + 5 Subs7,5",{"$error":"#VALUE!"},{"$error":"#VALUE!"},{"$error":"#VALUE!"},{"$error":"#VALUE!"},{"$error":"#VALUE!"},{"$error":"#VALUE!"},{"$error":"#VALUE!"},{"$error":"#VALUE!"},336.6,372.29999999999995,460.55,507.5,555,583.70000000000005,null,"N/A","N/A","N/A","N/A","N/A","N/A","N/A","N/A",8.5,6,4.3,3.5,3,2.6,null,"Nitrosource Main + 5 Subs7,5"]
[null,"Nitrosource Main + 5 Subs",8.5,"Nitrosource Main + 5 Subs8,5",null,null,null,null,null,null,null,null,46.8,73.349999999999994,126.5,171.5,218.5,265.5,null,"Nitrosource Main + 5 Subs8,5",{"$error":"#VALUE!"},{"$error":"#VALUE!"},{"$error":"#VALUE!"},{"$error":"#VALUE!"},{"$error":"#VALUE!"},{"$error":"#VALUE!"},{"$error":"#VALUE!"},{"$error":"#VALUE!"},397.79999999999995,440.1,543.95000000000005,600.25,655.5,690.3,null,"N/A","N/A","N/A","N/A","N/A","N/A","N/A","N/A",8.5,6,4.3,3.5,3,2.6,null,"Nitrosource Main + 5 Subs8,5"]
[null,"Nitrosource Main + 5 Subs",9.5,"Nitrosource Main + 5 Subs9,5",null,null,null,null,null,null,null,null,54,84.6,146,198,252,306,null,"Nitrosource Main + 5 Subs9,5",{"$error":"#VALUE!"},{"$error":"#VALUE!"},{"$error":"#VALUE!"},{"$error":"#VALUE!"},{"$error":"#VALUE!"},{"$error":"#VALUE!"},{"$error":"#VALUE!"},{"$error":"#VALUE!"},459,507.6,627.79999999999995,693,756,795.6,null,"N/A","N/A","N/A","N/A","N/A","N/A","N/A","N/A",8.5,6,4.3,3.5,3,2.6,null,"Nitrosource Main + 5 Subs9,5"]
[null,"Nitrosource Main + 5 Subs",10.5,"Nitrosource Main + 5 Subs10,5",null,null,null,null,null,null,null,null,63,98.6,170.5,231,294,357,null,"Nitrosource Main + 5 Subs10,5",{"$error":"#VALUE!"},{"$error":"#VALUE!"},{"$error":"#VALUE!"},{"$error":"#VALUE!"},{"$error":"#VALUE!"},{"$error":"#VALUE!"},{"$error":"#VALUE!"},{"$error":"#VALUE!"},535.5,591.6,733.15,808.5,882,928.2,null,"N/A","N/A","N/A","N/A","N/A","N/A","N/A","N/A",8.5,6,4.3,3.5,3,2.6,null,"Nitrosource Main + 5 Subs10,5"]
[null,"Nitrosource Main + 5 Subs",11.5,"Nitrosource Main + 5 Subs11,5",null,null,null,null,null,null,null,null,72,112.5,194.5,264,336,408,null,"Nitrosource Main + 5 Subs11,5",{"$error":"#VALUE!"},{"$error":"#VALUE!"},{"$error":"#VALUE!"},{"$error":"#VALUE!"},{"$error":"#VALUE!"},{"$error":"#VALUE!"},{"$error":"#VALUE!"},{"$error":"#VALUE!"},612,675,836.35,924,1008,1060.8,null,"N/A","N/A","N/A","N/A","N/A","N/A","N/A","N/A",8.5,6,4.3,3.5,3,2.6,null,"Nitrosource Main + 5 Subs11,5"]
[null,"Nitrosource Main + 5 Subs",12.5,"Nitrosource Main + 5 Subs12,5",null,null,null,null,null,null,null,null,81,126.5,218.5,297,378,459,null,"Nitrosource Main + 5 Subs12,5",{"$error":"#VALUE!"},{"$error":"#VALUE!"},{"$error":"#VALUE!"},{"$error":"#VALUE!"},{"$error":"#VALUE!"},{"$error":"#VALUE!"},{"$error":"#VALUE!"},{"$error":"#VALUE!"},688.5,759,939.55,1039.5,1134,1217.9000000000001,null,"N/A","N/A","N/A","N/A","N/A","N/A","N/A","N/A",8.5,6,4.3,3.5,3,2.6500000000000004,null,"Nitrosource Main + 5 Subs12,5"]
[null,"N2-20P",5,"N2-20P5",2.1,2.7,4.4000000000000004,5.2,6.3,7.2,8.1,11.2,11.9,14.3,17,21.5,22.2,24.3,null,"N2-20P5",19.5,19.399999999999999,22.4,23.9,25.8,26.6,27.5,32.5,33.299999999999997,37.200000000000003,39.1,47.3,48.8,51,null,9.3000000000000007,7.2,5.0999999999999996,4.5999999999999996,4.0999999999999996,3.7,3.4,2.9,2.8,2.6,2.2999999999999998,2.2000000000000002,2.2000000000000002,2.1,null,"N2-20P5",4.2,4.2,4.2,4.2,4.0999999999999996,4.0999999999999996,4.0999999999999996,4.0999999999999996,4.0999999999999996,4,3.9,3.8,3.7,3.7]
[null,"N2-20P",6,"N2-20P6",2.8,3.6,5.6,6.6,8.1,9.1999999999999993,10.3,13.9,14.7,17.7,21,25.6,26.6,29,null,"N2-20P6",26,25.9,28.6,30.4,33.200000000000003,34,35,40.299999999999997,41.2,46,48.3,56.3,58.5,60.9,null,9.3000000000000007,7.2,5.0999999999999996,4.5999999999999996,4.0999999999999996,3.7,3.4,2.9,2.8,2.6,2.2999999999999998,2.2000000000000002,2.2000000000000002,2.1,null,"N2-20P6",5.0999999999999996,5.0999999999999996,5.0999999999999996,5.0999999999999996,5,5,5,5,4.9000000000000004,4.8,4.8,4.7,4.5999999999999996,4.5999999999999996]
[null,"N2-20P",7,"N2-20P7",3.5,4.5,6.7,8,9.6999999999999993,11.1,12.4,16.7,17.7,21.3,25.3,29.8,30.9,33.700000000000003,null,"N2-20P7",32.6,32.4,34.200000000000003,36.799999999999997,39.799999999999997,41.1,42.2,48.4,49.6,55.4,58.2,65.599999999999994,68,70.8,null,9.3000000000000007,7.2,5.0999999999999996,4.5999999999999996,4.0999999999999996,3.7,3.4,2.9,2.8,2.6,2.2999999999999998,2.2000000000000002,2.2000000000000002,2.1,null,"N2-20P7",6,6,6,6,6,6,5.8,5.8,5.7,5.7,5.6,5.5,5.4,5.4]
[null,"N2-20P",8,"N2-20P8",4,5.2,7.5,9,10.9,12.4,13.9,18.5,19.600000000000001,23.2,27.6,32.5,33.700000000000003,36.700000000000003,null,"N2-20P8",37.200000000000003,37.4,38.299999999999997,41.4,44.7,45.9,47.3,53.7,54.9,60.3,63.5,71.5,74.099999999999994,77.099999999999994,null,9.3000000000000007,7.2,5.0999999999999996,4.5999999999999996,4.0999999999999996,3.7,3.4,2.9,2.8,2.6,2.2999999999999998,2.2000000000000002,2.2000000000000002,2.1,null,"N2-20P8",6.9,6.9,6.9,6.8,6.8,6.7,6.7,6.6,6.6,6.5,6.4,6.3,6.2,6.2]
[null,"N2-20P",9,"N2-20P9",4.5999999999999996,5.9,8.3000000000000007,9.9,12,13.8,15.4,20.399999999999999,21.6,25.3,30.1,35.5,36.799999999999997,40.1,null,"N2-20P9",42.8,42.5,42.3,45.5,49.2,51.1,52.4,59.2,60.5,65.8,69.2,78.099999999999994,81,84.2,null,9.3000000000000007,7.2,5.0999999999999996,4.5999999999999996,4.0999999999999996,3.7,3.4,2.9,2.8,2.6,2.2999999999999998,2.2000000000000002,2.2000000000000002,2.1,null,"N2-20P9",7.8,7.8,7.8,7.7,7.7,7.6,7.5,7.4,7.4,7.2,7.1,7,6.9,6.9]
[null,"N2-20P",10,"N2-20P10",5.0999999999999996,6.5,9.1999999999999993,11,13.3,15.2,17,22,23.4,27.3,32.4,38.1,39.6,43.1,null,"N2-20P10",47.4,46.8,46.9,50.6,54.5,56.2,57.8,63.8,65.5,71,74.5,83.8,87.1,90.5,null,9.3000000000000007,7.2,5.0999999999999996,4.5999999999999996,4.0999999999999996,3.7,3.4,2.9,2.8,2.6,2.2999999999999998,2.2000000000000002,2.2000000000000002,2.1,null,"N2-20P10",8.6999999999999993,8.6999999999999993,8.6999999999999993,8.6,8.5,8.4,8.3000000000000007,8.3000000000000007,8.1999999999999993,8,7.9,7.7,7.66,7.6]
[null,"N2-20P",11,"N2-20P11",5.4,6.9,9.5,11.4,13.8,15.8,17.600000000000001,23,24.4,28.3,33.6,39.6,41.1,44.8,null,"N2-20P11",55.1,54.5,53.2,58.1,62.1,64.8,65.099999999999994,73.599999999999994,75.599999999999994,79.2,87.4,95,98.6,103,null,10.199999999999999,7.9,5.6,5.0999999999999996,4.5,4.0999999999999996,3.7,3.2,3.1,2.8,2.6,2.4,2.4,2.2999999999999998,null,"N2-20P11",9.6,9.6,9.6,9.5,9.4,9.3000000000000007,9.1999999999999993,9.1,9,8.8000000000000007,8.6,8.4,8.3000000000000007,8.3000000000000007]
[null,"N2-20P",12,"N2-20P12",5.7,7.3,9.9,11.8,14.4,16.399999999999999,18.399999999999999,23.9,25.3,29.4,34.9,41.1,42.6,46.5,null,"N2-20P12",58.1,57.7,55.4,60.2,64.8,67.2,68.099999999999994,76.5,78.400000000000006,82.3,90.7,98.6,102.2,107,null,10.199999999999999,7.9,5.6,5.0999999999999996,4.5,4.0999999999999996,3.7,3.2,3.1,2.8,2.6,2.4,2.4,2.2999999999999998,null,"N2-20P12",10.5,10.5,10.5,10.4,10.3,10.199999999999999,10,9.9,9.8000000000000007,9.5,9.3000000000000007,9,9,8.9]
[null,"N2-20P",13,"N2-20P13",6,7.7,10.3,12.2,14.8,17,19,24.9,26.4,30.2,35.9,42.3,43.9,47.9,null,"N2-20P13",61.2,60.8,57.7,62.2,66.599999999999994,69.7,70.3,79.7,81.8,84.6,93.3,101.5,105.4,110.2,null,10.199999999999999,7.9,5.6,5.0999999999999996,4.5,4.0999999999999996,3.7,3.2,3.1,2.8,2.6,2.4,2.4,2.2999999999999998,null,"N2-20P13",11.4,11.4,11.3,11.2,11.2,11,10.9,10.7,10.6,10.3,10,9.6,9.5,9.5]
[null,"N2-25P",5,"N2-25P5",3.1,4,6.5,7.8,9.5,10.8,12.1,16.8,17.8,21.4,25.4,32.200000000000003,33.4,36.4,null,"N2-25P5",28.8,28.8,33.200000000000003,35.9,39,40,41.1,48.7,49.8,55.6,58.4,70.8,73.5,76.400000000000006,null,9.3000000000000007,7.2,5.0999999999999996,4.5999999999999996,4.0999999999999996,3.7,3.4,2.9,2.8,2.6,2.2999999999999998,2.2000000000000002,2.2000000000000002,2.1,null,"N2-25P5",4.2,4.2,4.2,4.2,4.0999999999999996,4.0999999999999996,4.0999999999999996,4.0999999999999996,4.0999999999999996,4,3.9,3.8,3.7,3.7]
[null,"N2-25P",6,"N2-25P6",4.0999999999999996,5.3,8.3000000000000007,10,12.1,13.8,15.4,20.8,22,26.5,31.5,38.4,39.9,43.5,null,"N2-25P6",38.1,38.200000000000003,42.3,46,49.6,51.1,52.4,60.3,61.6,68.900000000000006,72.5,84.5,87.8,91.4,null,9.3000000000000007,7.2,5.0999999999999996,4.5999999999999996,4.0999999999999996,3.7,3.4,2.9,2.8,2.6,2.2999999999999998,2.2000000000000002,2.2000000000000002,2.1,null,"N2-25P6",5.0999999999999996,5.0999999999999996,5.0999999999999996,5.0999999999999996,5,5,5,5,4.9000000000000004,4.8,4.8,4.7,4.5999999999999996,4.5999999999999996]
[null,"N2-25P",7,"N2-25P7",5.3,6.8,10.1,12,14.6,16.7,18.600000000000001,25.1,26.6,32,38,44.7,46.4,50.6,null,"N2-25P7",49.3,49,51.5,55.2,59.9,61.8,63.2,72.8,74.5,83.2,87.4,98.3,102.1,106.3,null,9.3000000000000007,7.2,5.0999999999999996,4.5999999999999996,4.0999999999999996,3.7,3.4,2.9,2.8,2.6,2.2999999999999998,2.2000000000000002,2.2000000000000002,2.1,null,"N2-25P7",6,6,6,6,6,6,5.8,5.8,5.7,5.7,5.6,5.5,5.4,5.4]
[null,"N2-25P",8,"N2-25P8",6,7.8,11.3,13.4,16.3,18.600000000000001,20.8,27.8,29.5,34.799999999999997,41.4,48.7,50.5,55.1,null,"N2-25P8",55.8,56.2,57.6,61.6,66.8,68.8,70.7,80.599999999999994,82.6,90.5,95.2,107.1,111.1,115.7,null,9.3000000000000007,7.2,5.0999999999999996,4.5999999999999996,4.0999999999999996,3.7,3.4,2.9,2.8,2.6,2.2999999999999998,2.2000000000000002,2.2000000000000002,2.1,null,"N2-25P8",6.9,6.9,6.9,6.8,6.8,6.7,6.7,6.6,6.6,6.5,6.4,6.3,6.2,6.2]
[null,"N2-25P",9,"N2-25P9",6.8,8.8000000000000007,12.5,14.9,18,20.6,23.1,30.6,32.4,38,45.2,53.2,55.2,60.2,null,"N2-25P9",63.2,63.4,63.8,68.5,73.8,76.2,78.5,88.7,90.7,98.8,104,117,121.4,126.4,null,9.3000000000000007,7.2,5.0999999999999996,4.5999999999999996,4.0999999999999996,3.7,3.4,2.9,2.8,2.6,2.2999999999999998,2.2000000000000002,2.2000000000000002,2.1,null,"N2-25P9",7.8,7.8,7.8,7.7,7.7,7.6,7.5,7.4,7.4,7.2,7.1,7,6.9,6.9]
[null,"N2-25P",10,"N2-25P10",7.6,9.8000000000000007,13.8,16.399999999999999,19.899999999999999,22.8,25.5,33.1,35,40.9,48.6,57.2,59.3,64.7,null,"N2-25P10",70.7,70.599999999999994,70.400000000000006,75.400000000000006,81.599999999999994,84.4,86.7,96,98,106.3,111.8,125.8,130.5,135.9,null,9.3000000000000007,7.2,5.0999999999999996,4.5999999999999996,4.0999999999999996,3.7,3.4,2.9,2.8,2.6,2.2999999999999998,2.2000000000000002,2.2000000000000002,2.1,null,"N2-25P10",8.6999999999999993,8.6999999999999993,8.6999999999999993,8.6,8.5,8.4,8.3000000000000007,8.3000000000000007,8.1999999999999993,8,7.9,7.7,7.66,7.6]
[null,"N2-25P",11,"N2-25P11",8.1,10.4,14.3,17,20.7,23.6,26.4,34.6,36.6,42.5,50.5,59.5,61.6,67.2,null,"N2-25P11",82.6,82.2,80.099999999999994,86.7,93.2,96.8,97.7,110.7,113.5,119,131.30000000000001,142.80000000000001,147.80000000000001,154.6,null,10.199999999999999,7.9,5.6,5.0999999999999996,4.5,4.0999999999999996,3.7,3.2,3.1,2.8,2.6,2.4,2.4,2.2999999999999998,null,"N2-25P11",9.6,9.6,9.6,9.5,9.4,9.3000000000000007,9.1999999999999993,9.1,9,8.8000000000000007,8.6,8.4,8.3000000000000007,8.3000000000000007]
[null,"N2-25P",12,"N2-25P12",8.6,11,14.9,17.8,21.5,24.6,27.5,35.799999999999997,38,44.1,52.4,61.7,64,69.8,null,"N2-25P12",87.7,86.9,83.4,90.8,96.8,100.9,101.8,114.6,117.8,123.5,136.19999999999999,148.1,153.6,160.5,null,10.199999999999999,7.9,5.6,5.0999999999999996,4.5,4.0999999999999996,3.7,3.2,3.1,2.8,2.6,2.4,2.4,2.2999999999999998,null,"N2-25P12",10.5,10.5,10.5,10.4,10.3,10.199999999999999,10,9.9,9.8000000000000007,9.5,9.3000000000000007,9,9,8.9]
[null,"N2-25P",13,"N2-25P13",9,11.6,15.4,18.399999999999999,22.3,25.5,28.5,37.299999999999997,39.6,45.4,53.9,63.5,65.8,71.8,null,"N2-25P13",91.8,91.6,86.2,93.8,100.4,104.6,105.5,119.4,122.8,127.1,140.1,152.4,157.9,165.1,null,10.199999999999999,7.9,5.6,5.0999999999999996,4.5,4.0999999999999996,3.7,3.2,3.1,2.8,2.6,2.4,2.4,2.2999999999999998,null,"N2-25P13",11.4,11.4,11.3,11.2,11.2,11,10.9,10.7,10.6,10.3,10,9.6,9.5,9.5]
[null,"N2-35P",5,"N2-35P5",4.0999999999999996,5.3,8.6999999999999993,10.4,12.6,14.4,16.100000000000001,22.4,23.7,28.5,33.9,42.9,44.5,48.5,null,"N2-35P5",38.1,38.200000000000003,44.4,47.8,51.7,53.3,54.7,65,66.400000000000006,74.099999999999994,78,94.4,97.9,101.9,null,9.3000000000000007,7.2,5.0999999999999996,4.5999999999999996,4.0999999999999996,3.7,3.4,2.9,2.8,2.6,2.2999999999999998,2.2000000000000002,2.2000000000000002,2.1,null,"N2-35P5",4.2,4.2,4.2,4.2,4.0999999999999996,4.0999999999999996,4.0999999999999996,4.0999999999999996,4.0999999999999996,4,3.9,3.8,3.7,3.7]
[null,"N2-35P",6,"N2-35P6",5.5,7.1,11.1,13.3,16.100000000000001,18.399999999999999,20.6,27.7,29.4,35.4,42,51.3,53.1,58,null,"N2-35P6",51.2,51.1,56.6,61.2,66,68.099999999999994,70,80.3,82.3,92,96.6,112.9,116.8,121.8,null,9.3000000000000007,7.2,5.0999999999999996,4.5999999999999996,4.0999999999999996,3.7,3.4,2.9,2.8,2.6,2.2999999999999998,2.2000000000000002,2.2000000000000002,2.1,null,"N2-35P6",5.0999999999999996,5.0999999999999996,5.0999999999999996,5.0999999999999996,5,5,5,5,4.9000000000000004,4.8,4.8,4.7,4.5999999999999996,4.5999999999999996]
[null,"N2-35P",7,"N2-35P7",7,9,13.4,16,19.399999999999999,22.2,24.8,33.4,35.4,42.6,50.6,59.6,61.8,67.400000000000006,null,"N2-35P7",65.099999999999994,64.8,68.3,73.599999999999994,79.5,82.1,84.3,96.9,99.1,110.8,116.4,131.1,136,141.5,null,9.3000000000000007,7.2,5.0999999999999996,4.5999999999999996,4.0999999999999996,3.7,3.4,2.9,2.8,2.6,2.2999999999999998,2.2000000000000002,2.2000000000000002,2.1,null,"N2-35P7",6,6,6,6,6,6,5.8,5.8,5.7,5.7,5.6,5.5,5.4,5.4]
[null,"N2-35P",8,"N2-35P8",8.1,10.4,15,17.899999999999999,21.7,24.9,27.8,37.1,39.299999999999997,46.4,55.2,65,67.400000000000006,73.5,null,"N2-35P8",75.3,74.900000000000006,76.5,82.3,89,92.1,94.5,107.6,110,120.6,127,143,148.30000000000001,154.4,null,9.3000000000000007,7.2,5.0999999999999996,4.5999999999999996,4.0999999999999996,3.7,3.4,2.9,2.8,2.6,2.2999999999999998,2.2000000000000002,2.2000000000000002,2.1,null,"N2-35P8",6.9,6.9,6.9,6.8,6.8,6.7,6.7,6.6,6.6,6.5,6.4,6.3,6.2,6.2]
[null,"N2-35P",9,"N2-35P9",9.1,11.7,16.600000000000001,19.8,24.1,27.5,30.8,40.700000000000003,43.2,50.7,60.2,70.900000000000006,73.5,80.2,null,"N2-35P9",84.6,84.2,84.7,91.1,98.8,101.8,104.7,118,121,131.80000000000001,138.5,156,161.69999999999999,168.4,null,9.3000000000000007,7.2,5.0999999999999996,4.5999999999999996,4.0999999999999996,3.7,3.4,2.9,2.8,2.6,2.2999999999999998,2.2000000000000002,2.2000000000000002,2.1,null,"N2-35P9",7.8,7.8,7.8,7.7,7.7,7.6,7.5,7.4,7.4,7.2,7.1,7,6.9,6.9]
[null,"N2-35P",10,"N2-35P10",10.199999999999999,13.1,18.399999999999999,21.9,26.6,30.4,34,44.1,46.7,54.5,64.8,76.3,79.099999999999994,86.3,null,"N2-35P10",94.9,94.3,93.8,100.7,109.1,112.5,115.6,127.9,130.80000000000001,141.69999999999999,149,167.9,174,181.2,null,9.3000000000000007,7.2,5.0999999999999996,4.5999999999999996,4.0999999999999996,3.7,3.4,2.9,2.8,2.6,2.2999999999999998,2.2000000000000002,2.2000000000000002,2.1,null,"N2-35P10",8.6999999999999993,8.6999999999999993,8.6999999999999993,8.6,8.5,8.4,8.3000000000000007,8.3000000000000007,8.1999999999999993,8,7.9,7.7,7.66,7.6]
[null,"N2-35P",11,"N2-35P11",10.8,13.9,19,22.7,27.5,31.5,35.200000000000003,46.1,48.9,56.7,67.3,79.3,82.2,89.6,null,"N2-35P11",110.2,109.8,106.4,115.8,123.8,129.19999999999999,130.19999999999999,147.5,151.6,158.80000000000001,175,190.3,197.3,206.1,null,10.199999999999999,7.9,5.6,5.0999999999999996,4.5,4.0999999999999996,3.7,3.2,3.1,2.8,2.6,2.4,2.4,2.2999999999999998,null,"N2-35P11",9.6,9.6,9.6,9.5,9.4,9.3000000000000007,9.1999999999999993,9.1,9,8.8000000000000007,8.6,8.4,8.3000000000000007,8.3000000000000007]
[null,"N2-35P",12,"N2-35P12",11.4,14.7,19.8,23.7,28.7,32.9,36.700000000000003,47.8,50.6,58.8,69.8,82.2,85.3,93,null,"N2-35P12",116.3,116.1,110.9,120.9,129.19999999999999,134.9,135.80000000000001,153,156.9,164.6,181.5,197.3,204.7,213.9,null,10.199999999999999,7.9,5.6,5.0999999999999996,4.5,4.0999999999999996,3.7,3.2,3.1,2.8,2.6,2.4,2.4,2.2999999999999998,null,"N2-35P12",10.5,10.5,10.5,10.4,10.3,10.199999999999999,10,9.9,9.8000000000000007,9.5,9.3000000000000007,9,9,8.9]
[null,"N2-35P",13,"N2-35P13",12,15.5,20.5,24.5,29.7,34,37.9,49.8,52.7,60.5,71.900000000000006,84.6,87.8,95.7,null,"N2-35P13",122.4,122.5,114.8,125,133.69999999999999,139.4,140.19999999999999,159.4,163.4,169.4,186.9,203,210.7,220.1,null,10.199999999999999,7.9,5.6,5.0999999999999996,4.5,4.0999999999999996,3.7,3.2,3.1,2.8,2.6,2.4,2.4,2.2999999999999998,null,"N2-35P13",11.4,11.4,11.3,11.2,11.2,11,10.9,10.7,10.6,10.3,10,9.6,9.5,9.5]
[null,"N2-45P",5,"N2-45P5",5.2,6.6,10.9,13,15.8,18,20.2,28,29.6,35.700000000000003,42.4,53.6,55.6,60.7,null,"N2-45P5",48.4,47.5,55.6,59.8,64.8,66.599999999999994,68.7,81.2,82.9,92.8,97.5,117.9,122.3,127.5,null,9.3000000000000007,7.2,5.0999999999999996,4.5999999999999996,4.0999999999999996,3.7,3.4,2.9,2.8,2.6,2.2999999999999998,2.2000000000000002,2.2000000000000002,2.1,null,"N2-45P5",4.2,4.2,4.2,4.2,4.0999999999999996,4.0999999999999996,4.0999999999999996,4.0999999999999996,4.0999999999999996,4,3.9,3.8,3.7,3.7]
[null,"N2-45P",6,"N2-45P6",6.9,8.9,13.9,16.600000000000001,20.100000000000001,23,25.7,34.700000000000003,36.700000000000003,44.2,52.5,64.099999999999994,66.400000000000006,72.5,null,"N2-45P6",64.2,64.099999999999994,70.900000000000006,76.400000000000006,82.4,85.1,87.4,100.6,102.8,114.9,120.8,141,146.1,152.30000000000001,null,9.3000000000000007,7.2,5.0999999999999996,4.5999999999999996,4.0999999999999996,3.7,3.4,2.9,2.8,2.6,2.2999999999999998,2.2000000000000002,2.2000000000000002,2.1,null,"N2-45P6",5.0999999999999996,5.0999999999999996,5.0999999999999996,5.0999999999999996,5,5,5,5,4.9000000000000004,4.8,4.8,4.7,4.5999999999999996,4.5999999999999996]
[null,"N2-45P",7,"N2-45P7",8.8000000000000007,11.3,16.8,20,24.3,27.8,31,41.8,44.3,53.3,63.3,74.5,77.3,84.3,null,"N2-45P7",81.8,81.400000000000006,85.7,92,99.6,102.9,105.4,121.2,124,138.6,145.6,163.9,170.1,177,null,9.3000000000000007,7.2,5.0999999999999996,4.5999999999999996,4.0999999999999996,3.7,3.4,2.9,2.8,2.6,2.2999999999999998,2.2000000000000002,2.2000000000000002,2.1,null,"N2-45P7",6,6,6,6,6,6,5.8,5.8,5.7,5.7,5.6,5.5,5.4,5.4]
[null,"N2-45P",8,"N2-45P8",10.1,12.9,18.8,22.4,27.2,31.1,34.700000000000003,46.3,49.1,58,68.900000000000006,81.2,84.2,91.8,null,"N2-45P8",93.9,92.9,95.9,103,111.5,115.1,118,134.30000000000001,137.5,150.80000000000001,158.5,178.6,185.2,192.8,null,9.3000000000000007,7.2,5.0999999999999996,4.5999999999999996,4.0999999999999996,3.7,3.4,2.9,2.8,2.6,2.2999999999999998,2.2000000000000002,2.2000000000000002,2.1,null,"N2-45P8",6.9,6.9,6.9,6.8,6.8,6.7,6.7,6.6,6.6,6.5,6.4,6.3,6.2,6.2]
[null,"N2-45P",9,"N2-45P9",11.4,14.6,20.8,24.8,30.1,34.4,38.4,50.9,54,63.4,75.3,88.7,91.9,100.3,null,"N2-45P9",106,105.1,106.1,114.1,123.4,127.3,130.6,147.6,151.19999999999999,164.8,173.2,195.1,202.2,210.6,null,9.3000000000000007,7.2,5.0999999999999996,4.5999999999999996,4.0999999999999996,3.7,3.4,2.9,2.8,2.6,2.2999999999999998,2.2000000000000002,2.2000000000000002,2.1,null,"N2-45P9",7.8,7.8,7.8,7.7,7.7,7.6,7.5,7.4,7.4,7.2,7.1,7,6.9,6.9]
[null,"N2-45P",10,"N2-45P10",12.7,16.3,22.9,27.4,33.200000000000003,38,42.5,55.1,58.4,68.2,81,95.4,98.9,107.8,null,"N2-45P10",118.1,117.4,116.8,126,136.1,140.6,144.5,159.80000000000001,163.5,177.3,186.3,209.9,217.6,226.4,null,9.3000000000000007,7.2,5.0999999999999996,4.5999999999999996,4.0999999999999996,3.7,3.4,2.9,2.8,2.6,2.2999999999999998,2.2000000000000002,2.2000000000000002,2.1,null,"N2-45P10",8.6999999999999993,8.6999999999999993,8.6999999999999993,8.6,8.5,8.4,8.3000000000000007,8.3000000000000007,8.1999999999999993,8,7.9,7.7,7.66,7.6]
[null,"N2-45P",11,"N2-45P11",13.5,17.3,23.8,28.4,34.4,39.4,44,57.6,61.1,70.8,84.1,99.1,102.7,112.1,null,"N2-45P11",137.69999999999999,136.69999999999999,133.30000000000001,144.80000000000001,154.80000000000001,161.5,162.80000000000001,184.3,189.4,198.2,218.7,237.8,246.5,257.8,null,10.199999999999999,7.9,5.6,5.0999999999999996,4.5,4.0999999999999996,3.7,3.2,3.1,2.8,2.6,2.4,2.4,2.2999999999999998,null,"N2-45P11",9.6,9.6,9.6,9.5,9.4,9.3000000000000007,9.1999999999999993,9.1,9,8.8000000000000007,8.6,8.4,8.3000000000000007,8.3000000000000007]
[null,"N2-45P",12,"N2-45P12",14.3,18.3,24.8,29.6,35.9,41.1,45.9,59.7,63.3,73.5,87.3,102.8,106.6,116.3,null,"N2-45P12",145.9,144.6,138.9,151,161.6,168.5,169.8,191,196.2,205.8,227,246.7,255.8,267.5,null,10.199999999999999,7.9,5.6,5.0999999999999996,4.5,4.0999999999999996,3.7,3.2,3.1,2.8,2.6,2.4,2.4,2.2999999999999998,null,"N2-45P12",10.5,10.5,10.5,10.4,10.3,10.199999999999999,10,9.9,9.8000000000000007,9.5,9.3000000000000007,9,9,8.9]
[null,"N2-45P",13,"N2-45P13",15.1,19.399999999999999,25.6,30.6,37.1,42.5,47.4,62.2,65.900000000000006,75.599999999999994,89.8,105.8,109.7,119.6,null,"N2-45P13",154,153.30000000000001,143.4,156.1,167,174.3,175.4,199,204.3,211.7,233.5,253.9,263.3,275.10000000000002,null,10.199999999999999,7.9,5.6,5.0999999999999996,4.5,4.0999999999999996,3.7,3.2,3.1,2.8,2.6,2.4,2.4,2.2999999999999998,null,"N2-45P13",11.4,11.4,11.3,11.2,11.2,11,10.9,10.7,10.6,10.3,10,9.6,9.5,9.5]
[null,"N2-55P",5,"N2-55P5",6.2,8,13.1,15.6,18.899999999999999,21.6,24.2,33.6,35.6,42.8,50.9,64.400000000000006,66.7,72.8,null,"N2-55P5",57.7,57.6,66.8,71.8,77.5,79.900000000000006,82.3,97.4,99.7,111.3,117.1,141.69999999999999,146.69999999999999,152.9,null,9.3000000000000007,7.2,5.0999999999999996,4.5999999999999996,4.0999999999999996,3.7,3.4,2.9,2.8,2.6,2.2999999999999998,2.2000000000000002,2.2000000000000002,2.1,null,"N2-55P5",4.2,4.2,4.2,4.2,4.0999999999999996,4.0999999999999996,4.0999999999999996,4.0999999999999996,4.0999999999999996,4,3.9,3.8,3.7,3.7]
[null,"N2-55P",6,"N2-55P6",8.3000000000000007,10.7,16.7,19.899999999999999,24.2,27.6,30.9,41.6,44.1,53,63,76.900000000000006,79.7,86.9,null,"N2-55P6",77.2,77,85.2,91.5,99.2,102.1,105.1,120.6,123.5,137.80000000000001,144.9,169.2,175.3,182.5,null,9.3000000000000007,7.2,5.0999999999999996,4.5999999999999996,4.0999999999999996,3.7,3.4,2.9,2.8,2.6,2.2999999999999998,2.2000000000000002,2.2000000000000002,2.1,null,"N2-55P6",5.0999999999999996,5.0999999999999996,5.0999999999999996,5.0999999999999996,5,5,5,5,4.9000000000000004,4.8,4.8,4.7,4.5999999999999996,4.5999999999999996]
[null,"N2-55P",7,"N2-55P7",10.5,13.5,20.100000000000001,24,29.1,33.299999999999997,37.200000000000003,50.1,53.1,63.9,75.900000000000006,89.4,92.7,101.1,null,"N2-55P7",97.7,97.2,102.5,110.4,119.3,123.2,126.5,145.30000000000001,148.69999999999999,166.1,174.6,196.7,203.9,212.3,null,9.3000000000000007,7.2,5.0999999999999996,4.5999999999999996,4.0999999999999996,3.7,3.4,2.9,2.8,2.6,2.2999999999999998,2.2000000000000002,2.2000000000000002,2.1,null,"N2-55P7",6,6,6,6,6,6,5.8,5.8,5.7,5.7,5.6,5.5,5.4,5.4]
[null,"N2-55P",8,"N2-55P8",12.1,15.5,22.5,26.9,32.6,37.299999999999997,41.7,55.6,58.9,69.7,82.7,97.4,101,110.2,null,"N2-55P8",112.5,111.6,114.8,123.7,133.69999999999999,138,141.80000000000001,161.19999999999999,164.9,181.2,190.2,214.3,222.2,231.4,null,9.3000000000000007,7.2,5.0999999999999996,4.5999999999999996,4.0999999999999996,3.7,3.4,2.9,2.8,2.6,2.2999999999999998,2.2000000000000002,2.2000000000000002,2.1,null,"N2-55P8",6.9,6.9,6.9,6.8,6.8,6.7,6.7,6.6,6.6,6.5,6.4,6.3,6.2,6.2]
[null,"N2-55P",9,"N2-55P9",13.7,17.600000000000001,24.9,29.8,36.1,41.3,46.1,61.1,64.8,76,90.3,106.4,110.3,120.3,null,"N2-55P9",127.4,126.7,127,137.1,148,152.80000000000001,156.69999999999999,177.2,181.4,197.6,207.7,234.1,242.7,252.6,null,9.3000000000000007,7.2,5.0999999999999996,4.5999999999999996,4.0999999999999996,3.7,3.4,2.9,2.8,2.6,2.2999999999999998,2.2000000000000002,2.2000000000000002,2.1,null,"N2-55P9",7.8,7.8,7.8,7.7,7.7,7.6,7.5,7.4,7.4,7.2,7.1,7,6.9,6.9]
[null,"N2-55P",10,"N2-55P10",15.2,19.600000000000001,27.5,32.9,39.9,45.6,51,66.099999999999994,70.099999999999994,81.8,97.2,114.4,118.7,129.4,null,"N2-55P10",141.4,141.1,140.30000000000001,151.30000000000001,163.6,168.7,173.4,191.7,196.3,212.7,223.6,251.7,261.10000000000002,271.7,null,9.3000000000000007,7.2,5.0999999999999996,4.5999999999999996,4.0999999999999996,3.7,3.4,2.9,2.8,2.6,2.2999999999999998,2.2000000000000002,2.2000000000000002,2.1,null,"N2-55P10",8.6999999999999993,8.6999999999999993,8.6999999999999993,8.6,8.5,8.4,8.3000000000000007,8.3000000000000007,8.1999999999999993,8,7.9,7.7,7.66,7.6]
[null,"N2-55P",11,"N2-55P11",16.2,20.8,28.5,34.1,41.3,47.3,52.8,69.099999999999994,73.3,85,100.9,118.9,123.3,134.5,null,"N2-55P11",165.2,164.3,159.6,173.9,185.9,193.9,195.4,221.1,227.2,238,262.3,285.39999999999998,295.89999999999998,309.39999999999998,null,10.199999999999999,7.9,5.6,5.0999999999999996,4.5,4.0999999999999996,3.7,3.2,3.1,2.8,2.6,2.4,2.4,2.2999999999999998,null,"N2-55P11",9.6,9.6,9.6,9.5,9.4,9.3000000000000007,9.1999999999999993,9.1,9,8.8000000000000007,8.6,8.4,8.3000000000000007,8.3000000000000007]
[null,"N2-55P",12,"N2-55P12",17.100000000000001,22,29.7,35.5,43.1,49.3,55.1,71.599999999999994,75.900000000000006,88.2,104.7,123.4,127.9,139.5,null,"N2-55P12",174.4,173.8,166.3,181.1,194,202.1,203.9,229.1,235.3,247,272.2,296.2,307,320.89999999999998,null,10.199999999999999,7.9,5.6,5.0999999999999996,4.5,4.0999999999999996,3.7,3.2,3.1,2.8,2.6,2.4,2.4,2.2999999999999998,null,"N2-55P12",10.5,10.5,10.5,10.4,10.3,10.199999999999999,10,9.9,9.8000000000000007,9.5,9.3000000000000007,9,9,8.9]
[null,"N2-55P",13,"N2-55P13",18.100000000000001,23.2,30.8,36.700000000000003,44.5,50.9,56.9,74.599999999999994,79.099999999999994,90.7,107.8,126.9,131.6,143.6,null,"N2-55P13",184.6,183.3,172.5,187.2,200.3,208.7,210.5,238.7,245.2,254,280.3,304.60000000000002,315.8,330.3,null,10.199999999999999,7.9,5.6,5.0999999999999996,4.5,4.0999999999999996,3.7,3.2,3.1,2.8,2.6,2.4,2.4,2.2999999999999998,null,"N2-55P13",11.4,11.4,11.3,11.2,11.2,11,10.9,10.7,10.6,10.3,10,9.6,9.5,9.5]
[null,"N2-60P",5,"N2-60P5",6.9,8.8000000000000007,14.5,17.3,21,24,26.8,37.200000000000003,39.4,47.5,56.4,71.3,74,80.7,null,"N2-60P5",67.599999999999994,66.900000000000006,76.900000000000006,84.8,90.3,93.6,93.8,111.6,114.3,128.30000000000001,141,164,170.2,177.5,null,9.8000000000000007,7.6,5.3,4.9000000000000004,4.3,3.9,3.5,3,2.9,2.7,2.5,2.2999999999999998,2.2999999999999998,2.2000000000000002,null,"N2-60P5",4.2,4.2,4.2,4.2,4.0999999999999996,4.0999999999999996,4.0999999999999996,4.0999999999999996,4.0999999999999996,4,3.9,3.8,3.7,3.7]
[null,"N2-60P",6,"N2-60P6",9.1999999999999993,11.8,18.5,22.1,26.8,30.6,34.200000000000003,46.1,48.8,58.8,69.8,85.2,88.4,96.4,null,"N2-60P6",90.2,89.7,98.1,108.3,115.2,119.3,119.7,138.30000000000001,141.5,158.80000000000001,174.5,196,203.3,212.1,null,9.8000000000000007,7.6,5.3,4.9000000000000004,4.3,3.9,3.5,3,2.9,2.7,2.5,2.2999999999999998,2.2999999999999998,2.2000000000000002,null,"N2-60P6",5.0999999999999996,5.0999999999999996,5.0999999999999996,5.0999999999999996,5,5,5,5,4.9000000000000004,4.8,4.8,4.7,4.5999999999999996,4.5999999999999996]
[null,"N2-60P",7,"N2-60P7",11.6,15,22.3,26.6,32.299999999999997,36.9,41.2,55.5,58.9,70.8,84.1,99.1,102.7,112.1,null,"N2-60P7",113.7,114,118.2,130.30000000000001,138.9,143.9,144.19999999999999,166.5,170.8,191.2,210.3,227.9,236.2,246.6,null,9.8000000000000007,7.6,5.3,4.9000000000000004,4.3,3.9,3.5,3,2.9,2.7,2.5,2.2999999999999998,2.2999999999999998,2.2000000000000002,null,"N2-60P7",6,6,6,6,6,6,5.8,5.8,5.7,5.7,5.6,5.5,5.4,5.4]
[null,"N2-60P",8,"N2-60P8",13.4,17.2,25,29.8,36.1,41.3,46.2,61.6,65.3,77.2,91.7,108,112,122.1,null,"N2-60P8",131.30000000000001,130.69999999999999,132.5,146,155.19999999999999,161.1,161.69999999999999,184.8,189.4,208.4,229.3,248.4,257.60000000000002,268.60000000000002,null,9.8000000000000007,7.6,5.3,4.9000000000000004,4.3,3.9,3.5,3,2.9,2.7,2.5,2.2999999999999998,2.2999999999999998,2.2000000000000002,null,"N2-60P8",6.9,6.9,6.9,6.8,6.8,6.7,6.7,6.6,6.6,6.5,6.4,6.3,6.2,6.2]
[null,"N2-60P",9,"N2-60P9",15.1,19.5,27.6,33,40,45.8,51.1,67.7,71.8,84.3,100.1,117.9,122.3,133.30000000000001,null,"N2-60P9",148,148.19999999999999,146.30000000000001,161.69999999999999,172,178.6,178.9,203.1,208.2,227.6,250.3,271.2,281.3,293.3,null,9.8000000000000007,7.6,5.3,4.9000000000000004,4.3,3.9,3.5,3,2.9,2.7,2.5,2.2999999999999998,2.2999999999999998,2.2000000000000002,null,"N2-60P9",7.8,7.8,7.8,7.7,7.7,7.6,7.5,7.4,7.4,7.2,7.1,7,6.9,6.9]
[null,"N2-60P",10,"N2-60P10",16.899999999999999,21.7,30.5,36.4,44.2,50.6,56.5,73.3,77.7,90.7,107.7,126.8,131.5,143.4,null,"N2-60P10",165.6,164.9,161.69999999999999,178.4,190.1,197.3,197.8,219.9,225.3,244.9,269.3,291.60000000000002,302.5,315.5,null,9.8000000000000007,7.6,5.3,4.9000000000000004,4.3,3.9,3.5,3,2.9,2.7,2.5,2.2999999999999998,2.2999999999999998,2.2000000000000002,null,"N2-60P10",8.6999999999999993,8.6999999999999993,8.6999999999999993,8.6,8.5,8.4,8.3000000000000007,8.3000000000000007,8.1999999999999993,8,7.9,7.7,7.66,7.6]
[null,"N2-60P",11,"N2-60P11",17.899999999999999,23,31.6,37.799999999999997,45.8,52.4,58.5,76.599999999999994,81.2,94.2,111.9,131.80000000000001,136.6,149,null,"N2-60P11",191.5,190.9,186.4,200.3,215.3,225.3,228.2,252.8,259.8,282.60000000000002,302.10000000000002,342.7,341.5,372.5,null,10.7,8.3000000000000007,5.9,5.3,4.7,4.3,3.9,3.3,3.2,3,2.7,2.6,2.5,2.5,null,"N2-60P11",9.6,9.6,9.6,9.5,9.4,9.3000000000000007,9.1999999999999993,9.1,9,8.8000000000000007,8.6,8.4,8.3000000000000007,8.3000000000000007]
[null,"N2-60P",12,"N2-60P12",19,24.4,33,39.4,47.7,54.6,61,79.400000000000006,84.2,97.7,116.1,136.69999999999999,141.80000000000001,154.6,null,"N2-60P12",203.3,202.5,194.7,208.8,224.2,234.8,237.9,262,269.39999999999998,293.10000000000002,313.5,355.4,354.5,386.5,null,10.7,8.3000000000000007,5.9,5.3,4.7,4.3,3.9,3.3,3.2,3,2.7,2.6,2.5,2.5,null,"N2-60P12",10.5,10.5,10.5,10.4,10.3,10.199999999999999,10,9.9,9.8000000000000007,9.5,9.3000000000000007,9,9,8.9]
[null,"N2-60P",13,"N2-60P13",20,25.7,34.1,40.700000000000003,49.3,56.5,63.1,82.7,87.7,100.6,119.5,140.69999999999999,145.9,159.1,null,"N2-60P13",214,213.3,201.2,215.7,231.7,243,246.1,272.89999999999998,280.60000000000002,301.8,322.7,365.8,364.8,397.8,null,10.7,8.3000000000000007,5.9,5.3,4.7,4.3,3.9,3.3,3.2,3,2.7,2.6,2.5,2.5,null,"N2-60P13",11.4,11.4,11.3,11.2,11.2,11,10.9,10.7,10.6,10.3,10,9.6,9.5,9.5]
[null,"N2-65P",5,"N2-65P5",7.8,10.1,16.5,19.8,24,27.4,30.6,42.5,45.1,54.2,64.400000000000006,81.5,84.5,92.2,null,"N2-65P5",76.400000000000006,76.8,87.5,97,103.2,106.9,107.1,127.5,130.80000000000001,146.30000000000001,161,187.5,194.4,202.8,null,9.8000000000000007,7.6,5.3,4.9000000000000004,4.3,3.9,3.5,3,2.9,2.7,2.5,2.2999999999999998,2.2999999999999998,2.2000000000000002,null,"N2-65P5",4.2,4.2,4.2,4.2,4.0999999999999996,4.0999999999999996,4.0999999999999996,4.0999999999999996,4.0999999999999996,4,3.9,3.8,3.7,3.7]
[null,"N2-65P",6,"N2-65P6",10.5,13.5,21.1,25.2,30.6,35,39.1,52.7,55.8,67.2,79.8,97.4,101,110.1,null,"N2-65P6",102.9,102.6,111.8,123.5,131.6,136.5,136.9,158.1,161.80000000000001,181.4,199.5,224,232.3,242.2,null,9.8000000000000007,7.6,5.3,4.9000000000000004,4.3,3.9,3.5,3,2.9,2.7,2.5,2.2999999999999998,2.2999999999999998,2.2000000000000002,null,"N2-65P6",5.0999999999999996,5.0999999999999996,5.0999999999999996,5.0999999999999996,5,5,5,5,4.9000000000000004,4.8,4.8,4.7,4.5999999999999996,4.5999999999999996]
[null,"N2-65P",7,"N2-65P7",13.3,17.100000000000001,25.5,30.4,36.9,42.2,47.1,63.5,67.3,80.900000000000006,96.1,113.2,117.4,128.1,null,"N2-65P7",130.30000000000001,130,135.19999999999999,149,158.69999999999999,164.6,164.9,190.5,195.2,218.4,240.3,260.39999999999998,270,281.8,null,9.8000000000000007,7.6,5.3,4.9000000000000004,4.3,3.9,3.5,3,2.9,2.7,2.5,2.2999999999999998,2.2999999999999998,2.2000000000000002,null,"N2-65P7",6,6,6,6,6,6,5.8,5.8,5.7,5.7,5.6,5.5,5.4,5.4]
[null,"N2-65P",8,"N2-65P8",15.3,19.7,28.5,34,41.3,47.2,52.8,70.400000000000006,74.7,88.2,104.8,123.4,128,139.6,null,"N2-65P8",149.9,149.69999999999999,151.1,166.6,177.6,184.1,184.8,211.2,216.6,238.1,262,283.8,294.39999999999998,307.10000000000002,null,9.8000000000000007,7.6,5.3,4.9000000000000004,4.3,3.9,3.5,3,2.9,2.7,2.5,2.2999999999999998,2.2999999999999998,2.2000000000000002,null,"N2-65P8",6.9,6.9,6.9,6.8,6.8,6.7,6.7,6.6,6.6,6.5,6.4,6.3,6.2,6.2]
[null,"N2-65P",9,"N2-65P9",17.3,22.2,31.6,37.700000000000003,45.7,52.3,58.4,77.400000000000006,82.1,96.3,114.4,134.80000000000001,139.69999999999999,152.4,null,"N2-65P9",169.5,168.7,167.5,184.7,196.5,204,204.4,232.2,238.1,260,286,310,321.3,335.3,null,9.8000000000000007,7.6,5.3,4.9000000000000004,4.3,3.9,3.5,3,2.9,2.7,2.5,2.2999999999999998,2.2999999999999998,2.2000000000000002,null,"N2-65P9",7.8,7.8,7.8,7.7,7.7,7.6,7.5,7.4,7.4,7.2,7.1,7,6.9,6.9]
[null,"N2-65P",10,"N2-65P10",19.3,24.8,34.9,41.6,50.5,57.8,64.599999999999994,83.8,88.8,103.6,123.1,144.9,150.30000000000001,163.9,null,"N2-65P10",189.1,188.5,185,203.8,217.2,225.4,226.1,251.4,257.5,279.7,307.8,333.3,345.7,360.6,null,9.8000000000000007,7.6,5.3,4.9000000000000004,4.3,3.9,3.5,3,2.9,2.7,2.5,2.2999999999999998,2.2999999999999998,2.2000000000000002,null,"N2-65P10",8.6999999999999993,8.6999999999999993,8.6999999999999993,8.6,8.5,8.4,8.3000000000000007,8.3000000000000007,8.1999999999999993,8,7.9,7.7,7.66,7.6]
[null,"N2-65P",11,"N2-65P11",20.5,26.3,36.200000000000003,43.2,52.3,59.9,66.900000000000006,87.6,92.8,107.7,127.9,150.6,156.19999999999999,170.3,null,"N2-65P11",219.4,218.3,213.6,229,245.8,257.60000000000002,260.89999999999998,289.10000000000002,297,323.10000000000002,345.3,391.6,390.5,425.8,null,10.7,8.3000000000000007,5.9,5.3,4.7,4.3,3.9,3.3,3.2,3,2.7,2.6,2.5,2.5,null,"N2-65P11",9.6,9.6,9.6,9.5,9.4,9.3000000000000007,9.1999999999999993,9.1,9,8.8000000000000007,8.6,8.4,8.3000000000000007,8.3000000000000007]
[null,"N2-65P",12,"N2-65P12",21.7,27.9,37.700000000000003,45,54.6,62.4,69.7,90.7,96.2,111.7,132.69999999999999,156.30000000000001,162,176.7,null,"N2-65P12",232.2,231.6,222.4,238.5,256.60000000000002,268.3,271.8,299.3,307.8,335.1,358.3,406.4,405,441.8,null,10.7,8.3000000000000007,5.9,5.3,4.7,4.3,3.9,3.3,3.2,3,2.7,2.6,2.5,2.5,null,"N2-65P12",10.5,10.5,10.5,10.4,10.3,10.199999999999999,10,9.9,9.8000000000000007,9.5,9.3000000000000007,9,9,8.9]
[null,"N2-65P",13,"N2-65P13",22.9,29.4,39,46.5,56.4,64.5,72.099999999999994,94.6,100.2,114.9,136.5,160.80000000000001,166.7,181.8,null,"N2-65P13",245,244,230.1,246.5,265.10000000000002,277.39999999999998,281.2,312.2,320.60000000000002,344.7,368.6,418.1,416.8,454.5,null,10.7,8.3000000000000007,5.9,5.3,4.7,4.3,3.9,3.3,3.2,3,2.7,2.6,2.5,2.5,null,"N2-65P13",11.4,11.4,11.3,11.2,11.2,11,10.9,10.7,10.6,10.3,10,9.6,9.5,9.5]
[null,"N2-75P",5,"N2-75P5",8.5,11,18,21.5,26.1,29.9,33.4,46.3,49.1,59.1,70.2,88.8,92.1,100.5,null,"N2-75P5",85.9,85.8,99,107.5,114.8,119.6,123.6,143.5,147.30000000000001,165.5,175.5,213.1,221,231.2,null,10.1,7.8,5.5,5,4.4000000000000004,4,3.7,3.1,3,2.8,2.5,2.4,2.4,2.2999999999999998,null,"N2-75P5",4.2,4.2,4.2,4.2,4.0999999999999996,4.0999999999999996,4.0999999999999996,4.0999999999999996,4.0999999999999996,4,3.9,3.8,3.7,3.7]
[null,"N2-75P",6,"N2-75P6",11.4,14.7,23,27.5,33.299999999999997,38.1,42.6,57.4,60.8,73.2,86.9,106.1,110,120,null,"N2-75P6",115.1,114.7,126.5,137.5,146.5,152.4,157.6,177.9,182.4,205,217.3,254.6,264,276,null,10.1,7.8,5.5,5,4.4000000000000004,4,3.7,3.1,3,2.8,2.5,2.4,2.4,2.2999999999999998,null,"N2-75P6",5.0999999999999996,5.0999999999999996,5.0999999999999996,5.0999999999999996,5,5,5,5,4.9000000000000004,4.8,4.8,4.7,4.5999999999999996,4.5999999999999996]
[null,"N2-75P",7,"N2-75P7",14.5,18.600000000000001,27.7,33.1,40.200000000000003,46,51.3,69.099999999999994,73.3,88.2,104.7,123.4,127.9,139.5,null,"N2-75P7",146.5,145.1,152.4,165.5,176.9,184,189.8,214.2,219.9,247,261.8,296.2,307,320.89999999999998,null,10.1,7.8,5.5,5,4.4000000000000004,4,3.7,3.1,3,2.8,2.5,2.4,2.4,2.2999999999999998,null,"N2-75P7",6,6,6,6,6,6,5.8,5.8,5.7,5.7,5.6,5.5,5.4,5.4]
[null,"N2-75P",8,"N2-75P8",16.7,21.4,31.1,37.1,45,51.5,57.5,76.7,81.3,96.1,114.2,134.5,139.4,152.1,null,"N2-75P8",168.7,166.9,171.1,185.5,198,206,212.8,237.8,243.9,269.10000000000002,285.5,322.8,334.6,349.8,null,10.1,7.8,5.5,5,4.4000000000000004,4,3.7,3.1,3,2.8,2.5,2.4,2.4,2.2999999999999998,null,"N2-75P8",6.9,6.9,6.9,6.8,6.8,6.7,6.7,6.6,6.6,6.5,6.4,6.3,6.2,6.2]
[null,"N2-75P",9,"N2-75P9",18.8,24.2,34.4,41.1,49.8,57,63.7,84.3,89.4,104.9,124.6,146.80000000000001,152.19999999999999,166,null,"N2-75P9",189.9,188.8,189.2,205.5,219.1,228,235.7,261.3,268.2,293.7,311.5,352.3,365.3,381.8,null,10.1,7.8,5.5,5,4.4000000000000004,4,3.7,3.1,3,2.8,2.5,2.4,2.4,2.2999999999999998,null,"N2-75P9",7.8,7.8,7.8,7.7,7.7,7.6,7.5,7.4,7.4,7.2,7.1,7,6.9,6.9]
[null,"N2-75P",10,"N2-75P10",21,27,38,45.4,55,63,70.3,91.3,96.7,112.9,134.1,157.9,163.69999999999999,178.6,null,"N2-75P10",212.1,210.6,209,227,242,252,260.10000000000002,283,290.10000000000002,316.10000000000002,335.3,379,392.9,410.8,null,10.1,7.8,5.5,5,4.4000000000000004,4,3.7,3.1,3,2.8,2.5,2.4,2.4,2.2999999999999998,null,"N2-75P10",8.6999999999999993,8.6999999999999993,8.6999999999999993,8.6,8.5,8.4,8.3000000000000007,8.3000000000000007,8.1999999999999993,8,7.9,7.7,7.66,7.6]
[null,"N2-75P",11,"N2-75P11",22.3,28.7,39.4,47,57,65.3,72.900000000000006,95.4,101.1,117.3,139.30000000000001,164.1,170.1,185.6,null,"N2-75P11",247.5,246.8,240.3,258.5,279.3,287.3,291.60000000000002,324.39999999999998,333.6,363.6,390,426.7,442.3,464,null,11.1,8.6,6.1,5.5,4.9000000000000004,4.4000000000000004,4,3.4,3.3,3.1,2.8,2.6,2.6,2.5,null,"N2-75P11",9.6,9.6,9.6,9.5,9.4,9.3000000000000007,9.1999999999999993,9.1,9,8.8000000000000007,8.6,8.4,8.3000000000000007,8.3000000000000007]
[null,"N2-75P",12,"N2-75P12",23.6,30.4,41.1,49,59.4,68,76,98.9,104.8,121.7,144.5,170.3,176.5,192.5,null,"N2-75P12",262,261.39999999999998,250.7,269.5,291.10000000000002,299.2,304,336.3,345.8,377.3,404.6,442.8,458.9,481.3,null,11.1,8.6,6.1,5.5,4.9000000000000004,4.4000000000000004,4,3.4,3.3,3.1,2.8,2.6,2.6,2.5,null,"N2-75P12",10.5,10.5,10.5,10.4,10.3,10.199999999999999,10,9.9,9.8000000000000007,9.5,9.3000000000000007,9,9,8.9]
[null,"N2-75P",13,"N2-75P13",24.9,32,42.4,50.7,61.4,70.3,78.5,103,109.2,125.2,148.69999999999999,175.2,181.7,198.1,null,"N2-75P13",276.39999999999998,275.2,258.60000000000002,278.89999999999998,300.89999999999998,309.3,314,350.2,360.4,388.1,416.4,455.5,472.4,495.3,null,11.1,8.6,6.1,5.5,4.9000000000000004,4.4000000000000004,4,3.4,3.3,3.1,2.8,2.6,2.6,2.5,null,"N2-75P13",11.4,11.4,11.3,11.2,11.2,11,10.9,10.7,10.6,10.3,10,9.6,9.5,9.5]
[null,"N2-80P",5,"N2-80P5",9.5,12.2,20,23.9,29,33.200000000000003,37.1,51.5,54.6,65.599999999999994,78,98.7,102.3,111.6,null,"N2-80P5",96,95.2,110,119.5,127.6,132.80000000000001,137.30000000000001,159.69999999999999,163.80000000000001,183.7,195,236.9,245.5,256.7,null,10.1,7.8,5.5,5,4.4000000000000004,4,3.7,3.1,3,2.8,2.5,2.4,2.4,2.2999999999999998,null,"N2-80P5",4.2,4.2,4.2,4.2,4.0999999999999996,4.0999999999999996,4.0999999999999996,4.0999999999999996,4.0999999999999996,4,3.9,3.8,3.7,3.7]
[null,"N2-80P",6,"N2-80P6",12.7,16.399999999999999,25.6,30.5,37,42.4,47.3,63.8,67.599999999999994,81.3,96.6,117.9,122.2,133.30000000000001,null,"N2-80P6",128.30000000000001,127.9,140.80000000000001,152.5,162.80000000000001,169.6,175,197.8,202.8,227.6,241.5,283,293.3,306.60000000000002,null,10.1,7.8,5.5,5,4.4000000000000004,4,3.7,3.1,3,2.8,2.5,2.4,2.4,2.2999999999999998,null,"N2-80P6",5.0999999999999996,5.0999999999999996,5.0999999999999996,5.0999999999999996,5,5,5,5,4.9000000000000004,4.8,4.8,4.7,4.5999999999999996,4.5999999999999996]
[null,"N2-80P",7,"N2-80P7",16.100000000000001,20.7,30.8,36.799999999999997,44.6,51.1,57,76.8,81.400000000000006,98,116.4,137.1,142.1,155,null,"N2-80P7",162.6,161.5,169.4,184,196.2,204.4,210.9,238.1,244.2,274.39999999999998,291,329,341,356.5,null,10.1,7.8,5.5,5,4.4000000000000004,4,3.7,3.1,3,2.8,2.5,2.4,2.4,2.2999999999999998,null,"N2-80P7",6,6,6,6,6,6,5.8,5.8,5.7,5.7,5.6,5.5,5.4,5.4]
[null,"N2-80P",8,"N2-80P8",18.5,23.8,34.5,41.2,50,57.2,63.9,85.3,90.4,106.8,126.9,149.4,154.9,169,null,"N2-80P8",186.9,185.6,189.8,206,220,228.8,236.4,264.39999999999998,271.2,299,317.3,358.6,371.8,388.7,null,10.1,7.8,5.5,5,4.4000000000000004,4,3.7,3.1,3,2.8,2.5,2.4,2.4,2.2999999999999998,null,"N2-80P8",6.9,6.9,6.9,6.8,6.8,6.7,6.7,6.6,6.6,6.5,6.4,6.3,6.2,6.2]
[null,"N2-80P",9,"N2-80P9",20.9,26.9,38.200000000000003,45.6,55.3,63.3,70.7,93.7,99.3,116.6,138.5,163.1,169.1,184.5,null,"N2-80P9",211.1,209.8,210.1,228,243.3,253.2,261.60000000000002,290.5,297.89999999999998,326.5,346.3,391.4,405.8,424.4,null,10.1,7.8,5.5,5,4.4000000000000004,4,3.7,3.1,3,2.8,2.5,2.4,2.4,2.2999999999999998,null,"N2-80P9",7.8,7.8,7.8,7.7,7.7,7.6,7.5,7.4,7.4,7.2,7.1,7,6.9,6.9]
[null,"N2-80P",10,"N2-80P10",23.3,30,42.2,50.4,61.1,70,78.099999999999994,101.4,107.5,125.4,149,175.5,181.9,198.4,null,"N2-80P10",235.3,234,232.1,252,268.8,280,289,314.3,322.5,351.1,372.5,421.2,436.6,456.3,null,10.1,7.8,5.5,5,4.4000000000000004,4,3.7,3.1,3,2.8,2.5,2.4,2.4,2.2999999999999998,null,"N2-80P10",8.6999999999999993,8.6999999999999993,8.6999999999999993,8.6,8.5,8.4,8.3000000000000007,8.3000000000000007,8.1999999999999993,8,7.9,7.7,7.66,7.6]
[null,"N2-80P",11,"N2-80P11",24.8,31.9,43.8,52.3,63.4,72.5,81,106,112.4,130.30000000000001,154.80000000000001,182.3,189,206.2,null,"N2-80P11",275.3,274.3,267.2,287.7,310.7,319,324,360.4,370.9,403.9,433.4,474,491.4,515.5,null,11.1,8.6,6.1,5.5,4.9000000000000004,4.4000000000000004,4,3.4,3.3,3.1,2.8,2.6,2.6,2.5,null,"N2-80P11",9.6,9.6,9.6,9.5,9.4,9.3000000000000007,9.1999999999999993,9.1,9,8.8000000000000007,8.6,8.4,8.3000000000000007,8.3000000000000007]
[null,"N2-80P",12,"N2-80P12",26.2,33.700000000000003,45.6,54.5,66,75.599999999999994,84.4,109.9,116.4,135.19999999999999,160.6,189.2,196.2,213.9,null,"N2-80P12",290.8,289.8,278.2,299.8,323.39999999999998,332.6,337.6,373.7,384.1,419.1,449.7,491.9,510.1,534.79999999999995,null,11.1,8.6,6.1,5.5,4.9000000000000004,4.4000000000000004,4,3.4,3.3,3.1,2.8,2.6,2.6,2.5,null,"N2-80P12",10.5,10.5,10.5,10.4,10.3,10.199999999999999,10,9.9,9.8000000000000007,9.5,9.3000000000000007,9,9,8.9]
[null,"N2-80P",13,"N2-80P13",27.7,35.6,47.2,56.3,68.3,78.099999999999994,87.3,114.5,121.3,139.1,165.3,194.7,201.8,220.1,null,"N2-80P13",307.5,306.2,287.89999999999998,309.7,334.7,343.6,349.2,389.3,400.3,431.2,462.8,506.2,524.70000000000005,550.29999999999995,null,11.1,8.6,6.1,5.5,4.9000000000000004,4.4000000000000004,4,3.4,3.3,3.1,2.8,2.6,2.6,2.5,null,"N2-80P13",11.4,11.4,11.3,11.2,11.2,11,10.9,10.7,10.6,10.3,10,9.6,9.5,9.5]
[null,"N2-20P",5.5,"N2-20P5,5",2.4500000000000002,3.1500000000000004,5,5.9,7.1999999999999993,8.1999999999999993,9.1999999999999993,12.55,13.3,16,19,23.55,24.4,26.65,null,"N2-20P5,5",22.75,22.65,25.5,27.15,29.5,30.3,31.25,36.4,37.25,41.6,43.7,51.8,53.65,55.95,null,9.3000000000000007,7.2,5.0999999999999996,4.5999999999999996,4.0999999999999996,3.7,3.4,2.9,2.8,2.6,2.2999999999999998,2.2000000000000002,2.2000000000000002,2.1,null,"N2-20P5,5",4.6500000000000004,4.6500000000000004,4.6500000000000004,4.6500000000000004,4.55,4.55,4.55,4.55,4.5,4.4000000000000004,4.3499999999999996,4.25,4.1500000000000004,4.1500000000000004]
[null,"N2-20P",6.5,"N2-20P6,5",3.15,4.05,6.15,7.3,8.8999999999999986,10.149999999999999,11.350000000000001,15.3,16.2,19.5,23.15,27.700000000000003,28.75,31.35,null,"N2-20P6,5",29.3,29.15,31.400000000000002,33.599999999999994,36.5,37.549999999999997,38.6,44.349999999999994,45.400000000000006,50.7,53.25,60.949999999999996,63.25,65.849999999999994,null,9.3000000000000007,7.2,5.0999999999999996,4.5999999999999996,4.0999999999999996,3.7,3.4,2.9,2.8,2.6,2.2999999999999998,2.2000000000000002,2.2000000000000002,2.1,null,"N2-20P6,5",5.55,5.55,5.55,5.55,5.5,5.5,5.4,5.4,5.3000000000000007,5.25,5.1999999999999993,5.0999999999999996,5,5]
[null,"N2-20P",7.5,"N2-20P7,5",3.75,4.8499999999999996,7.1,8.5,10.3,11.75,13.15,17.600000000000001,18.649999999999999,22.25,26.450000000000003,31.15,32.299999999999997,35.200000000000003,null,"N2-20P7,5",34.900000000000006,34.9,36.25,39.099999999999994,42.25,43.5,44.75,51.05,52.25,57.849999999999994,60.85,68.55,71.05,73.949999999999989,null,9.3000000000000007,7.2,5.0999999999999996,4.5999999999999996,4.0999999999999996,3.7,3.4,2.9,2.8,2.6,2.2999999999999998,2.2000000000000002,2.2000000000000002,2.1,null,"N2-20P7,5",6.45,6.45,6.45,6.4,6.4,6.35,6.25,6.1999999999999993,6.15,6.1,6,5.9,5.8000000000000007,5.8000000000000007]
[null,"N2-20P",8.5,"N2-20P8,5",4.3,5.5500000000000007,7.9,9.4499999999999993,11.45,13.100000000000001,14.65,19.45,20.6,24.25,28.85,34,35.25,38.400000000000006,null,"N2-20P8,5",40,39.950000000000003,40.299999999999997,43.45,46.95,48.5,49.849999999999994,56.45,57.7,63.05,66.349999999999994,74.8,77.55,80.650000000000006,null,9.3000000000000007,7.2,5.0999999999999996,4.5999999999999996,4.0999999999999996,3.7,3.4,2.9,2.8,2.6,2.2999999999999998,2.2000000000000002,2.2000000000000002,2.1,null,"N2-20P8,5",7.35,7.35,7.35,7.25,7.25,7.15,7.1,7,7,6.85,6.75,6.65,6.5500000000000007,6.5500000000000007]
[null,"N2-20P",9.5,"N2-20P9,5",4.8499999999999996,6.2,8.75,10.45,12.65,14.5,16.2,21.2,22.5,26.3,31.25,36.799999999999997,38.200000000000003,41.6,null,"N2-20P9,5",45.099999999999994,44.65,44.599999999999994,48.05,51.85,53.650000000000006,55.099999999999994,61.5,63,68.400000000000006,71.849999999999994,80.949999999999989,84.05,87.35,null,9.3000000000000007,7.2,5.0999999999999996,4.5999999999999996,4.0999999999999996,3.7,3.4,2.9,2.8,2.6,2.2999999999999998,2.2000000000000002,2.2000000000000002,2.1,null,"N2-20P9,5",8.25,8.25,8.25,8.15,8.1,8,7.9,7.8500000000000005,7.8,7.6,7.5,7.35,7.28,7.25]
[null,"N2-20P",10.5,"N2-20P10,5",5.25,6.7,9.35,11.2,13.55,15.5,17.3,22.5,23.9,27.8,33,38.85,40.35,43.95,null,"N2-20P10,5",51.25,50.65,50.05,54.35,58.3,60.5,61.449999999999996,68.699999999999989,70.55,75.099999999999994,80.95,89.4,92.85,96.75,null,9.75,7.5500000000000007,5.35,4.8499999999999996,4.3,3.9,3.55,3.05,2.95,2.7,2.4500000000000002,2.2999999999999998,2.2999999999999998,2.2000000000000002,null,"N2-20P10,5",9.1499999999999986,9.1499999999999986,9.1499999999999986,9.0500000000000007,8.9499999999999993,8.8500000000000014,8.75,8.6999999999999993,8.6,8.4,8.25,8.0500000000000007,7.98,7.95]
[null,"N2-20P",11.5,"N2-20P11,5",5.5500000000000007,7.1,9.6999999999999993,11.600000000000001,14.100000000000001,16.100000000000001,18,23.45,24.85,28.85,34.25,40.35,41.85,45.65,null,"N2-20P11,5",56.6,56.1,54.3,59.150000000000006,63.45,66,66.599999999999994,75.05,77,80.75,89.050000000000011,96.8,100.4,105,null,10.199999999999999,7.9,5.6,5.0999999999999996,4.5,4.0999999999999996,3.7,3.2,3.1,2.8,2.6,2.4,2.4,2.2999999999999998,null,"N2-20P11,5",10.050000000000001,10.050000000000001,10.050000000000001,9.9499999999999993,9.8500000000000014,9.75,9.6,9.5,9.4,9.15,8.9499999999999993,8.6999999999999993,8.65,8.6000000000000014]
[null,"N2-20P",12.5,"N2-20P12,5",5.85,7.5,10.100000000000001,12,14.600000000000001,16.7,18.7,24.4,25.85,29.799999999999997,35.4,41.7,43.25,47.2,null,"N2-20P12,5",59.650000000000006,59.25,56.55,61.2,65.699999999999989,68.45,69.199999999999989,78.099999999999994,80.099999999999994,83.449999999999989,92,100.05,103.80000000000001,108.6,null,10.199999999999999,7.9,5.6,5.0999999999999996,4.5,4.0999999999999996,3.7,3.2,3.1,2.8,2.6,2.4,2.4,2.2999999999999998,null,"N2-20P12,5",10.95,10.95,10.9,10.8,10.75,10.6,10.45,10.3,10.199999999999999,9.9,9.65,9.3000000000000007,9.25,9.1999999999999993]
[null,"N2-25P",5.5,"N2-25P5,5",3.5999999999999996,4.6500000000000004,7.4,8.9,10.8,12.3,13.75,18.8,19.899999999999999,23.95,28.45,35.299999999999997,36.65,39.950000000000003,null,"N2-25P5,5",33.450000000000003,33.5,37.75,40.950000000000003,44.3,45.55,46.75,54.5,55.7,62.25,65.45,77.650000000000006,80.650000000000006,83.9,null,9.3000000000000007,7.2,5.0999999999999996,4.5999999999999996,4.0999999999999996,3.7,3.4,2.9,2.8,2.6,2.2999999999999998,2.2000000000000002,2.2000000000000002,2.1,null,"N2-25P5,5",4.6500000000000004,4.6500000000000004,4.6500000000000004,4.6500000000000004,4.55,4.55,4.55,4.55,4.5,4.4000000000000004,4.3499999999999996,4.25,4.1500000000000004,4.1500000000000004]
[null,"N2-25P",6.5,"N2-25P6,5",4.6999999999999993,6.05,9.1999999999999993,11,13.35,15.25,17,22.950000000000003,24.3,29.25,34.75,41.55,43.15,47.05,null,"N2-25P6,5",43.7,43.6,46.9,50.6,54.75,56.45,57.8,66.55,68.05,76.050000000000011,79.95,91.4,94.949999999999989,98.85,null,9.3000000000000007,7.2,5.0999999999999996,4.5999999999999996,4.0999999999999996,3.7,3.4,2.9,2.8,2.6,2.2999999999999998,2.2000000000000002,2.2000000000000002,2.1,null,"N2-25P6,5",5.55,5.55,5.55,5.55,5.5,5.5,5.4,5.4,5.3000000000000007,5.25,5.1999999999999993,5.0999999999999996,5,5]
[null,"N2-25P",7.5,"N2-25P7,5",5.65,7.3,10.7,12.7,15.45,17.649999999999999,19.700000000000003,26.450000000000003,28.05,33.4,39.700000000000003,46.7,48.45,52.85,null,"N2-25P7,5",52.55,52.6,54.55,58.400000000000006,63.349999999999994,65.3,66.95,76.699999999999989,78.55,86.85,91.300000000000011,102.69999999999999,106.6,111,null,9.3000000000000007,7.2,5.0999999999999996,4.5999999999999996,4.0999999999999996,3.7,3.4,2.9,2.8,2.6,2.2999999999999998,2.2000000000000002,2.2000000000000002,2.1,null,"N2-25P7,5",6.45,6.45,6.45,6.4,6.4,6.35,6.25,6.1999999999999993,6.15,6.1,6,5.9,5.8000000000000007,5.8000000000000007]
[null,"N2-25P",8.5,"N2-25P8,5",6.4,8.3000000000000007,11.9,14.15,17.149999999999999,19.600000000000001,21.950000000000003,29.200000000000003,30.95,36.4,43.3,50.95,52.85,57.650000000000006,null,"N2-25P8,5",59.5,59.8,60.7,65.05,70.3,72.5,74.599999999999994,84.65,86.65,94.65,99.6,112.05,116.25,121.05000000000001,null,9.3000000000000007,7.2,5.0999999999999996,4.5999999999999996,4.0999999999999996,3.7,3.4,2.9,2.8,2.6,2.2999999999999998,2.2000000000000002,2.2000000000000002,2.1,null,"N2-25P8,5",7.35,7.35,7.35,7.25,7.25,7.15,7.1,7,7,6.85,6.75,6.65,6.5500000000000007,6.5500000000000007]
[null,"N2-25P",9.5,"N2-25P9,5",7.1999999999999993,9.3000000000000007,13.15,15.649999999999999,18.95,21.700000000000003,24.3,31.85,33.700000000000003,39.450000000000003,46.900000000000006,55.2,57.25,62.45,null,"N2-25P9,5",66.95,67,67.099999999999994,71.95,77.699999999999989,80.300000000000011,82.6,92.35,94.35,102.55,107.9,121.4,125.95,131.15,null,9.3000000000000007,7.2,5.0999999999999996,4.5999999999999996,4.0999999999999996,3.7,3.4,2.9,2.8,2.6,2.2999999999999998,2.2000000000000002,2.2000000000000002,2.1,null,"N2-25P9,5",8.25,8.25,8.25,8.15,8.1,8,7.9,7.8500000000000005,7.8,7.6,7.5,7.35,7.28,7.25]
[null,"N2-25P",10.5,"N2-25P10,5",7.85,10.100000000000001,14.05,16.7,20.299999999999997,23.200000000000003,25.95,33.85,35.799999999999997,41.7,49.55,58.35,60.45,65.95,null,"N2-25P10,5",76.650000000000006,76.400000000000006,75.25,81.050000000000011,87.4,90.6,92.2,103.35,105.75,112.65,121.55000000000001,134.30000000000001,139.15,145.25,null,9.75,7.5500000000000007,5.35,4.8499999999999996,4.3,3.9,3.55,3.05,2.95,2.7,2.4500000000000002,2.2999999999999998,2.2999999999999998,2.2000000000000002,null,"N2-25P10,5",9.1499999999999986,9.1499999999999986,9.1499999999999986,9.0500000000000007,8.9499999999999993,8.8500000000000014,8.75,8.6999999999999993,8.6,8.4,8.25,8.0500000000000007,7.98,7.95]
[null,"N2-25P",11.5,"N2-25P11,5",8.35,10.7,14.600000000000001,17.399999999999999,21.1,24.1,26.95,35.200000000000003,37.299999999999997,43.3,51.45,60.6,62.8,68.5,null,"N2-25P11,5",85.15,84.550000000000011,81.75,88.75,95,98.85,99.75,112.65,115.65,121.25,133.75,145.44999999999999,150.69999999999999,157.55000000000001,null,10.199999999999999,7.9,5.6,5.0999999999999996,4.5,4.0999999999999996,3.7,3.2,3.1,2.8,2.6,2.4,2.4,2.2999999999999998,null,"N2-25P11,5",10.050000000000001,10.050000000000001,10.050000000000001,9.9499999999999993,9.8500000000000014,9.75,9.6,9.5,9.4,9.15,8.9499999999999993,8.6999999999999993,8.65,8.6000000000000014]
[null,"N2-25P",12.5,"N2-25P12,5",8.8000000000000007,11.3,15.15,18.100000000000001,21.9,25.05,28,36.549999999999997,38.799999999999997,44.75,53.15,62.6,64.900000000000006,70.8,null,"N2-25P12,5",89.75,89.25,84.800000000000011,92.3,98.6,102.75,103.65,117,120.3,125.3,138.14999999999998,150.25,155.75,162.80000000000001,null,10.199999999999999,7.9,5.6,5.0999999999999996,4.5,4.0999999999999996,3.7,3.2,3.1,2.8,2.6,2.4,2.4,2.2999999999999998,null,"N2-25P12,5",10.95,10.95,10.9,10.8,10.75,10.6,10.45,10.3,10.199999999999999,9.9,9.65,9.3000000000000007,9.25,9.1999999999999993]
[null,"N2-35P",5.5,"N2-35P5,5",4.8,6.1999999999999993,9.8999999999999986,11.850000000000001,14.350000000000001,16.399999999999999,18.350000000000001,25.049999999999997,26.549999999999997,31.95,37.950000000000003,47.099999999999994,48.8,53.25,null,"N2-35P5,5",44.650000000000006,44.650000000000006,50.5,54.5,58.85,60.699999999999996,62.35,72.650000000000006,74.349999999999994,83.05,87.3,103.65,107.35,111.85,null,9.3000000000000007,7.2,5.0999999999999996,4.5999999999999996,4.0999999999999996,3.7,3.4,2.9,2.8,2.6,2.2999999999999998,2.2000000000000002,2.2000000000000002,2.1,null,"N2-35P5,5",4.6500000000000004,4.6500000000000004,4.6500000000000004,4.6500000000000004,4.55,4.55,4.55,4.55,4.5,4.4000000000000004,4.3499999999999996,4.25,4.1500000000000004,4.1500000000000004]
[null,"N2-35P",6.5,"N2-35P6,5",6.25,8.0500000000000007,12.25,14.65,17.75,20.299999999999997,22.700000000000003,30.549999999999997,32.4,39,46.3,55.45,57.45,62.7,null,"N2-35P6,5",58.15,57.95,62.45,67.400000000000006,72.75,75.099999999999994,77.150000000000006,88.6,90.699999999999989,101.4,106.5,122,126.4,131.65,null,9.3000000000000007,7.2,5.0999999999999996,4.5999999999999996,4.0999999999999996,3.7,3.4,2.9,2.8,2.6,2.2999999999999998,2.2000000000000002,2.2000000000000002,2.1,null,"N2-35P6,5",5.55,5.55,5.55,5.55,5.5,5.5,5.4,5.4,5.3000000000000007,5.25,5.1999999999999993,5.0999999999999996,5,5]
[null,"N2-35P",7.5,"N2-35P7,5",7.55,9.6999999999999993,14.2,16.95,20.549999999999997,23.549999999999997,26.3,35.25,37.349999999999994,44.5,52.900000000000006,62.3,64.599999999999994,70.45,null,"N2-35P7,5",70.199999999999989,69.849999999999994,72.400000000000006,77.949999999999989,84.25,87.1,89.4,102.25,104.55,115.69999999999999,121.7,137.05000000000001,142.15,147.94999999999999,null,9.3000000000000007,7.2,5.0999999999999996,4.5999999999999996,4.0999999999999996,3.7,3.4,2.9,2.8,2.6,2.2999999999999998,2.2000000000000002,2.2000000000000002,2.1,null,"N2-35P7,5",6.45,6.45,6.45,6.4,6.4,6.35,6.25,6.1999999999999993,6.15,6.1,6,5.9,5.8000000000000007,5.8000000000000007]
[null,"N2-35P",8.5,"N2-35P8,5",8.6,11.05,15.8,18.850000000000001,22.9,26.2,29.3,38.900000000000006,41.25,48.55,57.7,67.95,70.45,76.849999999999994,null,"N2-35P8,5",79.949999999999989,79.550000000000011,80.599999999999994,86.699999999999989,93.9,96.949999999999989,99.6,112.8,115.5,126.2,132.75,149.5,155,161.4,null,9.3000000000000007,7.2,5.0999999999999996,4.5999999999999996,4.0999999999999996,3.7,3.4,2.9,2.8,2.6,2.2999999999999998,2.2000000000000002,2.2000000000000002,2.1,null,"N2-35P8,5",7.35,7.35,7.35,7.25,7.25,7.15,7.1,7,7,6.85,6.75,6.65,6.5500000000000007,6.5500000000000007]
[null,"N2-35P",9.5,"N2-35P9,5",9.6499999999999986,12.399999999999999,17.5,20.85,25.35,28.95,32.4,42.400000000000006,44.95,52.6,62.5,73.599999999999994,76.3,83.25,null,"N2-35P9,5",89.75,89.25,89.25,95.9,103.94999999999999,107.15,110.15,122.95,125.9,136.75,143.75,161.94999999999999,167.85,174.8,null,9.3000000000000007,7.2,5.0999999999999996,4.5999999999999996,4.0999999999999996,3.7,3.4,2.9,2.8,2.6,2.2999999999999998,2.2000000000000002,2.2000000000000002,2.1,null,"N2-35P9,5",8.25,8.25,8.25,8.15,8.1,8,7.9,7.8500000000000005,7.8,7.6,7.5,7.35,7.28,7.25]
[null,"N2-35P",10.5,"N2-35P10,5",10.5,13.5,18.7,22.299999999999997,27.05,30.95,34.6,45.1,47.8,55.6,66.05,77.8,80.650000000000006,87.949999999999989,null,"N2-35P10,5",102.55000000000001,102.05,100.1,108.25,116.44999999999999,120.85,122.89999999999999,137.69999999999999,141.19999999999999,150.25,162,179.10000000000002,185.65,193.64999999999998,null,9.75,7.5500000000000007,5.35,4.8499999999999996,4.3,3.9,3.55,3.05,2.95,2.7,2.4500000000000002,2.2999999999999998,2.2999999999999998,2.2000000000000002,null,"N2-35P10,5",9.1499999999999986,9.1499999999999986,9.1499999999999986,9.0500000000000007,8.9499999999999993,8.8500000000000014,8.75,8.6999999999999993,8.6,8.4,8.25,8.0500000000000007,7.98,7.95]
[null,"N2-35P",11.5,"N2-35P11,5",11.100000000000001,14.3,19.399999999999999,23.2,28.1,32.200000000000003,35.950000000000003,46.95,49.75,57.75,68.55,80.75,83.75,91.3,null,"N2-35P11,5",113.25,112.94999999999999,108.65,118.35,126.5,132.05000000000001,133,150.25,154.25,161.69999999999999,178.25,193.8,201,210,null,10.199999999999999,7.9,5.6,5.0999999999999996,4.5,4.0999999999999996,3.7,3.2,3.1,2.8,2.6,2.4,2.4,2.2999999999999998,null,"N2-35P11,5",10.050000000000001,10.050000000000001,10.050000000000001,9.9499999999999993,9.8500000000000014,9.75,9.6,9.5,9.4,9.15,8.9499999999999993,8.6999999999999993,8.65,8.6000000000000014]
[null,"N2-35P",12.5,"N2-35P12,5",11.7,15.1,20.149999999999999,24.1,29.2,33.450000000000003,37.299999999999997,48.8,51.650000000000006,59.65,70.849999999999994,83.4,86.55,94.35,null,"N2-35P12,5",119.35,119.3,112.85,122.95,131.44999999999999,137.15,138,156.19999999999999,160.15,167,184.2,200.15,207.7,217,null,10.199999999999999,7.9,5.6,5.0999999999999996,4.5,4.0999999999999996,3.7,3.2,3.1,2.8,2.6,2.4,2.4,2.2999999999999998,null,"N2-35P12,5",10.95,10.95,10.9,10.8,10.75,10.6,10.45,10.3,10.199999999999999,9.9,9.65,9.3000000000000007,9.25,9.1999999999999993]
[null,"N2-45P",5.5,"N2-45P5,5",6.0500000000000007,7.75,12.4,14.8,17.950000000000003,20.5,22.95,31.35,33.150000000000006,39.950000000000003,47.45,58.849999999999994,61,66.599999999999994,null,"N2-45P5,5",56.3,55.8,63.25,68.099999999999994,73.599999999999994,75.849999999999994,78.050000000000011,90.9,92.85,103.85,109.15,129.44999999999999,134.19999999999999,139.9,null,9.3000000000000007,7.2,5.0999999999999996,4.5999999999999996,4.0999999999999996,3.7,3.4,2.9,2.8,2.6,2.2999999999999998,2.2000000000000002,2.2000000000000002,2.1,null,"N2-45P5,5",4.6500000000000004,4.6500000000000004,4.6500000000000004,4.6500000000000004,4.55,4.55,4.55,4.55,4.5,4.4000000000000004,4.3499999999999996,4.25,4.1500000000000004,4.1500000000000004]
[null,"N2-45P",6.5,"N2-45P6,5",7.8500000000000005,10.100000000000001,15.350000000000001,18.3,22.200000000000003,25.4,28.35,38.25,40.5,48.75,57.9,69.3,71.849999999999994,78.400000000000006,null,"N2-45P6,5",73,72.75,78.300000000000011,84.2,91,94,96.4,110.9,113.4,126.75,133.19999999999999,152.44999999999999,158.1,164.65,null,9.3000000000000007,7.2,5.0999999999999996,4.5999999999999996,4.0999999999999996,3.7,3.4,2.9,2.8,2.6,2.2999999999999998,2.2000000000000002,2.2000000000000002,2.1,null,"N2-45P6,5",5.55,5.55,5.55,5.55,5.5,5.5,5.4,5.4,5.3000000000000007,5.25,5.1999999999999993,5.0999999999999996,5,5]
[null,"N2-45P",7.5,"N2-45P7,5",9.4499999999999993,12.100000000000001,17.8,21.2,25.75,29.450000000000003,32.85,44.05,46.7,55.65,66.099999999999994,77.849999999999994,80.75,88.05,null,"N2-45P7,5",87.85,87.15,90.800000000000011,97.5,105.55,109,111.7,127.75,130.75,144.69999999999999,152.05000000000001,171.25,177.64999999999998,184.9,null,9.3000000000000007,7.2,5.0999999999999996,4.5999999999999996,4.0999999999999996,3.7,3.4,2.9,2.8,2.6,2.2999999999999998,2.2000000000000002,2.2000000000000002,2.1,null,"N2-45P7,5",6.45,6.45,6.45,6.4,6.4,6.35,6.25,6.1999999999999993,6.15,6.1,6,5.9,5.8000000000000007,5.8000000000000007]
[null,"N2-45P",8.5,"N2-45P8,5",10.75,13.75,19.8,23.6,28.65,32.75,36.549999999999997,48.599999999999994,51.55,60.7,72.099999999999994,84.95,88.050000000000011,96.05,null,"N2-45P8,5",99.95,99,101,108.55,117.45,121.19999999999999,124.3,140.94999999999999,144.35,157.80000000000001,165.85,186.85,193.7,201.7,null,9.3000000000000007,7.2,5.0999999999999996,4.5999999999999996,4.0999999999999996,3.7,3.4,2.9,2.8,2.6,2.2999999999999998,2.2000000000000002,2.2000000000000002,2.1,null,"N2-45P8,5",7.35,7.35,7.35,7.25,7.25,7.15,7.1,7,7,6.85,6.75,6.65,6.5500000000000007,6.5500000000000007]
[null,"N2-45P",9.5,"N2-45P9,5",12.05,15.45,21.85,26.1,31.650000000000002,36.200000000000003,40.450000000000003,53,56.2,65.8,78.150000000000006,92.050000000000011,95.4,104.05,null,"N2-45P9,5",112.05,111.25,111.44999999999999,120.05,129.75,133.94999999999999,137.55000000000001,153.69999999999999,157.35,171.05,179.75,202.5,209.89999999999998,218.5,null,9.3000000000000007,7.2,5.0999999999999996,4.5999999999999996,4.0999999999999996,3.7,3.4,2.9,2.8,2.6,2.2999999999999998,2.2000000000000002,2.2000000000000002,2.1,null,"N2-45P9,5",8.25,8.25,8.25,8.15,8.1,8,7.9,7.8500000000000005,7.8,7.6,7.5,7.35,7.28,7.25]
[null,"N2-45P",10.5,"N2-45P10,5",13.1,16.8,23.35,27.9,33.799999999999997,38.700000000000003,43.25,56.35,59.75,69.5,82.55,97.25,100.80000000000001,109.94999999999999,null,"N2-45P10,5",127.89999999999999,127.05,125.05000000000001,135.4,145.44999999999999,151.05000000000001,153.65,172.05,176.45,187.75,202.5,223.85000000000002,232.05,242.10000000000002,null,9.75,7.5500000000000007,5.35,4.8499999999999996,4.3,3.9,3.55,3.05,2.95,2.7,2.4500000000000002,2.2999999999999998,2.2999999999999998,2.2000000000000002,null,"N2-45P10,5",9.1499999999999986,9.1499999999999986,9.1499999999999986,9.0500000000000007,8.9499999999999993,8.8500000000000014,8.75,8.6999999999999993,8.6,8.4,8.25,8.0500000000000007,7.98,7.95]
[null,"N2-45P",11.5,"N2-45P11,5",13.9,17.8,24.3,29,35.15,40.25,44.95,58.650000000000006,62.2,72.150000000000006,85.699999999999989,100.94999999999999,104.65,114.19999999999999,null,"N2-45P11,5",141.80000000000001,140.64999999999998,136.10000000000002,147.9,158.19999999999999,165,166.3,187.65,192.8,202,222.85,242.25,251.15,262.64999999999998,null,10.199999999999999,7.9,5.6,5.0999999999999996,4.5,4.0999999999999996,3.7,3.2,3.1,2.8,2.6,2.4,2.4,2.2999999999999998,null,"N2-45P11,5",10.050000000000001,10.050000000000001,10.050000000000001,9.9499999999999993,9.8500000000000014,9.75,9.6,9.5,9.4,9.15,8.9499999999999993,8.6999999999999993,8.65,8.6000000000000014]
[null,"N2-45P",12.5,"N2-45P12,5",14.7,18.850000000000001,25.200000000000003,30.1,36.5,41.8,46.65,60.95,64.599999999999994,74.55,88.55,104.3,108.15,117.94999999999999,null,"N2-45P12,5",149.94999999999999,148.94999999999999,141.15,153.55000000000001,164.3,171.4,172.60000000000002,195,200.25,208.75,230.25,250.3,259.55,271.3,null,10.199999999999999,7.9,5.6,5.0999999999999996,4.5,4.0999999999999996,3.7,3.2,3.1,2.8,2.6,2.4,2.4,2.2999999999999998,null,"N2-45P12,5",10.95,10.95,10.9,10.8,10.75,10.6,10.45,10.3,10.199999999999999,9.9,9.65,9.3000000000000007,9.25,9.1999999999999993]
[null,"N2-55P",5.5,"N2-55P5,5",7.25,9.35,14.899999999999999,17.75,21.549999999999997,24.6,27.549999999999997,37.6,39.85,47.9,56.95,70.650000000000006,73.2,79.849999999999994,null,"N2-55P5,5",67.45,67.3,76,81.650000000000006,88.35,91,93.699999999999989,109,111.6,124.55000000000001,131,155.44999999999999,161,167.7,null,9.3000000000000007,7.2,5.0999999999999996,4.5999999999999996,4.0999999999999996,3.7,3.4,2.9,2.8,2.6,2.2999999999999998,2.2000000000000002,2.2000000000000002,2.1,null,"N2-55P5,5",4.6500000000000004,4.6500000000000004,4.6500000000000004,4.6500000000000004,4.55,4.55,4.55,4.55,4.5,4.4000000000000004,4.3499999999999996,4.25,4.1500000000000004,4.1500000000000004]
[null,"N2-55P",6.5,"N2-55P6,5",9.4,12.1,18.399999999999999,21.95,26.65,30.45,34.049999999999997,45.85,48.6,58.45,69.45,83.15,86.2,94,null,"N2-55P6,5",87.45,87.1,93.85,100.95,109.25,112.65,115.8,132.94999999999999,136.1,151.94999999999999,159.75,182.95,189.60000000000002,197.4,null,9.3000000000000007,7.2,5.0999999999999996,4.5999999999999996,4.0999999999999996,3.7,3.4,2.9,2.8,2.6,2.2999999999999998,2.2000000000000002,2.2000000000000002,2.1,null,"N2-55P6,5",5.55,5.55,5.55,5.55,5.5,5.5,5.4,5.4,5.3000000000000007,5.25,5.1999999999999993,5.0999999999999996,5,5]
[null,"N2-55P",7.5,"N2-55P7,5",11.3,14.5,21.3,25.45,30.85,35.299999999999997,39.450000000000003,52.85,56,66.8,79.300000000000011,93.4,96.85,105.65,null,"N2-55P7,5",105.1,104.4,108.65,117.05000000000001,126.5,130.6,134.15,153.25,156.80000000000001,173.64999999999998,182.39999999999998,205.5,213.05,221.85000000000002,null,9.3000000000000007,7.2,5.0999999999999996,4.5999999999999996,4.0999999999999996,3.7,3.4,2.9,2.8,2.6,2.2999999999999998,2.2000000000000002,2.2000000000000002,2.1,null,"N2-55P7,5",6.45,6.45,6.45,6.4,6.4,6.35,6.25,6.1999999999999993,6.15,6.1,6,5.9,5.8000000000000007,5.8000000000000007]
[null,"N2-55P",8.5,"N2-55P8,5",12.899999999999999,16.55,23.7,28.35,34.35,39.299999999999997,43.900000000000006,58.35,61.849999999999994,72.849999999999994,86.5,101.9,105.65,115.25,null,"N2-55P8,5",119.95,119.15,120.9,130.4,140.85,145.4,149.25,169.2,173.15,189.39999999999998,198.95,224.2,232.45,242,null,9.3000000000000007,7.2,5.0999999999999996,4.5999999999999996,4.0999999999999996,3.7,3.4,2.9,2.8,2.6,2.2999999999999998,2.2000000000000002,2.2000000000000002,2.1,null,"N2-55P8,5",7.35,7.35,7.35,7.25,7.25,7.15,7.1,7,7,6.85,6.75,6.65,6.5500000000000007,6.5500000000000007]
[null,"N2-55P",9.5,"N2-55P9,5",14.45,18.600000000000001,26.2,31.35,38,43.45,48.55,63.599999999999994,67.449999999999989,78.900000000000006,93.75,110.4,114.5,124.85,null,"N2-55P9,5",134.4,133.9,133.65,144.19999999999999,155.80000000000001,160.75,165.05,184.45,188.85000000000002,205.14999999999998,215.64999999999998,242.89999999999998,251.9,262.14999999999998,null,9.3000000000000007,7.2,5.0999999999999996,4.5999999999999996,4.0999999999999996,3.7,3.4,2.9,2.8,2.6,2.2999999999999998,2.2000000000000002,2.2000000000000002,2.1,null,"N2-55P9,5",8.25,8.25,8.25,8.15,8.1,8,7.9,7.8500000000000005,7.8,7.6,7.5,7.35,7.28,7.25]
[null,"N2-55P",10.5,"N2-55P10,5",15.7,20.200000000000003,28,33.5,40.599999999999994,46.45,51.9,67.599999999999994,71.699999999999989,83.4,99.050000000000011,116.65,121,131.94999999999999,null,"N2-55P10,5",153.30000000000001,152.69999999999999,149.94999999999999,162.60000000000002,174.75,181.3,184.4,206.39999999999998,211.75,225.35,242.95,268.54999999999995,278.5,290.54999999999995,null,9.75,7.5500000000000007,5.35,4.8499999999999996,4.3,3.9,3.55,3.05,2.95,2.7,2.4500000000000002,2.2999999999999998,2.2999999999999998,2.2000000000000002,null,"N2-55P10,5",9.1499999999999986,9.1499999999999986,9.1499999999999986,9.0500000000000007,8.9499999999999993,8.8500000000000014,8.75,8.6999999999999993,8.6,8.4,8.25,8.0500000000000007,7.98,7.95]
[null,"N2-55P",11.5,"N2-55P11,5",16.649999999999999,21.4,29.1,34.799999999999997,42.2,48.3,53.95,70.349999999999994,74.599999999999994,86.6,102.80000000000001,121.15,125.6,137,null,"N2-55P11,5",169.8,169.05,162.94999999999999,177.5,189.95,198,199.65,225.1,231.25,242.5,267.25,290.79999999999995,301.45,315.14999999999998,null,10.199999999999999,7.9,5.6,5.0999999999999996,4.5,4.0999999999999996,3.7,3.2,3.1,2.8,2.6,2.4,2.4,2.2999999999999998,null,"N2-55P11,5",10.050000000000001,10.050000000000001,10.050000000000001,9.9499999999999993,9.8500000000000014,9.75,9.6,9.5,9.4,9.15,8.9499999999999993,8.6999999999999993,8.65,8.6000000000000014]
[null,"N2-55P",12.5,"N2-55P12,5",17.600000000000001,22.6,30.25,36.1,43.8,50.099999999999994,56,73.099999999999994,77.5,89.45,106.25,125.15,129.75,141.55000000000001,null,"N2-55P12,5",179.5,178.55,169.4,184.14999999999998,197.15,205.39999999999998,207.2,233.89999999999998,240.25,250.5,276.25,300.39999999999998,311.39999999999998,325.60000000000002,null,10.199999999999999,7.9,5.6,5.0999999999999996,4.5,4.0999999999999996,3.7,3.2,3.1,2.8,2.6,2.4,2.4,2.2999999999999998,null,"N2-55P12,5",10.95,10.95,10.9,10.8,10.75,10.6,10.45,10.3,10.199999999999999,9.9,9.65,9.3000000000000007,9.25,9.1999999999999993]
[null,"N2-60P",5.5,"N2-60P5,5",8.0500000000000007,10.3,16.5,19.700000000000003,23.9,27.3,30.5,41.650000000000006,44.099999999999994,53.15,63.099999999999994,78.25,81.2,88.550000000000011,null,"N2-60P5,5",78.900000000000006,78.300000000000011,87.5,96.55,102.75,106.44999999999999,106.75,124.95,127.9,143.55000000000001,157.75,180,186.75,194.8,null,9.8000000000000007,7.6,5.3,4.9000000000000004,4.3,3.9,3.5,3,2.9,2.7,2.5,2.2999999999999998,2.2999999999999998,2.2000000000000002,null,"N2-60P5,5",4.6500000000000004,4.6500000000000004,4.6500000000000004,4.6500000000000004,4.55,4.55,4.55,4.55,4.5,4.4000000000000004,4.3499999999999996,4.25,4.1500000000000004,4.1500000000000004]
[null,"N2-60P",6.5,"N2-60P6,5",10.399999999999999,13.4,20.399999999999999,24.35,29.549999999999997,33.75,37.700000000000003,50.8,53.849999999999994,64.8,76.949999999999989,92.15,95.550000000000011,104.25,null,"N2-60P6,5",101.95,101.85,108.15,119.30000000000001,127.05000000000001,131.6,131.94999999999999,152.4,156.15,175,192.4,211.95,219.75,229.35,null,9.8000000000000007,7.6,5.3,4.9000000000000004,4.3,3.9,3.5,3,2.9,2.7,2.5,2.2999999999999998,2.2999999999999998,2.2000000000000002,null,"N2-60P6,5",5.55,5.55,5.55,5.55,5.5,5.5,5.4,5.4,5.3000000000000007,5.25,5.1999999999999993,5.0999999999999996,5,5]
[null,"N2-60P",7.5,"N2-60P7,5",12.5,16.100000000000001,23.65,28.200000000000003,34.200000000000003,39.099999999999994,43.7,58.55,62.099999999999994,74,87.9,103.55,107.35,117.1,null,"N2-60P7,5",122.5,122.35,125.35,138.15,147.05000000000001,152.5,152.94999999999999,175.65,180.10000000000002,199.8,219.8,238.15,246.9,257.60000000000002,null,9.8000000000000007,7.6,5.3,4.9000000000000004,4.3,3.9,3.5,3,2.9,2.7,2.5,2.2999999999999998,2.2999999999999998,2.2000000000000002,null,"N2-60P7,5",6.45,6.45,6.45,6.4,6.4,6.35,6.25,6.1999999999999993,6.15,6.1,6,5.9,5.8000000000000007,5.8000000000000007]
[null,"N2-60P",8.5,"N2-60P8,5",14.25,18.350000000000001,26.3,31.4,38.049999999999997,43.55,48.650000000000006,64.650000000000006,68.55,80.75,95.9,112.95,117.15,127.7,null,"N2-60P8,5",139.65,139.44999999999999,139.4,153.85,163.6,169.85,170.3,193.95,198.8,218,239.8,259.8,269.45000000000005,280.95000000000005,null,9.8000000000000007,7.6,5.3,4.9000000000000004,4.3,3.9,3.5,3,2.9,2.7,2.5,2.2999999999999998,2.2999999999999998,2.2000000000000002,null,"N2-60P8,5",7.35,7.35,7.35,7.25,7.25,7.15,7.1,7,7,6.85,6.75,6.65,6.5500000000000007,6.5500000000000007]
[null,"N2-60P",9.5,"N2-60P9,5",16,20.6,29.05,34.700000000000003,42.1,48.2,53.8,70.5,74.75,87.5,103.9,122.35,126.9,138.35000000000002,null,"N2-60P9,5",156.80000000000001,156.55000000000001,154,170.05,181.05,187.95,188.35000000000002,211.5,216.75,236.25,259.8,281.39999999999998,291.89999999999998,304.39999999999998,null,9.8000000000000007,7.6,5.3,4.9000000000000004,4.3,3.9,3.5,3,2.9,2.7,2.5,2.2999999999999998,2.2999999999999998,2.2000000000000002,null,"N2-60P9,5",8.25,8.25,8.25,8.15,8.1,8,7.9,7.8500000000000005,7.8,7.6,7.5,7.35,7.28,7.25]
[null,"N2-60P",10.5,"N2-60P10,5",17.399999999999999,22.35,31.05,37.099999999999994,45,51.5,57.5,74.949999999999989,79.45,92.45,109.80000000000001,129.30000000000001,134.05000000000001,146.19999999999999,null,"N2-60P10,5",178.55,177.9,174.05,189.35000000000002,202.7,211.3,213,236.35000000000002,242.55,263.75,285.70000000000005,317.14999999999998,322,344,null,10.25,7.95,5.6,5.0999999999999996,4.5,4.0999999999999996,3.7,3.15,3.05,2.85,2.6,2.4500000000000002,2.4,2.35,null,"N2-60P10,5",9.1499999999999986,9.1499999999999986,9.1499999999999986,9.0500000000000007,8.9499999999999993,8.8500000000000014,8.75,8.6999999999999993,8.6,8.4,8.25,8.0500000000000007,7.98,7.95]
[null,"N2-60P",11.5,"N2-60P11,5",18.45,23.7,32.299999999999997,38.599999999999994,46.75,53.5,59.75,78,82.7,95.95,114,134.25,139.19999999999999,151.80000000000001,null,"N2-60P11,5",197.4,196.7,190.55,204.55,219.75,230.05,233.05,257.39999999999998,264.60000000000002,287.85000000000002,307.8,349.04999999999995,348,379.5,null,10.7,8.3000000000000007,5.9,5.3,4.7,4.3,3.9,3.3,3.2,3,2.7,2.6,2.5,2.5,null,"N2-60P11,5",10.050000000000001,10.050000000000001,10.050000000000001,9.9499999999999993,9.8500000000000014,9.75,9.6,9.5,9.4,9.15,8.9499999999999993,8.6999999999999993,8.65,8.6000000000000014]
[null,"N2-60P",12.5,"N2-60P12,5",19.5,25.049999999999997,33.549999999999997,40.049999999999997,48.5,55.55,62.05,81.050000000000011,85.95,99.15,117.8,138.69999999999999,143.85000000000002,156.85,null,"N2-60P12,5",208.65,207.9,197.95,212.25,227.95,238.9,242,267.45,275,297.45000000000005,318.10000000000002,360.6,359.65,392.15,null,10.7,8.3000000000000007,5.9,5.3,4.7,4.3,3.9,3.3,3.2,3,2.7,2.6,2.5,2.5,null,"N2-60P12,5",10.95,10.95,10.9,10.8,10.75,10.6,10.45,10.3,10.199999999999999,9.9,9.65,9.3000000000000007,9.25,9.1999999999999993]
[null,"N2-65P",5.5,"N2-65P5,5",9.15,11.8,18.8,22.5,27.3,31.2,34.85,47.6,50.45,60.7,72.099999999999994,89.45,92.75,101.15,null,"N2-65P5,5",89.65,89.699999999999989,99.65,110.25,117.4,121.7,122,142.80000000000001,146.30000000000001,163.85000000000002,180.25,205.75,213.35000000000002,222.5,null,9.8000000000000007,7.6,5.3,4.9000000000000004,4.3,3.9,3.5,3,2.9,2.7,2.5,2.2999999999999998,2.2999999999999998,2.2000000000000002,null,"N2-65P5,5",4.6500000000000004,4.6500000000000004,4.6500000000000004,4.6500000000000004,4.55,4.55,4.55,4.55,4.5,4.4000000000000004,4.3499999999999996,4.25,4.1500000000000004,4.1500000000000004]
[null,"N2-65P",6.5,"N2-65P6,5",11.9,15.3,23.3,27.799999999999997,33.75,38.6,43.1,58.1,61.55,74.050000000000011,87.949999999999989,105.30000000000001,109.2,119.1,null,"N2-65P6,5",116.60000000000001,116.3,123.5,136.25,145.14999999999998,150.55000000000001,150.9,174.3,178.5,199.9,219.9,242.2,251.15,262,null,9.8000000000000007,7.6,5.3,4.9000000000000004,4.3,3.9,3.5,3,2.9,2.7,2.5,2.2999999999999998,2.2999999999999998,2.2000000000000002,null,"N2-65P6,5",5.55,5.55,5.55,5.55,5.5,5.5,5.4,5.4,5.3000000000000007,5.25,5.1999999999999993,5.0999999999999996,5,5]
[null,"N2-65P",7.5,"N2-65P7,5",14.3,18.399999999999999,27,32.200000000000003,39.099999999999994,44.7,49.95,66.95,71,84.550000000000011,100.44999999999999,118.30000000000001,122.7,133.85,null,"N2-65P7,5",140.10000000000002,139.85,143.14999999999998,157.80000000000001,168.14999999999998,174.35,174.85000000000002,200.85,205.89999999999998,228.25,251.15,272.10000000000002,282.2,294.45000000000005,null,9.8000000000000007,7.6,5.3,4.9000000000000004,4.3,3.9,3.5,3,2.9,2.7,2.5,2.2999999999999998,2.2999999999999998,2.2000000000000002,null,"N2-65P7,5",6.45,6.45,6.45,6.4,6.4,6.35,6.25,6.1999999999999993,6.15,6.1,6,5.9,5.8000000000000007,5.8000000000000007]
[null,"N2-65P",8.5,"N2-65P8,5",16.3,20.95,30.05,35.85,43.5,49.75,55.599999999999994,73.900000000000006,78.400000000000006,92.25,109.6,129.10000000000002,133.85,146,null,"N2-65P8,5",159.69999999999999,159.19999999999999,159.30000000000001,175.64999999999998,187.05,194.05,194.60000000000002,221.7,227.35,249.05,274,296.89999999999998,307.85000000000002,321.20000000000005,null,9.8000000000000007,7.6,5.3,4.9000000000000004,4.3,3.9,3.5,3,2.9,2.7,2.5,2.2999999999999998,2.2999999999999998,2.2000000000000002,null,"N2-65P8,5",7.35,7.35,7.35,7.25,7.25,7.15,7.1,7,7,6.85,6.75,6.65,6.5500000000000007,6.5500000000000007]
[null,"N2-65P",9.5,"N2-65P9,5",18.3,23.5,33.25,39.650000000000006,48.1,55.05,61.5,80.599999999999994,85.449999999999989,99.949999999999989,118.75,139.85000000000002,145,158.15,null,"N2-65P9,5",179.3,178.6,176.25,194.25,206.85,214.7,215.25,241.8,247.8,269.85000000000002,296.89999999999998,321.64999999999998,333.5,347.95000000000005,null,9.8000000000000007,7.6,5.3,4.9000000000000004,4.3,3.9,3.5,3,2.9,2.7,2.5,2.2999999999999998,2.2999999999999998,2.2000000000000002,null,"N2-65P9,5",8.25,8.25,8.25,8.15,8.1,8,7.9,7.8500000000000005,7.8,7.6,7.5,7.35,7.28,7.25]
[null,"N2-65P",10.5,"N2-65P10,5",19.899999999999999,25.55,35.549999999999997,42.400000000000006,51.4,58.849999999999994,65.75,85.699999999999989,90.8,105.65,125.5,147.75,153.25,167.10000000000002,null,"N2-65P10,5",204.25,203.4,199.3,216.4,231.5,241.5,243.5,270.25,277.25,301.39999999999998,326.55,362.45000000000005,368.1,393.20000000000005,null,10.25,7.95,5.6,5.0999999999999996,4.5,4.0999999999999996,3.7,3.15,3.05,2.85,2.6,2.4500000000000002,2.4,2.35,null,"N2-65P10,5",9.1499999999999986,9.1499999999999986,9.1499999999999986,9.0500000000000007,8.9499999999999993,8.8500000000000014,8.75,8.6999999999999993,8.6,8.4,8.25,8.0500000000000007,7.98,7.95]
[null,"N2-65P",11.5,"N2-65P11,5",21.1,27.1,36.950000000000003,44.1,53.45,61.15,68.300000000000011,89.15,94.5,109.7,130.30000000000001,153.44999999999999,159.1,173.5,null,"N2-65P11,5",225.8,224.95,218,233.75,251.20000000000002,262.95000000000005,266.35000000000002,294.20000000000005,302.39999999999998,329.1,351.8,399,397.75,433.8,null,10.7,8.3000000000000007,5.9,5.3,4.7,4.3,3.9,3.3,3.2,3,2.7,2.6,2.5,2.5,null,"N2-65P11,5",10.050000000000001,10.050000000000001,10.050000000000001,9.9499999999999993,9.8500000000000014,9.75,9.6,9.5,9.4,9.15,8.9499999999999993,8.6999999999999993,8.65,8.6000000000000014]
[null,"N2-65P",12.5,"N2-65P12,5",22.299999999999997,28.65,38.35,45.75,55.5,63.45,70.900000000000006,92.65,98.2,113.30000000000001,134.6,158.55000000000001,164.35,179.25,null,"N2-65P12,5",238.6,237.8,226.25,242.5,260.85000000000002,272.85000000000002,276.5,305.75,314.20000000000005,339.9,363.45000000000005,412.25,410.9,448.15,null,10.7,8.3000000000000007,5.9,5.3,4.7,4.3,3.9,3.3,3.2,3,2.7,2.6,2.5,2.5,null,"N2-65P12,5",10.95,10.95,10.9,10.8,10.75,10.6,10.45,10.3,10.199999999999999,9.9,9.65,9.3000000000000007,9.25,9.1999999999999993]
[null,"N2-75P",5.5,"N2-75P5,5",9.9499999999999993,12.85,20.5,24.5,29.7,34,38,51.849999999999994,54.95,66.150000000000006,78.550000000000011,97.449999999999989,101.05,110.25,null,"N2-75P5,5",100.5,100.25,112.75,122.5,130.65,136,140.6,160.69999999999999,164.85000000000002,185.25,196.4,233.85,242.5,253.6,null,10.1,7.8,5.5,5,4.4000000000000004,4,3.7,3.1,3,2.8,2.5,2.4,2.4,2.2999999999999998,null,"N2-75P5,5",4.6500000000000004,4.6500000000000004,4.6500000000000004,4.6500000000000004,4.55,4.55,4.55,4.55,4.5,4.4000000000000004,4.3499999999999996,4.25,4.1500000000000004,4.1500000000000004]
[null,"N2-75P",6.5,"N2-75P6,5",12.95,16.649999999999999,25.35,30.3,36.75,42.05,46.95,63.25,67.05,80.7,95.800000000000011,114.75,118.95,129.75,null,"N2-75P6,5",130.80000000000001,129.9,139.44999999999999,151.5,161.69999999999999,168.2,173.7,196.05,201.15,226,239.55,275.39999999999998,285.5,298.45,null,10.1,7.8,5.5,5,4.4000000000000004,4,3.7,3.1,3,2.8,2.5,2.4,2.4,2.2999999999999998,null,"N2-75P6,5",5.55,5.55,5.55,5.55,5.5,5.5,5.4,5.4,5.3000000000000007,5.25,5.1999999999999993,5.0999999999999996,5,5]
[null,"N2-75P",7.5,"N2-75P7,5",15.6,20,29.4,35.1,42.6,48.75,54.4,72.900000000000006,77.3,92.15,109.45,128.94999999999999,133.65,145.80000000000001,null,"N2-75P7,5",157.6,156,161.75,175.5,187.45,195,201.3,226,231.9,258.05,273.64999999999998,309.5,320.8,335.35,null,10.1,7.8,5.5,5,4.4000000000000004,4,3.7,3.1,3,2.8,2.5,2.4,2.4,2.2999999999999998,null,"N2-75P7,5",6.45,6.45,6.45,6.4,6.4,6.35,6.25,6.1999999999999993,6.15,6.1,6,5.9,5.8000000000000007,5.8000000000000007]
[null,"N2-75P",8.5,"N2-75P8,5",17.75,22.799999999999997,32.75,39.1,47.4,54.25,60.6,80.5,85.35,100.5,119.4,140.65,145.80000000000001,159.05000000000001,null,"N2-75P8,5",179.3,177.85000000000002,180.14999999999998,195.5,208.55,217,224.25,249.55,256.05,281.39999999999998,298.5,337.55,349.95000000000005,365.8,null,10.1,7.8,5.5,5,4.4000000000000004,4,3.7,3.1,3,2.8,2.5,2.4,2.4,2.2999999999999998,null,"N2-75P8,5",7.35,7.35,7.35,7.25,7.25,7.15,7.1,7,7,6.85,6.75,6.65,6.5500000000000007,6.5500000000000007]
[null,"N2-75P",9.5,"N2-75P9,5",19.899999999999999,25.6,36.200000000000003,43.25,52.4,60,67,87.8,93.050000000000011,108.9,129.35,152.35000000000002,157.94999999999999,172.3,null,"N2-75P9,5",201,199.7,199.1,216.25,230.55,240,247.9,272.14999999999998,279.14999999999998,304.89999999999998,323.39999999999998,365.65,379.1,396.3,null,10.1,7.8,5.5,5,4.4000000000000004,4,3.7,3.1,3,2.8,2.5,2.4,2.4,2.2999999999999998,null,"N2-75P9,5",8.25,8.25,8.25,8.15,8.1,8,7.9,7.8500000000000005,7.8,7.6,7.5,7.35,7.28,7.25]
[null,"N2-75P",10.5,"N2-75P10,5",21.65,27.85,38.700000000000003,46.2,56,64.150000000000006,71.599999999999994,93.35,98.9,115.1,136.69999999999999,161,166.89999999999998,182.1,null,"N2-75P10,5",229.8,228.7,224.65,242.75,260.64999999999998,269.64999999999998,275.85000000000002,303.7,311.85000000000002,339.85,362.65,402.85,417.6,437.4,null,10.6,8.1999999999999993,5.8,5.25,4.6500000000000004,4.2,3.85,3.25,3.15,2.95,2.65,2.5,2.5,2.4,null,"N2-75P10,5",9.1499999999999986,9.1499999999999986,9.1499999999999986,9.0500000000000007,8.9499999999999993,8.8500000000000014,8.75,8.6999999999999993,8.6,8.4,8.25,8.0500000000000007,7.98,7.95]
[null,"N2-75P",11.5,"N2-75P11,5",22.950000000000003,29.549999999999997,40.25,48,58.2,66.650000000000006,74.45,97.15,102.94999999999999,119.5,141.9,167.2,173.3,189.05,null,"N2-75P11,5",254.75,254.1,245.5,264,285.20000000000005,293.25,297.8,330.35,339.70000000000005,370.45000000000005,397.3,434.75,450.6,472.65,null,11.1,8.6,6.1,5.5,4.9000000000000004,4.4000000000000004,4,3.4,3.3,3.1,2.8,2.6,2.6,2.5,null,"N2-75P11,5",10.050000000000001,10.050000000000001,10.050000000000001,9.9499999999999993,9.8500000000000014,9.75,9.6,9.5,9.4,9.15,8.9499999999999993,8.6999999999999993,8.65,8.6000000000000014]
[null,"N2-75P",12.5,"N2-75P12,5",24.25,31.2,41.75,49.85,60.4,69.150000000000006,77.25,100.95,107,123.45,146.6,172.75,179.1,195.3,null,"N2-75P12,5",269.2,268.29999999999995,254.65,274.2,296,304.25,309,343.25,353.1,382.70000000000005,410.5,449.15,465.65,488.3,null,11.1,8.6,6.1,5.5,4.9000000000000004,4.4000000000000004,4,3.4,3.3,3.1,2.8,2.6,2.6,2.5,null,"N2-75P12,5",10.95,10.95,10.9,10.8,10.75,10.6,10.45,10.3,10.199999999999999,9.9,9.65,9.3000000000000007,9.25,9.1999999999999993]
[null,"N2-80P",5.5,"N2-80P5,5",11.1,14.299999999999999,22.8,27.2,33,37.799999999999997,42.2,57.65,61.099999999999994,73.449999999999989,87.3,108.30000000000001,112.25,122.45,null,"N2-80P5,5",112.15,111.55000000000001,125.4,136,145.19999999999999,151.19999999999999,156.15,178.75,183.3,205.64999999999998,218.25,259.95,269.39999999999998,281.64999999999998,null,10.1,7.8,5.5,5,4.4000000000000004,4,3.7,3.1,3,2.8,2.5,2.4,2.4,2.2999999999999998,null,"N2-80P5,5",4.6500000000000004,4.6500000000000004,4.6500000000000004,4.6500000000000004,4.55,4.55,4.55,4.55,4.5,4.4000000000000004,4.3499999999999996,4.25,4.1500000000000004,4.1500000000000004]
[null,"N2-80P",6.5,"N2-80P6,5",14.4,18.549999999999997,28.200000000000003,33.65,40.799999999999997,46.75,52.15,70.3,74.5,89.65,106.5,127.5,132.15,144.15,null,"N2-80P6,5",145.44999999999999,144.69999999999999,155.10000000000002,168.25,179.5,187,192.95,217.95,223.5,251,266.25,306,317.14999999999998,331.55,null,10.1,7.8,5.5,5,4.4000000000000004,4,3.7,3.1,3,2.8,2.5,2.4,2.4,2.2999999999999998,null,"N2-80P6,5",5.55,5.55,5.55,5.55,5.5,5.5,5.4,5.4,5.3000000000000007,5.25,5.1999999999999993,5.0999999999999996,5,5]
[null,"N2-80P",7.5,"N2-80P7,5",17.3,22.25,32.65,39,47.3,54.150000000000006,60.45,81.05,85.9,102.4,121.65,143.25,148.5,162,null,"N2-80P7,5",174.75,173.55,179.60000000000002,195,208.1,216.60000000000002,223.65,251.25,257.7,286.7,304.14999999999998,343.8,356.4,372.6,null,10.1,7.8,5.5,5,4.4000000000000004,4,3.7,3.1,3,2.8,2.5,2.4,2.4,2.2999999999999998,null,"N2-80P7,5",6.45,6.45,6.45,6.4,6.4,6.35,6.25,6.1999999999999993,6.15,6.1,6,5.9,5.8000000000000007,5.8000000000000007]
[null,"N2-80P",8.5,"N2-80P8,5",19.7,25.35,36.35,43.400000000000006,52.65,60.25,67.3,89.5,94.85,111.69999999999999,132.69999999999999,156.25,162,176.75,null,"N2-80P8,5",199,197.7,199.95,217,231.65,241,249,277.45,284.54999999999995,312.75,331.8,375,388.8,406.54999999999995,null,10.1,7.8,5.5,5,4.4000000000000004,4,3.7,3.1,3,2.8,2.5,2.4,2.4,2.2999999999999998,null,"N2-80P8,5",7.35,7.35,7.35,7.25,7.25,7.15,7.1,7,7,6.85,6.75,6.65,6.5500000000000007,6.5500000000000007]
[null,"N2-80P",9.5,"N2-80P9,5",22.1,28.45,40.200000000000003,48,58.2,66.650000000000006,74.400000000000006,97.550000000000011,103.4,121,143.75,169.3,175.5,191.45,null,"N2-80P9,5",223.2,221.9,221.1,240,256.05,266.60000000000002,275.3,302.39999999999998,310.2,338.8,359.4,406.29999999999995,421.20000000000005,440.35,null,10.1,7.8,5.5,5,4.4000000000000004,4,3.7,3.1,3,2.8,2.5,2.4,2.4,2.2999999999999998,null,"N2-80P9,5",8.25,8.25,8.25,8.15,8.1,8,7.9,7.8500000000000005,7.8,7.6,7.5,7.35,7.28,7.25]
[null,"N2-80P",10.5,"N2-80P10,5",24.05,30.95,43,51.349999999999994,62.25,71.25,79.55,103.7,109.95,127.85000000000001,151.9,178.9,185.45,202.3,null,"N2-80P10,5",255.3,254.15,249.64999999999998,269.85000000000002,289.75,299.5,306.5,337.35,346.7,377.5,402.95,447.6,464,485.9,null,10.6,8.1999999999999993,5.8,5.25,4.6500000000000004,4.2,3.85,3.25,3.15,2.95,2.65,2.5,2.5,2.4,null,"N2-80P10,5",9.1499999999999986,9.1499999999999986,9.1499999999999986,9.0500000000000007,8.9499999999999993,8.8500000000000014,8.75,8.6999999999999993,8.6,8.4,8.25,8.0500000000000007,7.98,7.95]
[null,"N2-80P",11.5,"N2-80P11,5",25.5,32.799999999999997,44.7,53.4,64.7,74.05,82.7,107.95,114.4,132.75,157.69999999999999,185.75,192.6,210.05,null,"N2-80P11,5",283.05,282.05,272.7,293.75,317.04999999999995,325.8,330.8,367.04999999999995,377.5,411.5,441.54999999999995,482.95,500.75,525.15,null,11.1,8.6,6.1,5.5,4.9000000000000004,4.4000000000000004,4,3.4,3.3,3.1,2.8,2.6,2.6,2.5,null,"N2-80P11,5",10.050000000000001,10.050000000000001,10.050000000000001,9.9499999999999993,9.8500000000000014,9.75,9.6,9.5,9.4,9.15,8.9499999999999993,8.6999999999999993,8.65,8.6000000000000014]
[null,"N2-80P",12.5,"N2-80P12,5",26.95,34.650000000000006,46.400000000000006,55.4,67.150000000000006,76.849999999999994,85.85,112.2,118.85,137.14999999999998,162.94999999999999,191.95,199,217,null,"N2-80P12,5",299.14999999999998,298,283.04999999999995,304.75,329.04999999999995,338.1,343.4,381.5,392.20000000000005,425.15,456.25,499.04999999999995,517.40000000000009,542.54999999999995,null,11.1,8.6,6.1,5.5,4.9000000000000004,4.4000000000000004,4,3.4,3.3,3.1,2.8,2.6,2.6,2.5,null,"N2-80P12,5",10.95,10.95,10.9,10.8,10.75,10.6,10.45,10.3,10.199999999999999,9.9,9.65,9.3000000000000007,9.25,9.1999999999999993]

{"sheet":"Capacities Dryers","index":8,"n_rows":212,"n_cols":25,"rows_kept":212,"cut":false,"hidden":true,"merged":[[206,6,206,7],[207,6,207,7],[208,6,208,7],[190,0,190,2],[192,6,192,8],[193,6,193,7],[204,6,204,7],[205,6,205,7]]}
["Dryer performance table"]
[null,null,"Air Outlet Flow m3/hr @ Stated Inlet Pressure (barg)"]
["Pre-treatment Model DME ","Purge Flow m3/hr","5","5,5","6","6,5","7","7,5","8","8,5","9","9,5","10","10,5","11","11,5","12","12,5","13","13,5","14","14,5","15","15,5","16"]
[1,2,3,4,5,6,7,8,9,10,11,12,13,14,15,16,17,18,19,20,21,22,23,24,25]
["DAS2 up to 35C",1.7,{"$f":"G5*1.33","v":9.0440000000000005},8.3979999999999997,{"$f":"G5*1.14","v":7.7519999999999989},7.2759999999999998,6.8,6.6999999999999993,6.6,7,7.4,7.8500000000000005,8.3000000000000007,8.75,9.1999999999999993,9.75,10.3]
["DAS2 up to 45C",1.7,7.7140000000000004,7.1630000000000003,6.6119999999999992,6.2059999999999995,5.8,5.65,5.5,5.95,6.4,6.8000000000000007,7.2,7.6,8,8.4,8.8000000000000007]
["DAS3 up to 35C",2.7,14.497000000000002,13.461500000000001,12.426,11.663,10.9,10.7,10.5,11.2,11.9,12.600000000000001,13.3,14,14.7,15.6,16.5]
["DAS3 up to 45C",2.7,12.235999999999999,11.361999999999998,10.487999999999998,9.8439999999999976,9.1999999999999993,9,8.8000000000000007,9.5500000000000007,10.3,10.9,11.5,12.15,12.8,13.4,14]
["DAS4 up to 35C",3.4,18.088000000000001,16.795999999999999,15.503999999999998,14.552,13.6,13.35,13.1,14,14.9,15.75,16.600000000000001,17.5,18.399999999999999,19.45,20.5]
["DAS4 up to 45C",3.4,15.295000000000002,14.202500000000001,13.11,12.305,11.5,11.25,11,11.9,12.8,13.55,14.3,15.100000000000001,15.9,16.75,17.600000000000001]
["DAS5 up to 35C",4.4000000000000004,23.541,21.859499999999997,20.177999999999997,18.939,17.7,17.399999999999999,17.100000000000001,18.25,19.399999999999999,20.5,21.6,22.75,23.9,25.299999999999997,26.7]
["DAS5 up to 45C",4.4000000000000004,19.950000000000003,18.524999999999999,17.099999999999998,16.049999999999997,15,14.65,14.3,14.95,15.6,17.100000000000001,18.600000000000001,19.649999999999999,20.7,21.799999999999997,22.9]
["DAS6 up to 35C",5.0999999999999996,27.131999999999998,25.193999999999996,23.255999999999997,21.827999999999996,20.399999999999999,20.049999999999997,19.7,21,22.3,23.6,24.9,26.25,27.6,29.200000000000003,30.8]
["DAS6 up to 45C",5.0999999999999996,23.009000000000004,21.365500000000001,19.721999999999998,18.510999999999999,17.3,16.899999999999999,16.5,17.850000000000001,19.2,20.350000000000001,21.5,22.7,23.9,25.15,26.4]
["DAS7 up to 35C",6.8,36.176000000000002,33.591999999999999,31.007999999999996,29.103999999999999,27.2,26.7,26.2,28,29.8,31.5,33.200000000000003,35,36.799999999999997,38.9,41]
["DAS7 up to 45C",6.8,30.590000000000003,28.405000000000001,26.22,24.61,23,22.5,22,23.8,25.6,27.1,28.6,30.200000000000003,31.8,33.5,35.200000000000003]
["DME012 up to 35C",7.31,44.515100000000004,41.335449999999994,38.155799999999992,35.812899999999999,33.47,36.019999999999996,38.57,41.114999999999995,43.66,46.209999999999994,48.76,51.31,53.86,56.41,58.96,61.504999999999995,64.05,66.599999999999994,69.150000000000006,71.7,74.25,76.795000000000002,79.34]
["DME012 up to 45C",7.31,38.011400000000002,35.296300000000002,32.581199999999995,30.580599999999997,28.58,30.82,33.06,35.305,37.549999999999997,39.79,42.03,44.275000000000006,46.52,48.760000000000005,51,53.245000000000005,55.49,57.734999999999999,59.98,62.22,64.459999999999994,66.704999999999998,68.95]
["DME015 up to 35C",9.85,59.198300000000003,54.969849999999994,50.741399999999992,47.625699999999995,44.51,47.91,51.31,54.71,58.11,61.505000000000003,64.900000000000006,68.300000000000011,71.7,75.094999999999999,78.489999999999995,81.89,85.29,88.69,92.09,95.484999999999999,98.88,102.28,105.68]
["DME015 up to 45C",9.85,50.526700000000005,46.917650000000002,43.308599999999998,40.649299999999997,37.99,40.980000000000004,43.97,46.96,49.95,52.94,55.93,58.92,61.91,64.900000000000006,67.89,70.88,73.87,76.86,79.849999999999994,82.84,85.83,88.82,91.81]
["DME020 up to 35C",12.91,77.671999999999997,72.123999999999995,66.575999999999993,62.488,58.4,62.885000000000005,67.37,71.830000000000013,76.290000000000006,80.75,85.21,89.669999999999987,94.13,98.59,103.05,107.505,111.96,116.41999999999999,120.88,125.34,129.80000000000001,134.26,138.72]
["DME020 up to 45C",12.91,66.340400000000002,61.601799999999997,56.863199999999999,53.371600000000001,49.88,53.805,57.73,61.655000000000001,65.58,69.504999999999995,73.430000000000007,77.355000000000004,81.28,85.204999999999998,89.13,93.055000000000007,96.98,100.905,104.83,108.755,112.68,116.605,120.53]
["DME025 up to 35C",16.41,98.300300000000007,91.278850000000006,84.25739999999999,79.083699999999993,73.91,79.534999999999997,85.16,90.789999999999992,96.42,102.045,107.67,113.30000000000001,118.93,124.56,130.19,135.815,141.44,147.07,152.69999999999999,158.32499999999999,163.95,169.57999999999998,175.21]
["DME025 up to 45C",16.41,83.923000000000002,77.9285,71.933999999999997,67.516999999999996,63.1,68.055000000000007,73.010000000000005,77.960000000000008,82.91,87.864999999999995,92.82,97.77,102.72,107.675,112.63,117.58,122.53,127.485,132.44,137.38999999999999,142.34,147.29500000000002,152.25]
["DME030 up to 35C",19.88,120.44480000000001,111.8416,103.2384,96.899200000000008,90.56,97.460000000000008,104.36,111.265,118.17,125.07,131.97,138.875,145.78,152.68,159.58000000000001,166.48000000000002,173.38,180.285,187.19,194.09,200.99,207.89500000000001,214.8]
["DME030 up to 45C",19.88,102.809,95.465499999999992,88.121999999999986,82.710999999999984,77.3,83.375,89.45,95.525000000000006,101.6,107.675,113.75,119.825,125.9,131.97,138.04,144.11500000000001,150.19,156.26499999999999,162.34,168.41500000000002,174.49,180.565,186.64]
["DME040 up to 35C",26.64,163.15110000000001,151.49745000000001,139.84379999999999,131.2569,122.67,132.01500000000001,141.36000000000001,150.70500000000001,160.05000000000001,169.39500000000001,178.74,188.08500000000001,197.43,206.77,216.11,225.45500000000001,234.8,244.14500000000001,253.49,262.83500000000004,272.18,281.52499999999998,290.87]
["DME040 up to 45C",26.64,139.29090000000002,129.34155000000001,119.39219999999999,112.0611,104.73,112.95,121.17,129.39500000000001,137.62,145.845,154.07,162.29,170.51,178.73500000000001,186.96,195.185,203.41,211.63,219.85,228.07499999999999,236.3,244.52,252.74]
["DME050 up to 35C",32.28,196.58730000000003,182.54535000000001,168.5034,158.1567,147.81,159.07,170.33,181.58500000000001,192.84,204.095,215.35,226.60500000000002,237.86,249.11500000000001,260.37,271.63,282.89]
["DME050 up to 45C",32.28,167.846,155.857,143.86799999999999,135.03399999999999,126.2,136.10499999999999,146.01,155.91499999999999,165.82,175.72499999999999,185.63,195.535,205.44,215.345,225.25,235.16,245.07]
["DME060 up to 35C",39.08,241.7807,224.51065,207.24059999999997,194.51529999999997,181.79,195.595,209.4,223.20499999999998,237.01,250.815,264.62,278.42500000000001,292.23,306.03499999999997,319.83999999999997,333.64499999999998,347.45]
["DME060 up to 45C",39.08,206.53569999999999,191.78314999999998,177.03059999999996,166.16029999999998,155.29,167.44,179.59,191.73500000000001,203.88,216.03,228.18,240.32499999999999,252.47,264.62,276.77,288.91499999999996,301.06]
["DME080 up to 35C",54.37,325.39780000000002,302.1551,278.91239999999999,261.78620000000001,244.66,263.35000000000002,282.04000000000002,300.72500000000002,319.41000000000003,338.1,356.79,375.48,394.17,412.86,431.55,450.24,468.93]
["DME080 up to 45C",54.37,277.66410000000002,257.83095000000003,237.99779999999998,223.38389999999998,208.77,225.22,241.67,258.11500000000001,274.56,291.005,307.45,323.89999999999998,340.35,356.79500000000002,373.24,389.685,406.13]
["MXS102c up to 35C",66,454.86,422.37,389.87999999999994,365.93999999999994,342,367.5,393,418.5,444,469.5,495,520.5,546,571.5,597,622.5,648]
["MXS102c up to 45C",66,389.69,361.85500000000002,334.02,313.51,293,315.5,338,360.5,383,405.5,428,450.5,473,495,517,539.5,562]
["MXS103c up to 35C",98,682.29000000000008,633.55500000000006,584.81999999999994,548.91,513,551.5,590,628,666,704.5,743,781,819,857.5,896,934,972]
["MXS103c up to 45C",98,585.20000000000005,543.4,501.59999999999997,470.79999999999995,440,473.5,507,540.5,574,608,642,675.5,709,742.5,776,810,844]
["MXS103 up to 35C",123,853.86,792.86999999999989,731.87999999999988,686.93999999999994,642,689.5,737,785,833,880.5,928,976,1024,1072,1120,1167.5,1215]
["MXS103 up to 45C",123,731.5,679.25,627,588.5,550,592,634,676,718,760,802,844,886,928,970,1012.5,1055]
["MXS104 up to 35C",164,1138.48,1057.1599999999999,975.83999999999992,915.92,856,919.5,983,1047,1111,1174.5,1238,1302,1366,1429.5,1493,1556.5,1620]
["MXS104 up to 45C",164,974.8900000000001,905.255,835.61999999999989,784.31,733,789.5,846,902,958,1014,1070,1126,1182,1238,1294,1350,1406]
[]
["Selection Dryer performance"]
["pressure colom",{"$f":"HLOOKUP(Selection!$C$22,C3:Y4,2,FALSE)","v":7},"Performance in customer selected flow metric",null,null,null,{"$f":"Selection!H25","v":"m3/hr"},null,null,null,"number of dryers:",{"$f":"VLOOKUP('Input sheet'!B11,'factors-pull down'!A141:B143,2,FALSE)","v":3},{"$f":"MIN(M47:M188)","v":1},null,null,null,{"$f":"MIN(Q47:Q188)","v":1}]
["Pre-treatment Model DME ","Type","Flow at pressure per dryer","Purge per dryer","number of dryers","Total flow at pressure","Total purge","% feed-air consumption per PSA generator","% feed-air consumption per Membrane generator","Power supply (1 = 230V-50Hz, 2 = 115V-60Hz)","Part number","minimal nr of dryers for PSA generator","What is the minimal number of dryers for PSA generator","nr of dryers is 2 \"Must be 2\"","match nr of dryers with PSA generators \"Must be 3\"","minimal nr of dryers for membrane generator","What is the minimal number of dryers for membrane generator","match nr of dryers with Membrane generators"]
["DAS2",{"$f":"CONCATENATE(A47,Selection!$D$28)","v":"DAS2 up to 35C"},{"$f":"(VLOOKUP(B47,$A$5:$Y$42,$B$45,FALSE))/Selection!$I$25","v":6.8},{"$f":"(VLOOKUP(B47,$A$5:$Y$42,2,FALSE))/Selection!$I$25","v":1.7},1,{"$f":"C47*E47","v":6.8},{"$f":"D47*E47","v":1.7},{"$f":"IFERROR(IF(AND(Selection!$G$3/F47<=1,(L47+N47+O47)>=1),Selection!$G$3/F47,\"\"),\"\")","v":""},{"$f":"IFERROR(IF(AND(Selection!$G$12/F47<=1,(P47+N47+R47)>=1),Selection!$G$12/F47,\"\"),\"\")","v":""},{"$f":"IF('Input sheet'!$C$15='factors-pull down'!$A$133,1,2)","v":1},{"$f":"CONCATENATE(\"DAS2-N2\",'Part numbers'!$E$192)","v":"DAS2-N2-E"},{"$f":"AND($L$45=1,E47=$M$45)","v":false},{"$f":"IFERROR(IF((Selection!$G$3/F47)<=1,(ROUNDUP((Selection!$G$3/F47),0))*E47,FALSE),FALSE)","v":false},{"$f":"AND($L$45=2,E47=2)","v":false},{"$f":"AND($L$45=3,E47=Selection!$C$3)","v":true},{"$f":"AND($L$45=1,E47=$Q$45)","v":false},{"$f":"IFERROR(IF((Selection!$G$12/F47)<=1,(ROUNDUP((Selection!$G$12/F47),0))*E47,FALSE),FALSE)","v":false},{"$f":"AND($L$45=3,E47=Selection!$C$12)","v":true},null,{"$f":"IF(AND((Selection!$G$3/F47>=1),((L47+N47+O47)>=1)),1)","v":1}]
["DAS2",{"$f":"CONCATENATE(A48,Selection!$D$28)","v":"DAS2 up to 35C"},{"$f":"(VLOOKUP(B48,$A$5:$Y$42,$B$45,FALSE))/Selection!$I$25","v":6.8},{"$f":"(VLOOKUP(B48,$A$5:$Y$42,2,FALSE))/Selection!$I$25","v":1.7},2,{"$f":"C48*E48","v":13.6},{"$f":"D48*E48","v":3.4},{"$f":"IFERROR(IF(AND(Selection!$G$3/F48<=1,(L48+N48+O48)>=1),Selection!$G$3/F48,\"\"),\"\")","v":""},{"$f":"IFERROR(IF(AND(Selection!$G$12/F48<=1,(P48+N48+R48)>=1),Selection!$G$12/F48,\"\"),\"\")","v":""},{"$f":"IF('Input sheet'!$C$15='factors-pull down'!$A$133,1,2)","v":1},{"$f":"CONCATENATE(\"DAS2-N2\",'Part numbers'!$E$192)","v":"DAS2-N2-E"},false,{"$f":"IFERROR(IF((Selection!$G$3/F48)<=1,(ROUNDUP((Selection!$G$3/F48),0))*E48,FALSE),FALSE)","v":false},{"$f":"AND($L$45=2,E48=2)","v":false},{"$f":"AND($L$45=3,E48=Selection!$C$3)","v":false},{"$f":"AND($L$45=1,E48=$Q$45)","v":false},{"$f":"IFERROR(IF((Selection!$G$12/F48)<=1,(ROUNDUP((Selection!$G$12/F48),0))*E48,FALSE),FALSE)","v":false},{"$f":"AND($L$45=3,E48=Selection!$C$12)","v":false},null,{"$f":"AND((L47+N47+O47)=0)","v":false}]
["DAS3",{"$f":"CONCATENATE(A49,Selection!$D$28)","v":"DAS3 up to 35C"},{"$f":"(VLOOKUP(B49,$A$5:$Y$42,$B$45,FALSE))/Selection!$I$25","v":10.9},{"$f":"(VLOOKUP(B49,$A$5:$Y$42,2,FALSE))/Selection!$I$25","v":2.7},1,{"$f":"C49*E49","v":10.9},{"$f":"D49*E49","v":2.7},{"$f":"IFERROR(IF(AND(Selection!$G$3/F49<=1,(L49+N49+O49)>=1),Selection!$G$3/F49,\"\"),\"\")","v":""},{"$f":"IFERROR(IF(AND(Selection!$G$12/F49<=1,(P49+N49+R49)>=1),Selection!$G$12/F49,\"\"),\"\")","v":""},{"$f":"IF('Input sheet'!$C$15='factors-pull down'!$A$133,1,2)","v":1},{"$f":"CONCATENATE(\"DAS3-N2\",'Part numbers'!$E$192)","v":"DAS3-N2-E"},false,{"$f":"IFERROR(IF((Selection!$G$3/F49)<=1,(ROUNDUP((Selection!$G$3/F49),0))*E49,FALSE),FALSE)","v":false},false,{"$f":"AND($L$45=3,E49=Selection!$C$3)","v":true},false,{"$f":"IFERROR(IF((Selection!$G$12/F49)<=1,(ROUNDUP((Selection!$G$12/F49),0))*E49,FALSE),FALSE)","v":false},{"$f":"AND($L$45=3,E49=Selection!$C$12)","v":true}]
["DAS3",{"$f":"CONCATENATE(A50,Selection!$D$28)","v":"DAS3 up to 35C"},{"$f":"(VLOOKUP(B50,$A$5:$Y$42,$B$45,FALSE))/Selection!$I$25","v":10.9},{"$f":"(VLOOKUP(B50,$A$5:$Y$42,2,FALSE))/Selection!$I$25","v":2.7},2,21.8,5.4,{"$f":"IFERROR(IF(AND(Selection!$G$3/F50<=1,(L50+N50+O50)>=1),Selection!$G$3/F50,\"\"),\"\")","v":""},{"$f":"IFERROR(IF(AND(Selection!$G$12/F50<=1,(P50+N50+R50)>=1),Selection!$G$12/F50,\"\"),\"\")","v":""},{"$f":"IF('Input sheet'!$C$15='factors-pull down'!$A$133,1,2)","v":1},{"$f":"CONCATENATE(\"DAS3-N2\",'Part numbers'!$E$192)","v":"DAS3-N2-E"},false,{"$f":"IFERROR(IF((Selection!$G$3/F50)<=1,(ROUNDUP((Selection!$G$3/F50),0))*E50,FALSE),FALSE)","v":false},false,{"$f":"AND($L$45=3,E50=Selection!$C$3)","v":false},false,{"$f":"IFERROR(IF((Selection!$G$12/F50)<=1,(ROUNDUP((Selection!$G$12/F50),0))*E50,FALSE),FALSE)","v":false},{"$f":"AND($L$45=3,E50=Selection!$C$12)","v":false}]
["DAS4",{"$f":"CONCATENATE(A51,Selection!$D$28)","v":"DAS4 up to 35C"},{"$f":"(VLOOKUP(B51,$A$5:$Y$42,$B$45,FALSE))/Selection!$I$25","v":13.6},{"$f":"(VLOOKUP(B51,$A$5:$Y$42,2,FALSE))/Selection!$I$25","v":3.4},1,13.6,3.4,{"$f":"IFERROR(IF(AND(Selection!$G$3/F51<=1,(L51+N51+O51)>=1),Selection!$G$3/F51,\"\"),\"\")","v":""},{"$f":"IFERROR(IF(AND(Selection!$G$12/F51<=1,(P51+N51+R51)>=1),Selection!$G$12/F51,\"\"),\"\")","v":""},{"$f":"IF('Input sheet'!$C$15='factors-pull down'!$A$133,1,2)","v":1},{"$f":"CONCATENATE(\"DAS4-N2\",'Part numbers'!$E$192)","v":"DAS4-N2-E"},false,{"$f":"IFERROR(IF((Selection!$G$3/F51)<=1,(ROUNDUP((Selection!$G$3/F51),0))*E51,FALSE),FALSE)","v":false},false,{"$f":"AND($L$45=3,E51=Selection!$C$3)","v":true},false,{"$f":"IFERROR(IF((Selection!$G$12/F51)<=1,(ROUNDUP((Selection!$G$12/F51),0))*E51,FALSE),FALSE)","v":false},{"$f":"AND($L$45=3,E51=Selection!$C$12)","v":true}]
["DAS4",{"$f":"CONCATENATE(A52,Selection!$D$28)","v":"DAS4 up to 35C"},{"$f":"(VLOOKUP(B52,$A$5:$Y$42,$B$45,FALSE))/Selection!$I$25","v":13.6},{"$f":"(VLOOKUP(B52,$A$5:$Y$42,2,FALSE))/Selection!$I$25","v":3.4},2,{"$f":"C52*E52","v":27.2},{"$f":"D52*E52","v":6.8},{"$f":"IFERROR(IF(AND(Selection!$G$3/F52<=1,(L52+N52+O52)>=1),Selection!$G$3/F52,\"\"),\"\")","v":""},{"$f":"IFERROR(IF(AND(Selection!$G$12/F52<=1,(P52+N52+R52)>=1),Selection!$G$12/F52,\"\"),\"\")","v":""},{"$f":"IF('Input sheet'!$C$15='factors-pull down'!$A$133,1,2)","v":1},{"$f":"CONCATENATE(\"DAS4-N2\",'Part numbers'!$E$192)","v":"DAS4-N2-E"},false,{"$f":"IFERROR(IF((Selection!$G$3/F52)<=1,(ROUNDUP((Selection!$G$3/F52),0))*E52,FALSE),FALSE)","v":false},false,{"$f":"AND($L$45=3,E52=Selection!$C$3)","v":false},false,{"$f":"IFERROR(IF((Selection!$G$12/F52)<=1,(ROUNDUP((Selection!$G$12/F52),0))*E52,FALSE),FALSE)","v":false},{"$f":"AND($L$45=3,E52=Selection!$C$12)","v":false}]
["DAS5",{"$f":"CONCATENATE(A53,Selection!$D$28)","v":"DAS5 up to 35C"},{"$f":"(VLOOKUP(B53,$A$5:$Y$42,$B$45,FALSE))/Selection!$I$25","v":17.7},{"$f":"(VLOOKUP(B53,$A$5:$Y$42,2,FALSE))/Selection!$I$25","v":4.4000000000000004},1,17.7,4.4000000000000004,{"$f":"IFERROR(IF(AND(Selection!$G$3/F53<=1,(L53+N53+O53)>=1),Selection!$G$3/F53,\"\"),\"\")","v":""},{"$f":"IFERROR(IF(AND(Selection!$G$12/F53<=1,(P53+N53+R53)>=1),Selection!$G$12/F53,\"\"),\"\")","v":""},{"$f":"IF('Input sheet'!$C$15='factors-pull down'!$A$133,1,2)","v":1},{"$f":"CONCATENATE(\"DAS5-N2\",'Part numbers'!$E$192)","v":"DAS5-N2-E"},false,{"$f":"IFERROR(IF((Selection!$G$3/F53)<=1,(ROUNDUP((Selection!$G$3/F53),0))*E53,FALSE),FALSE)","v":false},false,{"$f":"AND($L$45=3,E53=Selection!$C$3)","v":true},false,{"$f":"IFERROR(IF((Selection!$G$12/F53)<=1,(ROUNDUP((Selection!$G$12/F53),0))*E53,FALSE),FALSE)","v":false},{"$f":"AND($L$45=3,E53=Selection!$C$12)","v":true}]
["DAS5",{"$f":"CONCATENATE(A54,Selection!$D$28)","v":"DAS5 up to 35C"},{"$f":"(VLOOKUP(B54,$A$5:$Y$42,$B$45,FALSE))/Selection!$I$25","v":17.7},{"$f":"(VLOOKUP(B54,$A$5:$Y$42,2,FALSE))/Selection!$I$25","v":4.4000000000000004},2,{"$f":"C54*E54","v":35.4},{"$f":"D54*E54","v":8.8000000000000007},{"$f":"IFERROR(IF(AND(Selection!$G$3/F54<=1,(L54+N54+O54)>=1),Selection!$G$3/F54,\"\"),\"\")","v":""},{"$f":"IFERROR(IF(AND(Selection!$G$12/F54<=1,(P54+N54+R54)>=1),Selection!$G$12/F54,\"\"),\"\")","v":""},{"$f":"IF('Input sheet'!$C$15='factors-pull down'!$A$133,1,2)","v":1},{"$f":"CONCATENATE(\"DAS5-N2\",'Part numbers'!$E$192)","v":"DAS5-N2-E"},false,{"$f":"IFERROR(IF((Selection!$G$3/F54)<=1,(ROUNDUP((Selection!$G$3/F54),0))*E54,FALSE),FALSE)","v":false},false,{"$f":"AND($L$45=3,E54=Selection!$C$3)","v":false},false,{"$f":"IFERROR(IF((Selection!$G$12/F54)<=1,(ROUNDUP((Selection!$G$12/F54),0))*E54,FALSE),FALSE)","v":false},{"$f":"AND($L$45=3,E54=Selection!$C$12)","v":false}]
["DAS6",{"$f":"CONCATENATE(A55,Selection!$D$28)","v":"DAS6 up to 35C"},{"$f":"(VLOOKUP(B55,$A$5:$Y$42,$B$45,FALSE))/Selection!$I$25","v":20.399999999999999},{"$f":"(VLOOKUP(B55,$A$5:$Y$42,2,FALSE))/Selection!$I$25","v":5.0999999999999996},1,20.399999999999999,5.0999999999999996,{"$f":"IFERROR(IF(AND(Selection!$G$3/F55<=1,(L55+N55+O55)>=1),Selection!$G$3/F55,\"\"),\"\")","v":""},{"$f":"IFERROR(IF(AND(Selection!$G$12/F55<=1,(P55+N55+R55)>=1),Selection!$G$12/F55,\"\"),\"\")","v":""},{"$f":"IF('Input sheet'!$C$15='factors-pull down'!$A$133,1,2)","v":1},{"$f":"CONCATENATE(\"DAS6-N2\",'Part numbers'!$E$192)","v":"DAS6-N2-E"},false,{"$f":"IFERROR(IF((Selection!$G$3/F55)<=1,(ROUNDUP((Selection!$G$3/F55),0))*E55,FALSE),FALSE)","v":false},false,{"$f":"AND($L$45=3,E55=Selection!$C$3)","v":true},false,{"$f":"IFERROR(IF((Selection!$G$12/F55)<=1,(ROUNDUP((Selection!$G$12/F55),0))*E55,FALSE),FALSE)","v":false},{"$f":"AND($L$45=3,E55=Selection!$C$12)","v":true}]
["DAS6",{"$f":"CONCATENATE(A56,Selection!$D$28)","v":"DAS6 up to 35C"},{"$f":"(VLOOKUP(B56,$A$5:$Y$42,$B$45,FALSE))/Selection!$I$25","v":20.399999999999999},{"$f":"(VLOOKUP(B56,$A$5:$Y$42,2,FALSE))/Selection!$I$25","v":5.0999999999999996},2,{"$f":"C56*E56","v":40.799999999999997},{"$f":"D56*E56","v":10.199999999999999},{"$f":"IFERROR(IF(AND(Selection!$G$3/F56<=1,(L56+N56+O56)>=1),Selection!$G$3/F56,\"\"),\"\")","v":""},{"$f":"IFERROR(IF(AND(Selection!$G$12/F56<=1,(P56+N56+R56)>=1),Selection!$G$12/F56,\"\"),\"\")","v":""},{"$f":"IF('Input sheet'!$C$15='factors-pull down'!$A$133,1,2)","v":1},{"$f":"CONCATENATE(\"DAS6-N2\",'Part numbers'!$E$192)","v":"DAS6-N2-E"},false,{"$f":"IFERROR(IF((Selection!$G$3/F56)<=1,(ROUNDUP((Selection!$G$3/F56),0))*E56,FALSE),FALSE)","v":false},false,{"$f":"AND($L$45=3,E56=Selection!$C$3)","v":false},false,{"$f":"IFERROR(IF((Selection!$G$12/F56)<=1,(ROUNDUP((Selection!$G$12/F56),0))*E56,FALSE),FALSE)","v":false},{"$f":"AND($L$45=3,E56=Selection!$C$12)","v":false}]
["DAS7",{"$f":"CONCATENATE(A57,Selection!$D$28)","v":"DAS7 up to 35C"},{"$f":"(VLOOKUP(B57,$A$5:$Y$42,$B$45,FALSE))/Selection!$I$25","v":27.2},{"$f":"(VLOOKUP(B57,$A$5:$Y$42,2,FALSE))/Selection!$I$25","v":6.8},1,27.2,6.8,{"$f":"IFERROR(IF(AND(Selection!$G$3/F57<=1,(L57+N57+O57)>=1),Selection!$G$3/F57,\"\"),\"\")","v":""},{"$f":"IFERROR(IF(AND(Selection!$G$12/F57<=1,(P57+N57+R57)>=1),Selection!$G$12/F57,\"\"),\"\")","v":""},{"$f":"IF('Input sheet'!$C$15='factors-pull down'!$A$133,1,2)","v":1},{"$f":"CONCATENATE(\"DAS7-N2\",'Part numbers'!$E$192)","v":"DAS7-N2-E"},false,{"$f":"IFERROR(IF((Selection!$G$3/F57)<=1,(ROUNDUP((Selection!$G$3/F57),0))*E57,FALSE),FALSE)","v":false},false,{"$f":"AND($L$45=3,E57=Selection!$C$3)","v":true},false,{"$f":"IFERROR(IF((Selection!$G$12/F57)<=1,(ROUNDUP((Selection!$G$12/F57),0))*E57,FALSE),FALSE)","v":false},{"$f":"AND($L$45=3,E57=Selection!$C$12)","v":true}]
["DAS7",{"$f":"CONCATENATE(A58,Selection!$D$28)","v":"DAS7 up to 35C"},{"$f":"(VLOOKUP(B58,$A$5:$Y$42,$B$45,FALSE))/Selection!$I$25","v":27.2},{"$f":"(VLOOKUP(B58,$A$5:$Y$42,2,FALSE))/Selection!$I$25","v":6.8},2,{"$f":"C58*E58","v":54.4},{"$f":"D58*E58","v":13.6},{"$f":"IFERROR(IF(AND(Selection!$G$3/F58<=1,(L58+N58+O58)>=1),Selection!$G$3/F58,\"\"),\"\")","v":""},{"$f":"IFERROR(IF(AND(Selection!$G$12/F58<=1,(P58+N58+R58)>=1),Selection!$G$12/F58,\"\"),\"\")","v":""},{"$f":"IF('Input sheet'!$C$15='factors-pull down'!$A$133,1,2)","v":1},{"$f":"CONCATENATE(\"DAS7-N2\",'Part numbers'!$E$192)","v":"DAS7-N2-E"},false,{"$f":"IFERROR(IF((Selection!$G$3/F58)<=1,(ROUNDUP((Selection!$G$3/F58),0))*E58,FALSE),FALSE)","v":false},false,{"$f":"AND($L$45=3,E58=Selection!$C$3)","v":false},false,{"$f":"IFERROR(IF((Selection!$G$12/F58)<=1,(ROUNDUP((Selection!$G$12/F58),0))*E58,FALSE),FALSE)","v":false},{"$f":"AND($L$45=3,E58=Selection!$C$12)","v":false}]
["DME012",{"$f":"CONCATENATE(A59,Selection!$D$28)","v":"DME012 up to 35C"},{"$f":"(VLOOKUP(B59,$A$5:$Y$42,$B$45,FALSE))/Selection!$I$25","v":33.47},{"$f":"(VLOOKUP(B59,$A$5:$Y$42,2,FALSE))/Selection!$I$25","v":7.31},1,33.47,7.31,{"$f":"IFERROR(IF(AND(Selection!$G$3/F59<=1,(L59+N59+O59)>=1),Selection!$G$3/F59,\"\"),\"\")","v":""},{"$f":"IFERROR(IF(AND(Selection!$G$12/F59<=1,(P59+N59+R59)>=1),Selection!$G$12/F59,\"\"),\"\")","v":""},{"$f":"IF('Input sheet'!$C$15='factors-pull down'!$A$133,1,2)","v":1},{"$f":"CONCATENATE(\"DME012N2\",'Part numbers'!$E$192)","v":"DME012N2-E"},{"$f":"AND($L$45=1,E59=$M$45)","v":false},{"$f":"IFERROR(IF((Selection!$G$3/F59)<=1,(ROUNDUP((Selection!$G$3/F59),0))*E59,FALSE),FALSE)","v":false},false,{"$f":"AND($L$45=3,E59=Selection!$C$3)","v":true},false,{"$f":"IFERROR(IF((Selection!$G$12/F59)<=1,(ROUNDUP((Selection!$G$12/F59),0))*E59,FALSE),FALSE)","v":false},{"$f":"AND($L$45=3,E59=Selection!$C$12)","v":true}]
["DME012",{"$f":"CONCATENATE(A60,Selection!$D$28)","v":"DME012 up to 35C"},{"$f":"(VLOOKUP(B60,$A$5:$Y$42,$B$45,FALSE))/Selection!$I$25","v":33.47},{"$f":"(VLOOKUP(B60,$A$5:$Y$42,2,FALSE))/Selection!$I$25","v":7.31},2,{"$f":"C60*E60","v":66.94},{"$f":"D60*E60","v":14.62},{"$f":"IFERROR(IF(AND(Selection!$G$3/F60<=1,(L60+N60+O60)>=1),Selection!$G$3/F60,\"\"),\"\")","v":""},{"$f":"IFERROR(IF(AND(Selection!$G$12/F60<=1,(P60+N60+R60)>=1),Selection!$G$12/F60,\"\"),\"\")","v":""},{"$f":"IF('Input sheet'!$C$15='factors-pull down'!$A$133,1,2)","v":1},{"$f":"CONCATENATE(\"DME012N2\",'Part numbers'!$E$192)","v":"DME012N2-E"},false,{"$f":"IFERROR(IF((Selection!$G$3/F60)<=1,(ROUNDUP((Selection!$G$3/F60),0))*E60,FALSE),FALSE)","v":2},false,{"$f":"AND($L$45=3,E60=Selection!$C$3)","v":false},false,{"$f":"IFERROR(IF((Selection!$G$12/F60)<=1,(ROUNDUP((Selection!$G$12/F60),0))*E60,FALSE),FALSE)","v":false},{"$f":"AND($L$45=3,E60=Selection!$C$12)","v":false}]
["DME012",{"$f":"CONCATENATE(A61,Selection!$D$28)","v":"DME012 up to 35C"},{"$f":"(VLOOKUP(B61,$A$5:$Y$42,$B$45,FALSE))/Selection!$I$25","v":33.47},{"$f":"(VLOOKUP(B61,$A$5:$Y$42,2,FALSE))/Selection!$I$25","v":7.31},3,{"$f":"C61*E61","v":100.41},{"$f":"D61*E61","v":21.93},{"$f":"IFERROR(IF(AND(Selection!$G$3/F61<=1,(L61+N61+O61)>=1),Selection!$G$3/F61,\"\"),\"\")","v":""},{"$f":"IFERROR(IF(AND(Selection!$G$12/F61<=1,(P61+N61+R61)>=1),Selection!$G$12/F61,\"\"),\"\")","v":""},{"$f":"IF('Input sheet'!$C$15='factors-pull down'!$A$133,1,2)","v":1},{"$f":"CONCATENATE(\"DME012N2\",'Part numbers'!$E$192)","v":"DME012N2-E"},false,{"$f":"IFERROR(IF((Selection!$G$3/F61)<=1,(ROUNDUP((Selection!$G$3/F61),0))*E61,FALSE),FALSE)","v":3},false,{"$f":"AND($L$45=3,E61=Selection!$C$3)","v":false},false,{"$f":"IFERROR(IF((Selection!$G$12/F61)<=1,(ROUNDUP((Selection!$G$12/F61),0))*E61,FALSE),FALSE)","v":false},{"$f":"AND($L$45=3,E61=Selection!$C$12)","v":false}]
["DME012",{"$f":"CONCATENATE(A62,Selection!$D$28)","v":"DME012 up to 35C"},{"$f":"(VLOOKUP(B62,$A$5:$Y$42,$B$45,FALSE))/Selection!$I$25","v":33.47},{"$f":"(VLOOKUP(B62,$A$5:$Y$42,2,FALSE))/Selection!$I$25","v":7.31},4,133.88,29.24,{"$f":"IFERROR(IF(AND(Selection!$G$3/F62<=1,(L62+N62+O62)>=1),Selection!$G$3/F62,\"\"),\"\")","v":""},{"$f":"IFERROR(IF(AND(Selection!$G$12/F62<=1,(P62+N62+R62)>=1),Selection!$G$12/F62,\"\"),\"\")","v":""},{"$f":"IF('Input sheet'!$C$15='factors-pull down'!$A$133,1,2)","v":1},{"$f":"CONCATENATE(\"DME012N2\",'Part numbers'!$E$192)","v":"DME012N2-E"},false,{"$f":"IFERROR(IF((Selection!$G$3/F62)<=1,(ROUNDUP((Selection!$G$3/F62),0))*E62,FALSE),FALSE)","v":4},false,{"$f":"AND($L$45=3,E62=Selection!$C$3)","v":false},false,{"$f":"IFERROR(IF((Selection!$G$12/F62)<=1,(ROUNDUP((Selection!$G$12/F62),0))*E62,FALSE),FALSE)","v":false},{"$f":"AND($L$45=3,E62=Selection!$C$12)","v":false}]
["DME012",{"$f":"CONCATENATE(A63,Selection!$D$28)","v":"DME012 up to 35C"},{"$f":"(VLOOKUP(B63,$A$5:$Y$42,$B$45,FALSE))/Selection!$I$25","v":33.47},{"$f":"(VLOOKUP(B63,$A$5:$Y$42,2,FALSE))/Selection!$I$25","v":7.31},5,167.35,36.549999999999997,{"$f":"IFERROR(IF(AND(Selection!$G$3/F63<=1,(L63+N63+O63)>=1),Selection!$G$3/F63,\"\"),\"\")","v":""},{"$f":"IFERROR(IF(AND(Selection!$G$12/F63<=1,(P63+N63+R63)>=1),Selection!$G$12/F63,\"\"),\"\")","v":""},{"$f":"IF('Input sheet'!$C$15='factors-pull down'!$A$133,1,2)","v":1},{"$f":"CONCATENATE(\"DME012N2\",'Part numbers'!$E$192)","v":"DME012N2-E"},false,{"$f":"IFERROR(IF((Selection!$G$3/F63)<=1,(ROUNDUP((Selection!$G$3/F63),0))*E63,FALSE),FALSE)","v":5},false,{"$f":"AND($L$45=3,E63=Selection!$C$3)","v":false},false,{"$f":"IFERROR(IF((Selection!$G$12/F63)<=1,(ROUNDUP((Selection!$G$12/F63),0))*E63,FALSE),FALSE)","v":false},{"$f":"AND($L$45=3,E63=Selection!$C$12)","v":false}]
["DME012",{"$f":"CONCATENATE(A64,Selection!$D$28)","v":"DME012 up to 35C"},{"$f":"(VLOOKUP(B64,$A$5:$Y$42,$B$45,FALSE))/Selection!$I$25","v":33.47},{"$f":"(VLOOKUP(B64,$A$5:$Y$42,2,FALSE))/Selection!$I$25","v":7.31},6,200.82,43.86,{"$f":"IFERROR(IF(AND(Selection!$G$3/F64<=1,(L64+N64+O64)>=1),Selection!$G$3/F64,\"\"),\"\")","v":""},{"$f":"IFERROR(IF(AND(Selection!$G$12/F64<=1,(P64+N64+R64)>=1),Selection!$G$12/F64,\"\"),\"\")","v":""},{"$f":"IF('Input sheet'!$C$15='factors-pull down'!$A$133,1,2)","v":1},{"$f":"CONCATENATE(\"DME012N2\",'Part numbers'!$E$192)","v":"DME012N2-E"},false,{"$f":"IFERROR(IF((Selection!$G$3/F64)<=1,(ROUNDUP((Selection!$G$3/F64),0))*E64,FALSE),FALSE)","v":6},false,{"$f":"AND($L$45=3,E64=Selection!$C$3)","v":false},false,{"$f":"IFERROR(IF((Selection!$G$12/F64)<=1,(ROUNDUP((Selection!$G$12/F64),0))*E64,FALSE),FALSE)","v":6},{"$f":"AND($L$45=3,E64=Selection!$C$12)","v":false}]
["DME012",{"$f":"CONCATENATE(A65,Selection!$D$28)","v":"DME012 up to 35C"},{"$f":"(VLOOKUP(B65,$A$5:$Y$42,$B$45,FALSE))/Selection!$I$25","v":33.47},{"$f":"(VLOOKUP(B65,$A$5:$Y$42,2,FALSE))/Selection!$I$25","v":7.31},7,234.29,51.169999999999995,{"$f":"IFERROR(IF(AND(Selection!$G$3/F65<=1,(L65+N65+O65)>=1),Selection!$G$3/F65,\"\"),\"\")","v":""},{"$f":"IFERROR(IF(AND(Selection!$G$12/F65<=1,(P65+N65+R65)>=1),Selection!$G$12/F65,\"\"),\"\")","v":""},{"$f":"IF('Input sheet'!$C$15='factors-pull down'!$A$133,1,2)","v":1},{"$f":"CONCATENATE(\"DME012N2\",'Part numbers'!$E$192)","v":"DME012N2-E"},false,{"$f":"IFERROR(IF((Selection!$G$3/F65)<=1,(ROUNDUP((Selection!$G$3/F65),0))*E65,FALSE),FALSE)","v":7},false,{"$f":"AND($L$45=3,E65=Selection!$C$3)","v":false},false,{"$f":"IFERROR(IF((Selection!$G$12/F65)<=1,(ROUNDUP((Selection!$G$12/F65),0))*E65,FALSE),FALSE)","v":7},{"$f":"AND($L$45=3,E65=Selection!$C$12)","v":false}]
["DME012",{"$f":"CONCATENATE(A66,Selection!$D$28)","v":"DME012 up to 35C"},{"$f":"(VLOOKUP(B66,$A$5:$Y$42,$B$45,FALSE))/Selection!$I$25","v":33.47},{"$f":"(VLOOKUP(B66,$A$5:$Y$42,2,FALSE))/Selection!$I$25","v":7.31},8,267.76,58.48,{"$f":"IFERROR(IF(AND(Selection!$G$3/F66<=1,(L66+N66+O66)>=1),Selection!$G$3/F66,\"\"),\"\")","v":""},{"$f":"IFERROR(IF(AND(Selection!$G$12/F66<=1,(P66+N66+R66)>=1),Selection!$G$12/F66,\"\"),\"\")","v":""},{"$f":"IF('Input sheet'!$C$15='factors-pull down'!$A$133,1,2)","v":1},{"$f":"CONCATENATE(\"DME012N2\",'Part numbers'!$E$192)","v":"DME012N2-E"},false,{"$f":"IFERROR(IF((Selection!$G$3/F66)<=1,(ROUNDUP((Selection!$G$3/F66),0))*E66,FALSE),FALSE)","v":8},false,{"$f":"AND($L$45=3,E66=Selection!$C$3)","v":false},false,{"$f":"IFERROR(IF((Selection!$G$12/F66)<=1,(ROUNDUP((Selection!$G$12/F66),0))*E66,FALSE),FALSE)","v":8},{"$f":"AND($L$45=3,E66=Selection!$C$12)","v":false}]
["DME012",{"$f":"CONCATENATE(A67,Selection!$D$28)","v":"DME012 up to 35C"},{"$f":"(VLOOKUP(B67,$A$5:$Y$42,$B$45,FALSE))/Selection!$I$25","v":33.47},{"$f":"(VLOOKUP(B67,$A$5:$Y$42,2,FALSE))/Selection!$I$25","v":7.31},9,301.23,65.789999999999992,{"$f":"IFERROR(IF(AND(Selection!$G$3/F67<=1,(L67+N67+O67)>=1),Selection!$G$3/F67,\"\"),\"\")","v":""},{"$f":"IFERROR(IF(AND(Selection!$G$12/F67<=1,(P67+N67+R67)>=1),Selection!$G$12/F67,\"\"),\"\")","v":""},{"$f":"IF('Input sheet'!$C$15='factors-pull down'!$A$133,1,2)","v":1},{"$f":"CONCATENATE(\"DME012N2\",'Part numbers'!$E$192)","v":"DME012N2-E"},false,{"$f":"IFERROR(IF((Selection!$G$3/F67)<=1,(ROUNDUP((Selection!$G$3/F67),0))*E67,FALSE),FALSE)","v":9},false,{"$f":"AND($L$45=3,E67=Selection!$C$3)","v":false},false,{"$f":"IFERROR(IF((Selection!$G$12/F67)<=1,(ROUNDUP((Selection!$G$12/F67),0))*E67,FALSE),FALSE)","v":9},{"$f":"AND($L$45=3,E67=Selection!$C$12)","v":false}]
["DME012",{"$f":"CONCATENATE(A68,Selection!$D$28)","v":"DME012 up to 35C"},{"$f":"(VLOOKUP(B68,$A$5:$Y$42,$B$45,FALSE))/Selection!$I$25","v":33.47},{"$f":"(VLOOKUP(B68,$A$5:$Y$42,2,FALSE))/Selection!$I$25","v":7.31},10,334.7,73.099999999999994,{"$f":"IFERROR(IF(AND(Selection!$G$3/F68<=1,(L68+N68+O68)>=1),Selection!$G$3/F68,\"\"),\"\")","v":""},{"$f":"IFERROR(IF(AND(Selection!$G$12/F68<=1,(P68+N68+R68)>=1),Selection!$G$12/F68,\"\"),\"\")","v":""},{"$f":"IF('Input sheet'!$C$15='factors-pull down'!$A$133,1,2)","v":1},{"$f":"CONCATENATE(\"DME012N2\",'Part numbers'!$E$192)","v":"DME012N2-E"},false,{"$f":"IFERROR(IF((Selection!$G$3/F68)<=1,(ROUNDUP((Selection!$G$3/F68),0))*E68,FALSE),FALSE)","v":10},false,{"$f":"AND($L$45=3,E68=Selection!$C$3)","v":false},false,{"$f":"IFERROR(IF((Selection!$G$12/F68)<=1,(ROUNDUP((Selection!$G$12/F68),0))*E68,FALSE),FALSE)","v":10},{"$f":"AND($L$45=3,E68=Selection!$C$12)","v":false}]
["DME015",{"$f":"CONCATENATE(A69,Selection!$D$28)","v":"DME015 up to 35C"},{"$f":"(VLOOKUP(B69,$A$5:$Y$42,$B$45,FALSE))/Selection!$I$25","v":44.51},{"$f":"(VLOOKUP(B69,$A$5:$Y$42,2,FALSE))/Selection!$I$25","v":9.85},1,44.51,9.85,{"$f":"IFERROR(IF(AND(Selection!$G$3/F69<=1,(L69+N69+O69)>=1),Selection!$G$3/F69,\"\"),\"\")","v":""},{"$f":"IFERROR(IF(AND(Selection!$G$12/F69<=1,(P69+N69+R69)>=1),Selection!$G$12/F69,\"\"),\"\")","v":""},{"$f":"IF('Input sheet'!$C$15='factors-pull down'!$A$133,1,2)","v":1},{"$f":"CONCATENATE(\"DME015N2\",'Part numbers'!$E$192)","v":"DME015N2-E"},false,{"$f":"IFERROR(IF((Selection!$G$3/F69)<=1,(ROUNDUP((Selection!$G$3/F69),0))*E69,FALSE),FALSE)","v":false},false,{"$f":"AND($L$45=3,E69=Selection!$C$3)","v":true},false,{"$f":"IFERROR(IF((Selection!$G$12/F69)<=1,(ROUNDUP((Selection!$G$12/F69),0))*E69,FALSE),FALSE)","v":false},{"$f":"AND($L$45=3,E69=Selection!$C$12)","v":true}]
["DME015",{"$f":"CONCATENATE(A70,Selection!$D$28)","v":"DME015 up to 35C"},{"$f":"(VLOOKUP(B70,$A$5:$Y$42,$B$45,FALSE))/Selection!$I$25","v":44.51},{"$f":"(VLOOKUP(B70,$A$5:$Y$42,2,FALSE))/Selection!$I$25","v":9.85},2,{"$f":"C70*E70","v":89.02},{"$f":"D70*E70","v":19.7},{"$f":"IFERROR(IF(AND(Selection!$G$3/F70<=1,(L70+N70+O70)>=1),Selection!$G$3/F70,\"\"),\"\")","v":""},{"$f":"IFERROR(IF(AND(Selection!$G$12/F70<=1,(P70+N70+R70)>=1),Selection!$G$12/F70,\"\"),\"\")","v":""},{"$f":"IF('Input sheet'!$C$15='factors-pull down'!$A$133,1,2)","v":1},{"$f":"CONCATENATE(\"DME015N2\",'Part numbers'!$E$192)","v":"DME015N2-E"},false,{"$f":"IFERROR(IF((Selection!$G$3/F70)<=1,(ROUNDUP((Selection!$G$3/F70),0))*E70,FALSE),FALSE)","v":2},false,{"$f":"AND($L$45=3,E70=Selection!$C$3)","v":false},false,{"$f":"IFERROR(IF((Selection!$G$12/F70)<=1,(ROUNDUP((Selection!$G$12/F70),0))*E70,FALSE),FALSE)","v":false},{"$f":"AND($L$45=3,E70=Selection!$C$12)","v":false}]
["DME015",{"$f":"CONCATENATE(A71,Selection!$D$28)","v":"DME015 up to 35C"},{"$f":"(VLOOKUP(B71,$A$5:$Y$42,$B$45,FALSE))/Selection!$I$25","v":44.51},{"$f":"(VLOOKUP(B71,$A$5:$Y$42,2,FALSE))/Selection!$I$25","v":9.85},3,{"$f":"C71*E71","v":133.53},{"$f":"D71*E71","v":29.549999999999997},{"$f":"IFERROR(IF(AND(Selection!$G$3/F71<=1,(L71+N71+O71)>=1),Selection!$G$3/F71,\"\"),\"\")","v":""},{"$f":"IFERROR(IF(AND(Selection!$G$12/F71<=1,(P71+N71+R71)>=1),Selection!$G$12/F71,\"\"),\"\")","v":""},{"$f":"IF('Input sheet'!$C$15='factors-pull down'!$A$133,1,2)","v":1},{"$f":"CONCATENATE(\"DME015N2\",'Part numbers'!$E$192)","v":"DME015N2-E"},false,{"$f":"IFERROR(IF((Selection!$G$3/F71)<=1,(ROUNDUP((Selection!$G$3/F71),0))*E71,FALSE),FALSE)","v":3},false,{"$f":"AND($L$45=3,E71=Selection!$C$3)","v":false},false,{"$f":"IFERROR(IF((Selection!$G$12/F71)<=1,(ROUNDUP((Selection!$G$12/F71),0))*E71,FALSE),FALSE)","v":false},{"$f":"AND($L$45=3,E71=Selection!$C$12)","v":false}]
["DME015",{"$f":"CONCATENATE(A72,Selection!$D$28)","v":"DME015 up to 35C"},{"$f":"(VLOOKUP(B72,$A$5:$Y$42,$B$45,FALSE))/Selection!$I$25","v":44.51},{"$f":"(VLOOKUP(B72,$A$5:$Y$42,2,FALSE))/Selection!$I$25","v":9.85},4,178.04,39.4,{"$f":"IFERROR(IF(AND(Selection!$G$3/F72<=1,(L72+N72+O72)>=1),Selection!$G$3/F72,\"\"),\"\")","v":""},{"$f":"IFERROR(IF(AND(Selection!$G$12/F72<=1,(P72+N72+R72)>=1),Selection!$G$12/F72,\"\"),\"\")","v":""},{"$f":"IF('Input sheet'!$C$15='factors-pull down'!$A$133,1,2)","v":1},{"$f":"CONCATENATE(\"DME015N2\",'Part numbers'!$E$192)","v":"DME015N2-E"},false,{"$f":"IFERROR(IF((Selection!$G$3/F72)<=1,(ROUNDUP((Selection!$G$3/F72),0))*E72,FALSE),FALSE)","v":4},false,{"$f":"AND($L$45=3,E72=Selection!$C$3)","v":false},false,{"$f":"IFERROR(IF((Selection!$G$12/F72)<=1,(ROUNDUP((Selection!$G$12/F72),0))*E72,FALSE),FALSE)","v":false},{"$f":"AND($L$45=3,E72=Selection!$C$12)","v":false}]
["DME015",{"$f":"CONCATENATE(A73,Selection!$D$28)","v":"DME015 up to 35C"},{"$f":"(VLOOKUP(B73,$A$5:$Y$42,$B$45,FALSE))/Selection!$I$25","v":44.51},{"$f":"(VLOOKUP(B73,$A$5:$Y$42,2,FALSE))/Selection!$I$25","v":9.85},5,222.54999999999998,49.25,{"$f":"IFERROR(IF(AND(Selection!$G$3/F73<=1,(L73+N73+O73)>=1),Selection!$G$3/F73,\"\"),\"\")","v":""},{"$f":"IFERROR(IF(AND(Selection!$G$12/F73<=1,(P73+N73+R73)>=1),Selection!$G$12/F73,\"\"),\"\")","v":""},{"$f":"IF('Input sheet'!$C$15='factors-pull down'!$A$133,1,2)","v":1},{"$f":"CONCATENATE(\"DME015N2\",'Part numbers'!$E$192)","v":"DME015N2-E"},false,{"$f":"IFERROR(IF((Selection!$G$3/F73)<=1,(ROUNDUP((Selection!$G$3/F73),0))*E73,FALSE),FALSE)","v":5},false,{"$f":"AND($L$45=3,E73=Selection!$C$3)","v":false},false,{"$f":"IFERROR(IF((Selection!$G$12/F73)<=1,(ROUNDUP((Selection!$G$12/F73),0))*E73,FALSE),FALSE)","v":5},{"$f":"AND($L$45=3,E73=Selection!$C$12)","v":false}]
["DME015",{"$f":"CONCATENATE(A74,Selection!$D$28)","v":"DME015 up to 35C"},{"$f":"(VLOOKUP(B74,$A$5:$Y$42,$B$45,FALSE))/Selection!$I$25","v":44.51},{"$f":"(VLOOKUP(B74,$A$5:$Y$42,2,FALSE))/Selection!$I$25","v":9.85},6,267.06,59.099999999999994,{"$f":"IFERROR(IF(AND(Selection!$G$3/F74<=1,(L74+N74+O74)>=1),Selection!$G$3/F74,\"\"),\"\")","v":""},{"$f":"IFERROR(IF(AND(Selection!$G$12/F74<=1,(P74+N74+R74)>=1),Selection!$G$12/F74,\"\"),\"\")","v":""},{"$f":"IF('Input sheet'!$C$15='factors-pull down'!$A$133,1,2)","v":1},{"$f":"CONCATENATE(\"DME015N2\",'Part numbers'!$E$192)","v":"DME015N2-E"},false,{"$f":"IFERROR(IF((Selection!$G$3/F74)<=1,(ROUNDUP((Selection!$G$3/F74),0))*E74,FALSE),FALSE)","v":6},false,{"$f":"AND($L$45=3,E74=Selection!$C$3)","v":false},false,{"$f":"IFERROR(IF((Selection!$G$12/F74)<=1,(ROUNDUP((Selection!$G$12/F74),0))*E74,FALSE),FALSE)","v":6},{"$f":"AND($L$45=3,E74=Selection!$C$12)","v":false}]
["DME015",{"$f":"CONCATENATE(A75,Selection!$D$28)","v":"DME015 up to 35C"},{"$f":"(VLOOKUP(B75,$A$5:$Y$42,$B$45,FALSE))/Selection!$I$25","v":44.51},{"$f":"(VLOOKUP(B75,$A$5:$Y$42,2,FALSE))/Selection!$I$25","v":9.85},7,{"$f":"C75*E75","v":311.57},{"$f":"D75*E75","v":68.95},{"$f":"IFERROR(IF(AND(Selection!$G$3/F75<=1,(L75+N75+O75)>=1),Selection!$G$3/F75,\"\"),\"\")","v":""},{"$f":"IFERROR(IF(AND(Selection!$G$12/F75<=1,(P75+N75+R75)>=1),Selection!$G$12/F75,\"\"),\"\")","v":""},{"$f":"IF('Input sheet'!$C$15='factors-pull down'!$A$133,1,2)","v":1},{"$f":"CONCATENATE(\"DME015N2\",'Part numbers'!$E$192)","v":"DME015N2-E"},false,{"$f":"IFERROR(IF((Selection!$G$3/F75)<=1,(ROUNDUP((Selection!$G$3/F75),0))*E75,FALSE),FALSE)","v":7},false,{"$f":"AND($L$45=3,E75=Selection!$C$3)","v":false},false,{"$f":"IFERROR(IF((Selection!$G$12/F75)<=1,(ROUNDUP((Selection!$G$12/F75),0))*E75,FALSE),FALSE)","v":7},{"$f":"AND($L$45=3,E75=Selection!$C$12)","v":false}]
["DME015",{"$f":"CONCATENATE(A76,Selection!$D$28)","v":"DME015 up to 35C"},{"$f":"(VLOOKUP(B76,$A$5:$Y$42,$B$45,FALSE))/Selection!$I$25","v":44.51},{"$f":"(VLOOKUP(B76,$A$5:$Y$42,2,FALSE))/Selection!$I$25","v":9.85},8,356.08,78.8,{"$f":"IFERROR(IF(AND(Selection!$G$3/F76<=1,(L76+N76+O76)>=1),Selection!$G$3/F76,\"\"),\"\")","v":""},{"$f":"IFERROR(IF(AND(Selection!$G$12/F76<=1,(P76+N76+R76)>=1),Selection!$G$12/F76,\"\"),\"\")","v":""},{"$f":"IF('Input sheet'!$C$15='factors-pull down'!$A$133,1,2)","v":1},{"$f":"CONCATENATE(\"DME015N2\",'Part numbers'!$E$192)","v":"DME015N2-E"},false,{"$f":"IFERROR(IF((Selection!$G$3/F76)<=1,(ROUNDUP((Selection!$G$3/F76),0))*E76,FALSE),FALSE)","v":8},false,{"$f":"AND($L$45=3,E76=Selection!$C$3)","v":false},false,{"$f":"IFERROR(IF((Selection!$G$12/F76)<=1,(ROUNDUP((Selection!$G$12/F76),0))*E76,FALSE),FALSE)","v":8},{"$f":"AND($L$45=3,E76=Selection!$C$12)","v":false}]
["DME015",{"$f":"CONCATENATE(A77,Selection!$D$28)","v":"DME015 up to 35C"},{"$f":"(VLOOKUP(B77,$A$5:$Y$42,$B$45,FALSE))/Selection!$I$25","v":44.51},{"$f":"(VLOOKUP(B77,$A$5:$Y$42,2,FALSE))/Selection!$I$25","v":9.85},9,400.59,88.649999999999991,{"$f":"IFERROR(IF(AND(Selection!$G$3/F77<=1,(L77+N77+O77)>=1),Selection!$G$3/F77,\"\"),\"\")","v":""},{"$f":"IFERROR(IF(AND(Selection!$G$12/F77<=1,(P77+N77+R77)>=1),Selection!$G$12/F77,\"\"),\"\")","v":""},{"$f":"IF('Input sheet'!$C$15='factors-pull down'!$A$133,1,2)","v":1},{"$f":"CONCATENATE(\"DME015N2\",'Part numbers'!$E$192)","v":"DME015N2-E"},false,{"$f":"IFERROR(IF((Selection!$G$3/F77)<=1,(ROUNDUP((Selection!$G$3/F77),0))*E77,FALSE),FALSE)","v":9},false,{"$f":"AND($L$45=3,E77=Selection!$C$3)","v":false},false,{"$f":"IFERROR(IF((Selection!$G$12/F77)<=1,(ROUNDUP((Selection!$G$12/F77),0))*E77,FALSE),FALSE)","v":9},{"$f":"AND($L$45=3,E77=Selection!$C$12)","v":false}]
["DME015",{"$f":"CONCATENATE(A78,Selection!$D$28)","v":"DME015 up to 35C"},{"$f":"(VLOOKUP(B78,$A$5:$Y$42,$B$45,FALSE))/Selection!$I$25","v":44.51},{"$f":"(VLOOKUP(B78,$A$5:$Y$42,2,FALSE))/Selection!$I$25","v":9.85},10,445.09999999999997,98.5,{"$f":"IFERROR(IF(AND(Selection!$G$3/F78<=1,(L78+N78+O78)>=1),Selection!$G$3/F78,\"\"),\"\")","v":""},{"$f":"IFERROR(IF(AND(Selection!$G$12/F78<=1,(P78+N78+R78)>=1),Selection!$G$12/F78,\"\"),\"\")","v":""},{"$f":"IF('Input sheet'!$C$15='factors-pull down'!$A$133,1,2)","v":1},{"$f":"CONCATENATE(\"DME015N2\",'Part numbers'!$E$192)","v":"DME015N2-E"},false,{"$f":"IFERROR(IF((Selection!$G$3/F78)<=1,(ROUNDUP((Selection!$G$3/F78),0))*E78,FALSE),FALSE)","v":10},false,{"$f":"AND($L$45=3,E78=Selection!$C$3)","v":false},false,{"$f":"IFERROR(IF((Selection!$G$12/F78)<=1,(ROUNDUP((Selection!$G$12/F78),0))*E78,FALSE),FALSE)","v":10},{"$f":"AND($L$45=3,E78=Selection!$C$12)","v":false}]
["DME020",{"$f":"CONCATENATE(A79,Selection!$D$28)","v":"DME020 up to 35C"},{"$f":"(VLOOKUP(B79,$A$5:$Y$42,$B$45,FALSE))/Selection!$I$25","v":58.4},{"$f":"(VLOOKUP(B79,$A$5:$Y$42,2,FALSE))/Selection!$I$25","v":12.91},1,58.4,12.91,{"$f":"IFERROR(IF(AND(Selection!$G$3/F79<=1,(L79+N79+O79)>=1),Selection!$G$3/F79,\"\"),\"\")","v":""},{"$f":"IFERROR(IF(AND(Selection!$G$12/F79<=1,(P79+N79+R79)>=1),Selection!$G$12/F79,\"\"),\"\")","v":""},{"$f":"IF('Input sheet'!$C$15='factors-pull down'!$A$133,1,2)","v":1},{"$f":"CONCATENATE(\"DME020N2\",'Part numbers'!$E$192)","v":"DME020N2-E"},{"$f":"AND($L$45=1,E79=$M$45)","v":false},{"$f":"IFERROR(IF((Selection!$G$3/F79)<=1,(ROUNDUP((Selection!$G$3/F79),0))*E79,FALSE),FALSE)","v":false},{"$f":"AND($L$45=2,E79=2)","v":false},{"$f":"AND($L$45=3,E79=Selection!$C$3)","v":true},false,{"$f":"IFERROR(IF((Selection!$G$12/F79)<=1,(ROUNDUP((Selection!$G$12/F79),0))*E79,FALSE),FALSE)","v":false},{"$f":"AND($L$45=3,E79=Selection!$C$12)","v":true}]
["DME020",{"$f":"CONCATENATE(A80,Selection!$D$28)","v":"DME020 up to 35C"},{"$f":"(VLOOKUP(B80,$A$5:$Y$42,$B$45,FALSE))/Selection!$I$25","v":58.4},{"$f":"(VLOOKUP(B80,$A$5:$Y$42,2,FALSE))/Selection!$I$25","v":12.91},2,{"$f":"C80*E80","v":116.8},{"$f":"D80*E80","v":25.82},{"$f":"IFERROR(IF(AND(Selection!$G$3/F80<=1,(L80+N80+O80)>=1),Selection!$G$3/F80,\"\"),\"\")","v":""},{"$f":"IFERROR(IF(AND(Selection!$G$12/F80<=1,(P80+N80+R80)>=1),Selection!$G$12/F80,\"\"),\"\")","v":""},{"$f":"IF('Input sheet'!$C$15='factors-pull down'!$A$133,1,2)","v":1},{"$f":"CONCATENATE(\"DME020N2\",'Part numbers'!$E$192)","v":"DME020N2-E"},false,{"$f":"IFERROR(IF((Selection!$G$3/F80)<=1,(ROUNDUP((Selection!$G$3/F80),0))*E80,FALSE),FALSE)","v":2},false,{"$f":"AND($L$45=3,E80=Selection!$C$3)","v":false},false,{"$f":"IFERROR(IF((Selection!$G$12/F80)<=1,(ROUNDUP((Selection!$G$12/F80),0))*E80,FALSE),FALSE)","v":false},{"$f":"AND($L$45=3,E80=Selection!$C$12)","v":false}]
["DME020",{"$f":"CONCATENATE(A81,Selection!$D$28)","v":"DME020 up to 35C"},{"$f":"(VLOOKUP(B81,$A$5:$Y$42,$B$45,FALSE))/Selection!$I$25","v":58.4},{"$f":"(VLOOKUP(B81,$A$5:$Y$42,2,FALSE))/Selection!$I$25","v":12.91},3,{"$f":"C81*E81","v":175.2},{"$f":"D81*E81","v":38.730000000000004},{"$f":"IFERROR(IF(AND(Selection!$G$3/F81<=1,(L81+N81+O81)>=1),Selection!$G$3/F81,\"\"),\"\")","v":""},{"$f":"IFERROR(IF(AND(Selection!$G$12/F81<=1,(P81+N81+R81)>=1),Selection!$G$12/F81,\"\"),\"\")","v":""},{"$f":"IF('Input sheet'!$C$15='factors-pull down'!$A$133,1,2)","v":1},{"$f":"CONCATENATE(\"DME020N2\",'Part numbers'!$E$192)","v":"DME020N2-E"},false,{"$f":"IFERROR(IF((Selection!$G$3/F81)<=1,(ROUNDUP((Selection!$G$3/F81),0))*E81,FALSE),FALSE)","v":3},false,{"$f":"AND($L$45=3,E81=Selection!$C$3)","v":false},false,{"$f":"IFERROR(IF((Selection!$G$12/F81)<=1,(ROUNDUP((Selection!$G$12/F81),0))*E81,FALSE),FALSE)","v":false},{"$f":"AND($L$45=3,E81=Selection!$C$12)","v":false}]
["DME020",{"$f":"CONCATENATE(A82,Selection!$D$28)","v":"DME020 up to 35C"},{"$f":"(VLOOKUP(B82,$A$5:$Y$42,$B$45,FALSE))/Selection!$I$25","v":58.4},{"$f":"(VLOOKUP(B82,$A$5:$Y$42,2,FALSE))/Selection!$I$25","v":12.91},4,{"$f":"C82*E82","v":233.6},{"$f":"D82*E82","v":51.64},{"$f":"IFERROR(IF(AND(Selection!$G$3/F82<=1,(L82+N82+O82)>=1),Selection!$G$3/F82,\"\"),\"\")","v":""},{"$f":"IFERROR(IF(AND(Selection!$G$12/F82<=1,(P82+N82+R82)>=1),Selection!$G$12/F82,\"\"),\"\")","v":""},{"$f":"IF('Input sheet'!$C$15='factors-pull down'!$A$133,1,2)","v":1},{"$f":"CONCATENATE(\"DME020N2\",'Part numbers'!$E$192)","v":"DME020N2-E"},false,{"$f":"IFERROR(IF((Selection!$G$3/F82)<=1,(ROUNDUP((Selection!$G$3/F82),0))*E82,FALSE),FALSE)","v":4},false,{"$f":"AND($L$45=3,E82=Selection!$C$3)","v":false},false,{"$f":"IFERROR(IF((Selection!$G$12/F82)<=1,(ROUNDUP((Selection!$G$12/F82),0))*E82,FALSE),FALSE)","v":4},{"$f":"AND($L$45=3,E82=Selection!$C$12)","v":false}]
["DME020",{"$f":"CONCATENATE(A83,Selection!$D$28)","v":"DME020 up to 35C"},{"$f":"(VLOOKUP(B83,$A$5:$Y$42,$B$45,FALSE))/Selection!$I$25","v":58.4},{"$f":"(VLOOKUP(B83,$A$5:$Y$42,2,FALSE))/Selection!$I$25","v":12.91},5,{"$f":"C83*E83","v":292},{"$f":"D83*E83","v":64.55},{"$f":"IFERROR(IF(AND(Selection!$G$3/F83<=1,(L83+N83+O83)>=1),Selection!$G$3/F83,\"\"),\"\")","v":""},{"$f":"IFERROR(IF(AND(Selection!$G$12/F83<=1,(P83+N83+R83)>=1),Selection!$G$12/F83,\"\"),\"\")","v":""},{"$f":"IF('Input sheet'!$C$15='factors-pull down'!$A$133,1,2)","v":1},{"$f":"CONCATENATE(\"DME020N2\",'Part numbers'!$E$192)","v":"DME020N2-E"},false,{"$f":"IFERROR(IF((Selection!$G$3/F83)<=1,(ROUNDUP((Selection!$G$3/F83),0))*E83,FALSE),FALSE)","v":5},false,{"$f":"AND($L$45=3,E83=Selection!$C$3)","v":false},false,{"$f":"IFERROR(IF((Selection!$G$12/F83)<=1,(ROUNDUP((Selection!$G$12/F83),0))*E83,FALSE),FALSE)","v":5},{"$f":"AND($L$45=3,E83=Selection!$C$12)","v":false}]
["DME020",{"$f":"CONCATENATE(A84,Selection!$D$28)","v":"DME020 up to 35C"},{"$f":"(VLOOKUP(B84,$A$5:$Y$42,$B$45,FALSE))/Selection!$I$25","v":58.4},{"$f":"(VLOOKUP(B84,$A$5:$Y$42,2,FALSE))/Selection!$I$25","v":12.91},6,350.4,77.460000000000008,{"$f":"IFERROR(IF(AND(Selection!$G$3/F84<=1,(L84+N84+O84)>=1),Selection!$G$3/F84,\"\"),\"\")","v":""},{"$f":"IFERROR(IF(AND(Selection!$G$12/F84<=1,(P84+N84+R84)>=1),Selection!$G$12/F84,\"\"),\"\")","v":""},{"$f":"IF('Input sheet'!$C$15='factors-pull down'!$A$133,1,2)","v":1},{"$f":"CONCATENATE(\"DME020N2\",'Part numbers'!$E$192)","v":"DME020N2-E"},false,{"$f":"IFERROR(IF((Selection!$G$3/F84)<=1,(ROUNDUP((Selection!$G$3/F84),0))*E84,FALSE),FALSE)","v":6},false,{"$f":"AND($L$45=3,E84=Selection!$C$3)","v":false},false,{"$f":"IFERROR(IF((Selection!$G$12/F84)<=1,(ROUNDUP((Selection!$G$12/F84),0))*E84,FALSE),FALSE)","v":6},{"$f":"AND($L$45=3,E84=Selection!$C$12)","v":false}]
["DME020",{"$f":"CONCATENATE(A85,Selection!$D$28)","v":"DME020 up to 35C"},{"$f":"(VLOOKUP(B85,$A$5:$Y$42,$B$45,FALSE))/Selection!$I$25","v":58.4},{"$f":"(VLOOKUP(B85,$A$5:$Y$42,2,FALSE))/Selection!$I$25","v":12.91},7,408.8,90.37,{"$f":"IFERROR(IF(AND(Selection!$G$3/F85<=1,(L85+N85+O85)>=1),Selection!$G$3/F85,\"\"),\"\")","v":""},{"$f":"IFERROR(IF(AND(Selection!$G$12/F85<=1,(P85+N85+R85)>=1),Selection!$G$12/F85,\"\"),\"\")","v":""},{"$f":"IF('Input sheet'!$C$15='factors-pull down'!$A$133,1,2)","v":1},{"$f":"CONCATENATE(\"DME020N2\",'Part numbers'!$E$192)","v":"DME020N2-E"},false,{"$f":"IFERROR(IF((Selection!$G$3/F85)<=1,(ROUNDUP((Selection!$G$3/F85),0))*E85,FALSE),FALSE)","v":7},false,{"$f":"AND($L$45=3,E85=Selection!$C$3)","v":false},false,{"$f":"IFERROR(IF((Selection!$G$12/F85)<=1,(ROUNDUP((Selection!$G$12/F85),0))*E85,FALSE),FALSE)","v":7},{"$f":"AND($L$45=3,E85=Selection!$C$12)","v":false}]
["DME020",{"$f":"CONCATENATE(A86,Selection!$D$28)","v":"DME020 up to 35C"},{"$f":"(VLOOKUP(B86,$A$5:$Y$42,$B$45,FALSE))/Selection!$I$25","v":58.4},{"$f":"(VLOOKUP(B86,$A$5:$Y$42,2,FALSE))/Selection!$I$25","v":12.91},8,467.2,103.28,{"$f":"IFERROR(IF(AND(Selection!$G$3/F86<=1,(L86+N86+O86)>=1),Selection!$G$3/F86,\"\"),\"\")","v":""},{"$f":"IFERROR(IF(AND(Selection!$G$12/F86<=1,(P86+N86+R86)>=1),Selection!$G$12/F86,\"\"),\"\")","v":""},{"$f":"IF('Input sheet'!$C$15='factors-pull down'!$A$133,1,2)","v":1},{"$f":"CONCATENATE(\"DME020N2\",'Part numbers'!$E$192)","v":"DME020N2-E"},false,{"$f":"IFERROR(IF((Selection!$G$3/F86)<=1,(ROUNDUP((Selection!$G$3/F86),0))*E86,FALSE),FALSE)","v":8},false,{"$f":"AND($L$45=3,E86=Selection!$C$3)","v":false},false,{"$f":"IFERROR(IF((Selection!$G$12/F86)<=1,(ROUNDUP((Selection!$G$12/F86),0))*E86,FALSE),FALSE)","v":8},{"$f":"AND($L$45=3,E86=Selection!$C$12)","v":false}]
["DME020",{"$f":"CONCATENATE(A87,Selection!$D$28)","v":"DME020 up to 35C"},{"$f":"(VLOOKUP(B87,$A$5:$Y$42,$B$45,FALSE))/Selection!$I$25","v":58.4},{"$f":"(VLOOKUP(B87,$A$5:$Y$42,2,FALSE))/Selection!$I$25","v":12.91},9,{"$f":"C87*E87","v":525.6},{"$f":"D87*E87","v":116.19},{"$f":"IFERROR(IF(AND(Selection!$G$3/F87<=1,(L87+N87+O87)>=1),Selection!$G$3/F87,\"\"),\"\")","v":""},{"$f":"IFERROR(IF(AND(Selection!$G$12/F87<=1,(P87+N87+R87)>=1),Selection!$G$12/F87,\"\"),\"\")","v":""},{"$f":"IF('Input sheet'!$C$15='factors-pull down'!$A$133,1,2)","v":1},{"$f":"CONCATENATE(\"DME020N2\",'Part numbers'!$E$192)","v":"DME020N2-E"},false,{"$f":"IFERROR(IF((Selection!$G$3/F87)<=1,(ROUNDUP((Selection!$G$3/F87),0))*E87,FALSE),FALSE)","v":9},false,{"$f":"AND($L$45=3,E87=Selection!$C$3)","v":false},false,{"$f":"IFERROR(IF((Selection!$G$12/F87)<=1,(ROUNDUP((Selection!$G$12/F87),0))*E87,FALSE),FALSE)","v":9},{"$f":"AND($L$45=3,E87=Selection!$C$12)","v":false}]
["DME020",{"$f":"CONCATENATE(A88,Selection!$D$28)","v":"DME020 up to 35C"},{"$f":"(VLOOKUP(B88,$A$5:$Y$42,$B$45,FALSE))/Selection!$I$25","v":58.4},{"$f":"(VLOOKUP(B88,$A$5:$Y$42,2,FALSE))/Selection!$I$25","v":12.91},10,{"$f":"C88*E88","v":584},{"$f":"D88*E88","v":129.1},{"$f":"IFERROR(IF(AND(Selection!$G$3/F88<=1,(L88+N88+O88)>=1),Selection!$G$3/F88,\"\"),\"\")","v":""},{"$f":"IFERROR(IF(AND(Selection!$G$12/F88<=1,(P88+N88+R88)>=1),Selection!$G$12/F88,\"\"),\"\")","v":""},{"$f":"IF('Input sheet'!$C$15='factors-pull down'!$A$133,1,2)","v":1},{"$f":"CONCATENATE(\"DME020N2\",'Part numbers'!$E$192)","v":"DME020N2-E"},false,{"$f":"IFERROR(IF((Selection!$G$3/F88)<=1,(ROUNDUP((Selection!$G$3/F88),0))*E88,FALSE),FALSE)","v":10},false,{"$f":"AND($L$45=3,E88=Selection!$C$3)","v":false},false,{"$f":"IFERROR(IF((Selection!$G$12/F88)<=1,(ROUNDUP((Selection!$G$12/F88),0))*E88,FALSE),FALSE)","v":10},{"$f":"AND($L$45=3,E88=Selection!$C$12)","v":false}]
["DME025",{"$f":"CONCATENATE(A89,Selection!$D$28)","v":"DME025 up to 35C"},{"$f":"(VLOOKUP(B89,$A$5:$Y$42,$B$45,FALSE))/Selection!$I$25","v":73.91},{"$f":"(VLOOKUP(B89,$A$5:$Y$42,2,FALSE))/Selection!$I$25","v":16.41},1,73.91,16.41,{"$f":"IFERROR(IF(AND(Selection!$G$3/F89<=1,(L89+N89+O89)>=1),Selection!$G$3/F89,\"\"),\"\")","v":0.83344608307400903},{"$f":"IFERROR(IF(AND(Selection!$G$12/F89<=1,(P89+N89+R89)>=1),Selection!$G$12/F89,\"\"),\"\")","v":""},{"$f":"IF('Input sheet'!$C$15='factors-pull down'!$A$133,1,2)","v":1},{"$f":"CONCATENATE(\"DME025N2\",'Part numbers'!$E$192)","v":"DME025N2-E"},false,{"$f":"IFERROR(IF((Selection!$G$3/F89)<=1,(ROUNDUP((Selection!$G$3/F89),0))*E89,FALSE),FALSE)","v":1},false,{"$f":"AND($L$45=3,E89=Selection!$C$3)","v":true},false,{"$f":"IFERROR(IF((Selection!$G$12/F89)<=1,(ROUNDUP((Selection!$G$12/F89),0))*E89,FALSE),FALSE)","v":false},{"$f":"AND($L$45=3,E89=Selection!$C$12)","v":true}]
["DME025",{"$f":"CONCATENATE(A90,Selection!$D$28)","v":"DME025 up to 35C"},{"$f":"(VLOOKUP(B90,$A$5:$Y$42,$B$45,FALSE))/Selection!$I$25","v":73.91},{"$f":"(VLOOKUP(B90,$A$5:$Y$42,2,FALSE))/Selection!$I$25","v":16.41},2,{"$f":"C90*E90","v":147.82},{"$f":"D90*E90","v":32.82},{"$f":"IFERROR(IF(AND(Selection!$G$3/F90<=1,(L90+N90+O90)>=1),Selection!$G$3/F90,\"\"),\"\")","v":""},{"$f":"IFERROR(IF(AND(Selection!$G$12/F90<=1,(P90+N90+R90)>=1),Selection!$G$12/F90,\"\"),\"\")","v":""},{"$f":"IF('Input sheet'!$C$15='factors-pull down'!$A$133,1,2)","v":1},{"$f":"CONCATENATE(\"DME025N2\",'Part numbers'!$E$192)","v":"DME025N2-E"},false,{"$f":"IFERROR(IF((Selection!$G$3/F90)<=1,(ROUNDUP((Selection!$G$3/F90),0))*E90,FALSE),FALSE)","v":2},false,{"$f":"AND($L$45=3,E90=Selection!$C$3)","v":false},false,{"$f":"IFERROR(IF((Selection!$G$12/F90)<=1,(ROUNDUP((Selection!$G$12/F90),0))*E90,FALSE),FALSE)","v":false},{"$f":"AND($L$45=3,E90=Selection!$C$12)","v":false}]
["DME025",{"$f":"CONCATENATE(A91,Selection!$D$28)","v":"DME025 up to 35C"},{"$f":"(VLOOKUP(B91,$A$5:$Y$42,$B$45,FALSE))/Selection!$I$25","v":73.91},{"$f":"(VLOOKUP(B91,$A$5:$Y$42,2,FALSE))/Selection!$I$25","v":16.41},3,{"$f":"C91*E91","v":221.73},{"$f":"D91*E91","v":49.230000000000004},{"$f":"IFERROR(IF(AND(Selection!$G$3/F91<=1,(L91+N91+O91)>=1),Selection!$G$3/F91,\"\"),\"\")","v":""},{"$f":"IFERROR(IF(AND(Selection!$G$12/F91<=1,(P91+N91+R91)>=1),Selection!$G$12/F91,\"\"),\"\")","v":""},{"$f":"IF('Input sheet'!$C$15='factors-pull down'!$A$133,1,2)","v":1},{"$f":"CONCATENATE(\"DME025N2\",'Part numbers'!$E$192)","v":"DME025N2-E"},false,{"$f":"IFERROR(IF((Selection!$G$3/F91)<=1,(ROUNDUP((Selection!$G$3/F91),0))*E91,FALSE),FALSE)","v":3},false,{"$f":"AND($L$45=3,E91=Selection!$C$3)","v":false},false,{"$f":"IFERROR(IF((Selection!$G$12/F91)<=1,(ROUNDUP((Selection!$G$12/F91),0))*E91,FALSE),FALSE)","v":3},{"$f":"AND($L$45=3,E91=Selection!$C$12)","v":false}]
["DME025",{"$f":"CONCATENATE(A92,Selection!$D$28)","v":"DME025 up to 35C"},{"$f":"(VLOOKUP(B92,$A$5:$Y$42,$B$45,FALSE))/Selection!$I$25","v":73.91},{"$f":"(VLOOKUP(B92,$A$5:$Y$42,2,FALSE))/Selection!$I$25","v":16.41},4,295.64,65.64,{"$f":"IFERROR(IF(AND(Selection!$G$3/F92<=1,(L92+N92+O92)>=1),Selection!$G$3/F92,\"\"),\"\")","v":""},{"$f":"IFERROR(IF(AND(Selection!$G$12/F92<=1,(P92+N92+R92)>=1),Selection!$G$12/F92,\"\"),\"\")","v":""},{"$f":"IF('Input sheet'!$C$15='factors-pull down'!$A$133,1,2)","v":1},{"$f":"CONCATENATE(\"DME025N2\",'Part numbers'!$E$192)","v":"DME025N2-E"},false,{"$f":"IFERROR(IF((Selection!$G$3/F92)<=1,(ROUNDUP((Selection!$G$3/F92),0))*E92,FALSE),FALSE)","v":4},false,{"$f":"AND($L$45=3,E92=Selection!$C$3)","v":false},false,{"$f":"IFERROR(IF((Selection!$G$12/F92)<=1,(ROUNDUP((Selection!$G$12/F92),0))*E92,FALSE),FALSE)","v":4},{"$f":"AND($L$45=3,E92=Selection!$C$12)","v":false}]
["DME025",{"$f":"CONCATENATE(A93,Selection!$D$28)","v":"DME025 up to 35C"},{"$f":"(VLOOKUP(B93,$A$5:$Y$42,$B$45,FALSE))/Selection!$I$25","v":73.91},{"$f":"(VLOOKUP(B93,$A$5:$Y$42,2,FALSE))/Selection!$I$25","v":16.41},5,369.54999999999995,82.05,{"$f":"IFERROR(IF(AND(Selection!$G$3/F93<=1,(L93+N93+O93)>=1),Selection!$G$3/F93,\"\"),\"\")","v":""},{"$f":"IFERROR(IF(AND(Selection!$G$12/F93<=1,(P93+N93+R93)>=1),Selection!$G$12/F93,\"\"),\"\")","v":""},{"$f":"IF('Input sheet'!$C$15='factors-pull down'!$A$133,1,2)","v":1},{"$f":"CONCATENATE(\"DME025N2\",'Part numbers'!$E$192)","v":"DME025N2-E"},false,{"$f":"IFERROR(IF((Selection!$G$3/F93)<=1,(ROUNDUP((Selection!$G$3/F93),0))*E93,FALSE),FALSE)","v":5},false,{"$f":"AND($L$45=3,E93=Selection!$C$3)","v":false},false,{"$f":"IFERROR(IF((Selection!$G$12/F93)<=1,(ROUNDUP((Selection!$G$12/F93),0))*E93,FALSE),FALSE)","v":5},{"$f":"AND($L$45=3,E93=Selection!$C$12)","v":false}]
["DME025",{"$f":"CONCATENATE(A94,Selection!$D$28)","v":"DME025 up to 35C"},{"$f":"(VLOOKUP(B94,$A$5:$Y$42,$B$45,FALSE))/Selection!$I$25","v":73.91},{"$f":"(VLOOKUP(B94,$A$5:$Y$42,2,FALSE))/Selection!$I$25","v":16.41},6,443.46,98.460000000000008,{"$f":"IFERROR(IF(AND(Selection!$G$3/F94<=1,(L94+N94+O94)>=1),Selection!$G$3/F94,\"\"),\"\")","v":""},{"$f":"IFERROR(IF(AND(Selection!$G$12/F94<=1,(P94+N94+R94)>=1),Selection!$G$12/F94,\"\"),\"\")","v":""},{"$f":"IF('Input sheet'!$C$15='factors-pull down'!$A$133,1,2)","v":1},{"$f":"CONCATENATE(\"DME025N2\",'Part numbers'!$E$192)","v":"DME025N2-E"},false,{"$f":"IFERROR(IF((Selection!$G$3/F94)<=1,(ROUNDUP((Selection!$G$3/F94),0))*E94,FALSE),FALSE)","v":6},false,{"$f":"AND($L$45=3,E94=Selection!$C$3)","v":false},false,{"$f":"IFERROR(IF((Selection!$G$12/F94)<=1,(ROUNDUP((Selection!$G$12/F94),0))*E94,FALSE),FALSE)","v":6},{"$f":"AND($L$45=3,E94=Selection!$C$12)","v":false}]
["DME025",{"$f":"CONCATENATE(A95,Selection!$D$28)","v":"DME025 up to 35C"},{"$f":"(VLOOKUP(B95,$A$5:$Y$42,$B$45,FALSE))/Selection!$I$25","v":73.91},{"$f":"(VLOOKUP(B95,$A$5:$Y$42,2,FALSE))/Selection!$I$25","v":16.41},7,517.37,114.87,{"$f":"IFERROR(IF(AND(Selection!$G$3/F95<=1,(L95+N95+O95)>=1),Selection!$G$3/F95,\"\"),\"\")","v":""},{"$f":"IFERROR(IF(AND(Selection!$G$12/F95<=1,(P95+N95+R95)>=1),Selection!$G$12/F95,\"\"),\"\")","v":""},{"$f":"IF('Input sheet'!$C$15='factors-pull down'!$A$133,1,2)","v":1},{"$f":"CONCATENATE(\"DME025N2\",'Part numbers'!$E$192)","v":"DME025N2-E"},false,{"$f":"IFERROR(IF((Selection!$G$3/F95)<=1,(ROUNDUP((Selection!$G$3/F95),0))*E95,FALSE),FALSE)","v":7},false,{"$f":"AND($L$45=3,E95=Selection!$C$3)","v":false},false,{"$f":"IFERROR(IF((Selection!$G$12/F95)<=1,(ROUNDUP((Selection!$G$12/F95),0))*E95,FALSE),FALSE)","v":7},{"$f":"AND($L$45=3,E95=Selection!$C$12)","v":false}]
["DME025",{"$f":"CONCATENATE(A96,Selection!$D$28)","v":"DME025 up to 35C"},{"$f":"(VLOOKUP(B96,$A$5:$Y$42,$B$45,FALSE))/Selection!$I$25","v":73.91},{"$f":"(VLOOKUP(B96,$A$5:$Y$42,2,FALSE))/Selection!$I$25","v":16.41},8,591.28,131.28,{"$f":"IFERROR(IF(AND(Selection!$G$3/F96<=1,(L96+N96+O96)>=1),Selection!$G$3/F96,\"\"),\"\")","v":""},{"$f":"IFERROR(IF(AND(Selection!$G$12/F96<=1,(P96+N96+R96)>=1),Selection!$G$12/F96,\"\"),\"\")","v":""},{"$f":"IF('Input sheet'!$C$15='factors-pull down'!$A$133,1,2)","v":1},{"$f":"CONCATENATE(\"DME025N2\",'Part numbers'!$E$192)","v":"DME025N2-E"},false,{"$f":"IFERROR(IF((Selection!$G$3/F96)<=1,(ROUNDUP((Selection!$G$3/F96),0))*E96,FALSE),FALSE)","v":8},false,{"$f":"AND($L$45=3,E96=Selection!$C$3)","v":false},false,{"$f":"IFERROR(IF((Selection!$G$12/F96)<=1,(ROUNDUP((Selection!$G$12/F96),0))*E96,FALSE),FALSE)","v":8},{"$f":"AND($L$45=3,E96=Selection!$C$12)","v":false}]
["DME025",{"$f":"CONCATENATE(A97,Selection!$D$28)","v":"DME025 up to 35C"},{"$f":"(VLOOKUP(B97,$A$5:$Y$42,$B$45,FALSE))/Selection!$I$25","v":73.91},{"$f":"(VLOOKUP(B97,$A$5:$Y$42,2,FALSE))/Selection!$I$25","v":16.41},9,665.18999999999994,147.69,{"$f":"IFERROR(IF(AND(Selection!$G$3/F97<=1,(L97+N97+O97)>=1),Selection!$G$3/F97,\"\"),\"\")","v":""},{"$f":"IFERROR(IF(AND(Selection!$G$12/F97<=1,(P97+N97+R97)>=1),Selection!$G$12/F97,\"\"),\"\")","v":""},{"$f":"IF('Input sheet'!$C$15='factors-pull down'!$A$133,1,2)","v":1},{"$f":"CONCATENATE(\"DME025N2\",'Part numbers'!$E$192)","v":"DME025N2-E"},false,{"$f":"IFERROR(IF((Selection!$G$3/F97)<=1,(ROUNDUP((Selection!$G$3/F97),0))*E97,FALSE),FALSE)","v":9},false,{"$f":"AND($L$45=3,E97=Selection!$C$3)","v":false},false,{"$f":"IFERROR(IF((Selection!$G$12/F97)<=1,(ROUNDUP((Selection!$G$12/F97),0))*E97,FALSE),FALSE)","v":9},{"$f":"AND($L$45=3,E97=Selection!$C$12)","v":false}]
["DME025",{"$f":"CONCATENATE(A98,Selection!$D$28)","v":"DME025 up to 35C"},{"$f":"(VLOOKUP(B98,$A$5:$Y$42,$B$45,FALSE))/Selection!$I$25","v":73.91},{"$f":"(VLOOKUP(B98,$A$5:$Y$42,2,FALSE))/Selection!$I$25","v":16.41},10,739.09999999999991,164.1,{"$f":"IFERROR(IF(AND(Selection!$G$3/F98<=1,(L98+N98+O98)>=1),Selection!$G$3/F98,\"\"),\"\")","v":""},{"$f":"IFERROR(IF(AND(Selection!$G$12/F98<=1,(P98+N98+R98)>=1),Selection!$G$12/F98,\"\"),\"\")","v":""},{"$f":"IF('Input sheet'!$C$15='factors-pull down'!$A$133,1,2)","v":1},{"$f":"CONCATENATE(\"DME025N2\",'Part numbers'!$E$192)","v":"DME025N2-E"},false,{"$f":"IFERROR(IF((Selection!$G$3/F98)<=1,(ROUNDUP((Selection!$G$3/F98),0))*E98,FALSE),FALSE)","v":10},false,{"$f":"AND($L$45=3,E98=Selection!$C$3)","v":false},false,{"$f":"IFERROR(IF((Selection!$G$12/F98)<=1,(ROUNDUP((Selection!$G$12/F98),0))*E98,FALSE),FALSE)","v":10},{"$f":"AND($L$45=3,E98=Selection!$C$12)","v":false}]
["DME030",{"$f":"CONCATENATE(A99,Selection!$D$28)","v":"DME030 up to 35C"},{"$f":"(VLOOKUP(B99,$A$5:$Y$42,$B$45,FALSE))/Selection!$I$25","v":90.56},{"$f":"(VLOOKUP(B99,$A$5:$Y$42,2,FALSE))/Selection!$I$25","v":19.88},1,90.56,19.88,{"$f":"IFERROR(IF(AND(Selection!$G$3/F99<=1,(L99+N99+O99)>=1),Selection!$G$3/F99,\"\"),\"\")","v":0.68021201413427557},{"$f":"IFERROR(IF(AND(Selection!$G$12/F99<=1,(P99+N99+R99)>=1),Selection!$G$12/F99,\"\"),\"\")","v":""},{"$f":"IF('Input sheet'!$C$15='factors-pull down'!$A$133,1,2)","v":1},{"$f":"CONCATENATE(\"DME030N2\",'Part numbers'!$E$192)","v":"DME030N2-E"},false,{"$f":"IFERROR(IF((Selection!$G$3/F99)<=1,(ROUNDUP((Selection!$G$3/F99),0))*E99,FALSE),FALSE)","v":1},false,{"$f":"AND($L$45=3,E99=Selection!$C$3)","v":true},false,{"$f":"IFERROR(IF((Selection!$G$12/F99)<=1,(ROUNDUP((Selection!$G$12/F99),0))*E99,FALSE),FALSE)","v":false},{"$f":"AND($L$45=3,E99=Selection!$C$12)","v":true}]
["DME030",{"$f":"CONCATENATE(A100,Selection!$D$28)","v":"DME030 up to 35C"},{"$f":"(VLOOKUP(B100,$A$5:$Y$42,$B$45,FALSE))/Selection!$I$25","v":90.56},{"$f":"(VLOOKUP(B100,$A$5:$Y$42,2,FALSE))/Selection!$I$25","v":19.88},2,{"$f":"C100*E100","v":181.12},{"$f":"D100*E100","v":39.76},{"$f":"IFERROR(IF(AND(Selection!$G$3/F100<=1,(L100+N100+O100)>=1),Selection!$G$3/F100,\"\"),\"\")","v":""},{"$f":"IFERROR(IF(AND(Selection!$G$12/F100<=1,(P100+N100+R100)>=1),Selection!$G$12/F100,\"\"),\"\")","v":""},{"$f":"IF('Input sheet'!$C$15='factors-pull down'!$A$133,1,2)","v":1},{"$f":"CONCATENATE(\"DME030N2\",'Part numbers'!$E$192)","v":"DME030N2-E"},false,{"$f":"IFERROR(IF((Selection!$G$3/F100)<=1,(ROUNDUP((Selection!$G$3/F100),0))*E100,FALSE),FALSE)","v":2},false,{"$f":"AND($L$45=3,E100=Selection!$C$3)","v":false},false,{"$f":"IFERROR(IF((Selection!$G$12/F100)<=1,(ROUNDUP((Selection!$G$12/F100),0))*E100,FALSE),FALSE)","v":false},{"$f":"AND($L$45=3,E100=Selection!$C$12)","v":false}]
["DME030",{"$f":"CONCATENATE(A101,Selection!$D$28)","v":"DME030 up to 35C"},{"$f":"(VLOOKUP(B101,$A$5:$Y$42,$B$45,FALSE))/Selection!$I$25","v":90.56},{"$f":"(VLOOKUP(B101,$A$5:$Y$42,2,FALSE))/Selection!$I$25","v":19.88},3,{"$f":"C101*E101","v":271.68},{"$f":"D101*E101","v":59.64},{"$f":"IFERROR(IF(AND(Selection!$G$3/F101<=1,(L101+N101+O101)>=1),Selection!$G$3/F101,\"\"),\"\")","v":""},{"$f":"IFERROR(IF(AND(Selection!$G$12/F101<=1,(P101+N101+R101)>=1),Selection!$G$12/F101,\"\"),\"\")","v":""},{"$f":"IF('Input sheet'!$C$15='factors-pull down'!$A$133,1,2)","v":1},{"$f":"CONCATENATE(\"DME030N2\",'Part numbers'!$E$192)","v":"DME030N2-E"},false,{"$f":"IFERROR(IF((Selection!$G$3/F101)<=1,(ROUNDUP((Selection!$G$3/F101),0))*E101,FALSE),FALSE)","v":3},false,{"$f":"AND($L$45=3,E101=Selection!$C$3)","v":false},false,{"$f":"IFERROR(IF((Selection!$G$12/F101)<=1,(ROUNDUP((Selection!$G$12/F101),0))*E101,FALSE),FALSE)","v":3},{"$f":"AND($L$45=3,E101=Selection!$C$12)","v":false}]
["DME030",{"$f":"CONCATENATE(A102,Selection!$D$28)","v":"DME030 up to 35C"},{"$f":"(VLOOKUP(B102,$A$5:$Y$42,$B$45,FALSE))/Selection!$I$25","v":90.56},{"$f":"(VLOOKUP(B102,$A$5:$Y$42,2,FALSE))/Selection!$I$25","v":19.88},4,362.24,79.52,{"$f":"IFERROR(IF(AND(Selection!$G$3/F102<=1,(L102+N102+O102)>=1),Selection!$G$3/F102,\"\"),\"\")","v":""},{"$f":"IFERROR(IF(AND(Selection!$G$12/F102<=1,(P102+N102+R102)>=1),Selection!$G$12/F102,\"\"),\"\")","v":""},{"$f":"IF('Input sheet'!$C$15='factors-pull down'!$A$133,1,2)","v":1},{"$f":"CONCATENATE(\"DME030N2\",'Part numbers'!$E$192)","v":"DME030N2-E"},false,{"$f":"IFERROR(IF((Selection!$G$3/F102)<=1,(ROUNDUP((Selection!$G$3/F102),0))*E102,FALSE),FALSE)","v":4},false,{"$f":"AND($L$45=3,E102=Selection!$C$3)","v":false},false,{"$f":"IFERROR(IF((Selection!$G$12/F102)<=1,(ROUNDUP((Selection!$G$12/F102),0))*E102,FALSE),FALSE)","v":4},{"$f":"AND($L$45=3,E102=Selection!$C$12)","v":false}]
["DME030",{"$f":"CONCATENATE(A103,Selection!$D$28)","v":"DME030 up to 35C"},{"$f":"(VLOOKUP(B103,$A$5:$Y$42,$B$45,FALSE))/Selection!$I$25","v":90.56},{"$f":"(VLOOKUP(B103,$A$5:$Y$42,2,FALSE))/Selection!$I$25","v":19.88},5,452.8,99.399999999999991,{"$f":"IFERROR(IF(AND(Selection!$G$3/F103<=1,(L103+N103+O103)>=1),Selection!$G$3/F103,\"\"),\"\")","v":""},{"$f":"IFERROR(IF(AND(Selection!$G$12/F103<=1,(P103+N103+R103)>=1),Selection!$G$12/F103,\"\"),\"\")","v":""},{"$f":"IF('Input sheet'!$C$15='factors-pull down'!$A$133,1,2)","v":1},{"$f":"CONCATENATE(\"DME030N2\",'Part numbers'!$E$192)","v":"DME030N2-E"},false,{"$f":"IFERROR(IF((Selection!$G$3/F103)<=1,(ROUNDUP((Selection!$G$3/F103),0))*E103,FALSE),FALSE)","v":5},false,{"$f":"AND($L$45=3,E103=Selection!$C$3)","v":false},false,{"$f":"IFERROR(IF((Selection!$G$12/F103)<=1,(ROUNDUP((Selection!$G$12/F103),0))*E103,FALSE),FALSE)","v":5},{"$f":"AND($L$45=3,E103=Selection!$C$12)","v":false}]
["DME030",{"$f":"CONCATENATE(A104,Selection!$D$28)","v":"DME030 up to 35C"},{"$f":"(VLOOKUP(B104,$A$5:$Y$42,$B$45,FALSE))/Selection!$I$25","v":90.56},{"$f":"(VLOOKUP(B104,$A$5:$Y$42,2,FALSE))/Selection!$I$25","v":19.88},6,543.36,119.28,{"$f":"IFERROR(IF(AND(Selection!$G$3/F104<=1,(L104+N104+O104)>=1),Selection!$G$3/F104,\"\"),\"\")","v":""},{"$f":"IFERROR(IF(AND(Selection!$G$12/F104<=1,(P104+N104+R104)>=1),Selection!$G$12/F104,\"\"),\"\")","v":""},{"$f":"IF('Input sheet'!$C$15='factors-pull down'!$A$133,1,2)","v":1},{"$f":"CONCATENATE(\"DME030N2\",'Part numbers'!$E$192)","v":"DME030N2-E"},false,{"$f":"IFERROR(IF((Selection!$G$3/F104)<=1,(ROUNDUP((Selection!$G$3/F104),0))*E104,FALSE),FALSE)","v":6},false,{"$f":"AND($L$45=3,E104=Selection!$C$3)","v":false},false,{"$f":"IFERROR(IF((Selection!$G$12/F104)<=1,(ROUNDUP((Selection!$G$12/F104),0))*E104,FALSE),FALSE)","v":6},{"$f":"AND($L$45=3,E104=Selection!$C$12)","v":false}]
["DME030",{"$f":"CONCATENATE(A105,Selection!$D$28)","v":"DME030 up to 35C"},{"$f":"(VLOOKUP(B105,$A$5:$Y$42,$B$45,FALSE))/Selection!$I$25","v":90.56},{"$f":"(VLOOKUP(B105,$A$5:$Y$42,2,FALSE))/Selection!$I$25","v":19.88},7,633.92000000000007,139.16,{"$f":"IFERROR(IF(AND(Selection!$G$3/F105<=1,(L105+N105+O105)>=1),Selection!$G$3/F105,\"\"),\"\")","v":""},{"$f":"IFERROR(IF(AND(Selection!$G$12/F105<=1,(P105+N105+R105)>=1),Selection!$G$12/F105,\"\"),\"\")","v":""},{"$f":"IF('Input sheet'!$C$15='factors-pull down'!$A$133,1,2)","v":1},{"$f":"CONCATENATE(\"DME030N2\",'Part numbers'!$E$192)","v":"DME030N2-E"},false,{"$f":"IFERROR(IF((Selection!$G$3/F105)<=1,(ROUNDUP((Selection!$G$3/F105),0))*E105,FALSE),FALSE)","v":7},false,{"$f":"AND($L$45=3,E105=Selection!$C$3)","v":false},false,{"$f":"IFERROR(IF((Selection!$G$12/F105)<=1,(ROUNDUP((Selection!$G$12/F105),0))*E105,FALSE),FALSE)","v":7},{"$f":"AND($L$45=3,E105=Selection!$C$12)","v":false}]
["DME030",{"$f":"CONCATENATE(A106,Selection!$D$28)","v":"DME030 up to 35C"},{"$f":"(VLOOKUP(B106,$A$5:$Y$42,$B$45,FALSE))/Selection!$I$25","v":90.56},{"$f":"(VLOOKUP(B106,$A$5:$Y$42,2,FALSE))/Selection!$I$25","v":19.88},8,724.48,159.04,{"$f":"IFERROR(IF(AND(Selection!$G$3/F106<=1,(L106+N106+O106)>=1),Selection!$G$3/F106,\"\"),\"\")","v":""},{"$f":"IFERROR(IF(AND(Selection!$G$12/F106<=1,(P106+N106+R106)>=1),Selection!$G$12/F106,\"\"),\"\")","v":""},{"$f":"IF('Input sheet'!$C$15='factors-pull down'!$A$133,1,2)","v":1},{"$f":"CONCATENATE(\"DME030N2\",'Part numbers'!$E$192)","v":"DME030N2-E"},false,{"$f":"IFERROR(IF((Selection!$G$3/F106)<=1,(ROUNDUP((Selection!$G$3/F106),0))*E106,FALSE),FALSE)","v":8},false,{"$f":"AND($L$45=3,E106=Selection!$C$3)","v":false},false,{"$f":"IFERROR(IF((Selection!$G$12/F106)<=1,(ROUNDUP((Selection!$G$12/F106),0))*E106,FALSE),FALSE)","v":8},{"$f":"AND($L$45=3,E106=Selection!$C$12)","v":false}]
["DME030",{"$f":"CONCATENATE(A107,Selection!$D$28)","v":"DME030 up to 35C"},{"$f":"(VLOOKUP(B107,$A$5:$Y$42,$B$45,FALSE))/Selection!$I$25","v":90.56},{"$f":"(VLOOKUP(B107,$A$5:$Y$42,2,FALSE))/Selection!$I$25","v":19.88},9,815.04,178.92,{"$f":"IFERROR(IF(AND(Selection!$G$3/F107<=1,(L107+N107+O107)>=1),Selection!$G$3/F107,\"\"),\"\")","v":""},{"$f":"IFERROR(IF(AND(Selection!$G$12/F107<=1,(P107+N107+R107)>=1),Selection!$G$12/F107,\"\"),\"\")","v":""},{"$f":"IF('Input sheet'!$C$15='factors-pull down'!$A$133,1,2)","v":1},{"$f":"CONCATENATE(\"DME030N2\",'Part numbers'!$E$192)","v":"DME030N2-E"},false,{"$f":"IFERROR(IF((Selection!$G$3/F107)<=1,(ROUNDUP((Selection!$G$3/F107),0))*E107,FALSE),FALSE)","v":9},false,{"$f":"AND($L$45=3,E107=Selection!$C$3)","v":false},false,{"$f":"IFERROR(IF((Selection!$G$12/F107)<=1,(ROUNDUP((Selection!$G$12/F107),0))*E107,FALSE),FALSE)","v":9},{"$f":"AND($L$45=3,E107=Selection!$C$12)","v":false}]
["DME030",{"$f":"CONCATENATE(A108,Selection!$D$28)","v":"DME030 up to 35C"},{"$f":"(VLOOKUP(B108,$A$5:$Y$42,$B$45,FALSE))/Selection!$I$25","v":90.56},{"$f":"(VLOOKUP(B108,$A$5:$Y$42,2,FALSE))/Selection!$I$25","v":19.88},10,905.6,198.79999999999998,{"$f":"IFERROR(IF(AND(Selection!$G$3/F108<=1,(L108+N108+O108)>=1),Selection!$G$3/F108,\"\"),\"\")","v":""},{"$f":"IFERROR(IF(AND(Selection!$G$12/F108<=1,(P108+N108+R108)>=1),Selection!$G$12/F108,\"\"),\"\")","v":""},{"$f":"IF('Input sheet'!$C$15='factors-pull down'!$A$133,1,2)","v":1},{"$f":"CONCATENATE(\"DME030N2\",'Part numbers'!$E$192)","v":"DME030N2-E"},false,{"$f":"IFERROR(IF((Selection!$G$3/F108)<=1,(ROUNDUP((Selection!$G$3/F108),0))*E108,FALSE),FALSE)","v":10},false,{"$f":"AND($L$45=3,E108=Selection!$C$3)","v":false},false,{"$f":"IFERROR(IF((Selection!$G$12/F108)<=1,(ROUNDUP((Selection!$G$12/F108),0))*E108,FALSE),FALSE)","v":10},{"$f":"AND($L$45=3,E108=Selection!$C$12)","v":false}]
["DME040",{"$f":"CONCATENATE(A109,Selection!$D$28)","v":"DME040 up to 35C"},{"$f":"(VLOOKUP(B109,$A$5:$Y$42,$B$45,FALSE))/Selection!$I$25","v":122.67},{"$f":"(VLOOKUP(B109,$A$5:$Y$42,2,FALSE))/Selection!$I$25","v":26.64},1,122.67,26.64,{"$f":"IFERROR(IF(AND(Selection!$G$3/F109<=1,(L109+N109+O109)>=1),Selection!$G$3/F109,\"\"),\"\")","v":0.50216026738403852},{"$f":"IFERROR(IF(AND(Selection!$G$12/F109<=1,(P109+N109+R109)>=1),Selection!$G$12/F109,\"\"),\"\")","v":""},{"$f":"IF('Input sheet'!$C$15='factors-pull down'!$A$133,1,2)","v":1},{"$f":"CONCATENATE(\"DME040N2\",'Part numbers'!$E$192)","v":"DME040N2-E"},false,{"$f":"IFERROR(IF((Selection!$G$3/F109)<=1,(ROUNDUP((Selection!$G$3/F109),0))*E109,FALSE),FALSE)","v":1},false,{"$f":"AND($L$45=3,E109=Selection!$C$3)","v":true},false,{"$f":"IFERROR(IF((Selection!$G$12/F109)<=1,(ROUNDUP((Selection!$G$12/F109),0))*E109,FALSE),FALSE)","v":false},{"$f":"AND($L$45=3,E109=Selection!$C$12)","v":true}]
["DME040",{"$f":"CONCATENATE(A110,Selection!$D$28)","v":"DME040 up to 35C"},{"$f":"(VLOOKUP(B110,$A$5:$Y$42,$B$45,FALSE))/Selection!$I$25","v":122.67},{"$f":"(VLOOKUP(B110,$A$5:$Y$42,2,FALSE))/Selection!$I$25","v":26.64},2,{"$f":"C110*E110","v":245.34},{"$f":"D110*E110","v":53.28},{"$f":"IFERROR(IF(AND(Selection!$G$3/F110<=1,(L110+N110+O110)>=1),Selection!$G$3/F110,\"\"),\"\")","v":""},{"$f":"IFERROR(IF(AND(Selection!$G$12/F110<=1,(P110+N110+R110)>=1),Selection!$G$12/F110,\"\"),\"\")","v":""},{"$f":"IF('Input sheet'!$C$15='factors-pull down'!$A$133,1,2)","v":1},{"$f":"CONCATENATE(\"DME040N2\",'Part numbers'!$E$192)","v":"DME040N2-E"},false,{"$f":"IFERROR(IF((Selection!$G$3/F110)<=1,(ROUNDUP((Selection!$G$3/F110),0))*E110,FALSE),FALSE)","v":2},false,{"$f":"AND($L$45=3,E110=Selection!$C$3)","v":false},false,{"$f":"IFERROR(IF((Selection!$G$12/F110)<=1,(ROUNDUP((Selection!$G$12/F110),0))*E110,FALSE),FALSE)","v":2},{"$f":"AND($L$45=3,E110=Selection!$C$12)","v":false}]
["DME040",{"$f":"CONCATENATE(A111,Selection!$D$28)","v":"DME040 up to 35C"},{"$f":"(VLOOKUP(B111,$A$5:$Y$42,$B$45,FALSE))/Selection!$I$25","v":122.67},{"$f":"(VLOOKUP(B111,$A$5:$Y$42,2,FALSE))/Selection!$I$25","v":26.64},3,{"$f":"C111*E111","v":368.01},{"$f":"D111*E111","v":79.92},{"$f":"IFERROR(IF(AND(Selection!$G$3/F111<=1,(L111+N111+O111)>=1),Selection!$G$3/F111,\"\"),\"\")","v":""},{"$f":"IFERROR(IF(AND(Selection!$G$12/F111<=1,(P111+N111+R111)>=1),Selection!$G$12/F111,\"\"),\"\")","v":""},{"$f":"IF('Input sheet'!$C$15='factors-pull down'!$A$133,1,2)","v":1},{"$f":"CONCATENATE(\"DME040N2\",'Part numbers'!$E$192)","v":"DME040N2-E"},{"$f":"AND($L$45=1,E111=$M$45)","v":false},{"$f":"IFERROR(IF((Selection!$G$3/F111)<=1,(ROUNDUP((Selection!$G$3/F111),0))*E111,FALSE),FALSE)","v":3},{"$f":"AND($L$45=2,E111=2)","v":false},{"$f":"AND($L$45=3,E111=Selection!$C$3)","v":false},false,{"$f":"IFERROR(IF((Selection!$G$12/F111)<=1,(ROUNDUP((Selection!$G$12/F111),0))*E111,FALSE),FALSE)","v":3},{"$f":"AND($L$45=3,E111=Selection!$C$12)","v":false}]
["DME040",{"$f":"CONCATENATE(A112,Selection!$D$28)","v":"DME040 up to 35C"},{"$f":"(VLOOKUP(B112,$A$5:$Y$42,$B$45,FALSE))/Selection!$I$25","v":122.67},{"$f":"(VLOOKUP(B112,$A$5:$Y$42,2,FALSE))/Selection!$I$25","v":26.64},4,490.68,106.56,{"$f":"IFERROR(IF(AND(Selection!$G$3/F112<=1,(L112+N112+O112)>=1),Selection!$G$3/F112,\"\"),\"\")","v":""},{"$f":"IFERROR(IF(AND(Selection!$G$12/F112<=1,(P112+N112+R112)>=1),Selection!$G$12/F112,\"\"),\"\")","v":""},{"$f":"IF('Input sheet'!$C$15='factors-pull down'!$A$133,1,2)","v":1},{"$f":"CONCATENATE(\"DME040N2\",'Part numbers'!$E$192)","v":"DME040N2-E"},false,{"$f":"IFERROR(IF((Selection!$G$3/F112)<=1,(ROUNDUP((Selection!$G$3/F112),0))*E112,FALSE),FALSE)","v":4},false,{"$f":"AND($L$45=3,E112=Selection!$C$3)","v":false},{"$f":"AND($L$45=1,E112=$Q$45)","v":false},{"$f":"IFERROR(IF((Selection!$G$12/F112)<=1,(ROUNDUP((Selection!$G$12/F112),0))*E112,FALSE),FALSE)","v":4},{"$f":"AND($L$45=3,E112=Selection!$C$12)","v":false}]
["DME040",{"$f":"CONCATENATE(A113,Selection!$D$28)","v":"DME040 up to 35C"},{"$f":"(VLOOKUP(B113,$A$5:$Y$42,$B$45,FALSE))/Selection!$I$25","v":122.67},{"$f":"(VLOOKUP(B113,$A$5:$Y$42,2,FALSE))/Selection!$I$25","v":26.64},5,613.35,133.19999999999999,{"$f":"IFERROR(IF(AND(Selection!$G$3/F113<=1,(L113+N113+O113)>=1),Selection!$G$3/F113,\"\"),\"\")","v":""},{"$f":"IFERROR(IF(AND(Selection!$G$12/F113<=1,(P113+N113+R113)>=1),Selection!$G$12/F113,\"\"),\"\")","v":""},{"$f":"IF('Input sheet'!$C$15='factors-pull down'!$A$133,1,2)","v":1},{"$f":"CONCATENATE(\"DME040N2\",'Part numbers'!$E$192)","v":"DME040N2-E"},false,{"$f":"IFERROR(IF((Selection!$G$3/F113)<=1,(ROUNDUP((Selection!$G$3/F113),0))*E113,FALSE),FALSE)","v":5},false,{"$f":"AND($L$45=3,E113=Selection!$C$3)","v":false},false,{"$f":"IFERROR(IF((Selection!$G$12/F113)<=1,(ROUNDUP((Selection!$G$12/F113),0))*E113,FALSE),FALSE)","v":5},{"$f":"AND($L$45=3,E113=Selection!$C$12)","v":false}]
["DME040",{"$f":"CONCATENATE(A114,Selection!$D$28)","v":"DME040 up to 35C"},{"$f":"(VLOOKUP(B114,$A$5:$Y$42,$B$45,FALSE))/Selection!$I$25","v":122.67},{"$f":"(VLOOKUP(B114,$A$5:$Y$42,2,FALSE))/Selection!$I$25","v":26.64},6,736.02,159.84,{"$f":"IFERROR(IF(AND(Selection!$G$3/F114<=1,(L114+N114+O114)>=1),Selection!$G$3/F114,\"\"),\"\")","v":""},{"$f":"IFERROR(IF(AND(Selection!$G$12/F114<=1,(P114+N114+R114)>=1),Selection!$G$12/F114,\"\"),\"\")","v":""},{"$f":"IF('Input sheet'!$C$15='factors-pull down'!$A$133,1,2)","v":1},{"$f":"CONCATENATE(\"DME040N2\",'Part numbers'!$E$192)","v":"DME040N2-E"},false,{"$f":"IFERROR(IF((Selection!$G$3/F114)<=1,(ROUNDUP((Selection!$G$3/F114),0))*E114,FALSE),FALSE)","v":6},false,{"$f":"AND($L$45=3,E114=Selection!$C$3)","v":false},false,{"$f":"IFERROR(IF((Selection!$G$12/F114)<=1,(ROUNDUP((Selection!$G$12/F114),0))*E114,FALSE),FALSE)","v":6},{"$f":"AND($L$45=3,E114=Selection!$C$12)","v":false}]
["DME040",{"$f":"CONCATENATE(A115,Selection!$D$28)","v":"DME040 up to 35C"},{"$f":"(VLOOKUP(B115,$A$5:$Y$42,$B$45,FALSE))/Selection!$I$25","v":122.67},{"$f":"(VLOOKUP(B115,$A$5:$Y$42,2,FALSE))/Selection!$I$25","v":26.64},7,858.69,186.48000000000002,{"$f":"IFERROR(IF(AND(Selection!$G$3/F115<=1,(L115+N115+O115)>=1),Selection!$G$3/F115,\"\"),\"\")","v":""},{"$f":"IFERROR(IF(AND(Selection!$G$12/F115<=1,(P115+N115+R115)>=1),Selection!$G$12/F115,\"\"),\"\")","v":""},{"$f":"IF('Input sheet'!$C$15='factors-pull down'!$A$133,1,2)","v":1},{"$f":"CONCATENATE(\"DME040N2\",'Part numbers'!$E$192)","v":"DME040N2-E"},false,{"$f":"IFERROR(IF((Selection!$G$3/F115)<=1,(ROUNDUP((Selection!$G$3/F115),0))*E115,FALSE),FALSE)","v":7},false,{"$f":"AND($L$45=3,E115=Selection!$C$3)","v":false},false,{"$f":"IFERROR(IF((Selection!$G$12/F115)<=1,(ROUNDUP((Selection!$G$12/F115),0))*E115,FALSE),FALSE)","v":7},{"$f":"AND($L$45=3,E115=Selection!$C$12)","v":false}]
["DME040",{"$f":"CONCATENATE(A116,Selection!$D$28)","v":"DME040 up to 35C"},{"$f":"(VLOOKUP(B116,$A$5:$Y$42,$B$45,FALSE))/Selection!$I$25","v":122.67},{"$f":"(VLOOKUP(B116,$A$5:$Y$42,2,FALSE))/Selection!$I$25","v":26.64},8,981.36,213.12,{"$f":"IFERROR(IF(AND(Selection!$G$3/F116<=1,(L116+N116+O116)>=1),Selection!$G$3/F116,\"\"),\"\")","v":""},{"$f":"IFERROR(IF(AND(Selection!$G$12/F116<=1,(P116+N116+R116)>=1),Selection!$G$12/F116,\"\"),\"\")","v":""},{"$f":"IF('Input sheet'!$C$15='factors-pull down'!$A$133,1,2)","v":1},{"$f":"CONCATENATE(\"DME040N2\",'Part numbers'!$E$192)","v":"DME040N2-E"},false,{"$f":"IFERROR(IF((Selection!$G$3/F116)<=1,(ROUNDUP((Selection!$G$3/F116),0))*E116,FALSE),FALSE)","v":8},false,{"$f":"AND($L$45=3,E116=Selection!$C$3)","v":false},false,{"$f":"IFERROR(IF((Selection!$G$12/F116)<=1,(ROUNDUP((Selection!$G$12/F116),0))*E116,FALSE),FALSE)","v":8},{"$f":"AND($L$45=3,E116=Selection!$C$12)","v":false}]
["DME040",{"$f":"CONCATENATE(A117,Selection!$D$28)","v":"DME040 up to 35C"},{"$f":"(VLOOKUP(B117,$A$5:$Y$42,$B$45,FALSE))/Selection!$I$25","v":122.67},{"$f":"(VLOOKUP(B117,$A$5:$Y$42,2,FALSE))/Selection!$I$25","v":26.64},9,1104.03,239.76,{"$f":"IFERROR(IF(AND(Selection!$G$3/F117<=1,(L117+N117+O117)>=1),Selection!$G$3/F117,\"\"),\"\")","v":""},{"$f":"IFERROR(IF(AND(Selection!$G$12/F117<=1,(P117+N117+R117)>=1),Selection!$G$12/F117,\"\"),\"\")","v":""},{"$f":"IF('Input sheet'!$C$15='factors-pull down'!$A$133,1,2)","v":1},{"$f":"CONCATENATE(\"DME040N2\",'Part numbers'!$E$192)","v":"DME040N2-E"},false,{"$f":"IFERROR(IF((Selection!$G$3/F117)<=1,(ROUNDUP((Selection!$G$3/F117),0))*E117,FALSE),FALSE)","v":9},false,{"$f":"AND($L$45=3,E117=Selection!$C$3)","v":false},false,{"$f":"IFERROR(IF((Selection!$G$12/F117)<=1,(ROUNDUP((Selection!$G$12/F117),0))*E117,FALSE),FALSE)","v":9},{"$f":"AND($L$45=3,E117=Selection!$C$12)","v":false}]
["DME040",{"$f":"CONCATENATE(A118,Selection!$D$28)","v":"DME040 up to 35C"},{"$f":"(VLOOKUP(B118,$A$5:$Y$42,$B$45,FALSE))/Selection!$I$25","v":122.67},{"$f":"(VLOOKUP(B118,$A$5:$Y$42,2,FALSE))/Selection!$I$25","v":26.64},10,1226.7,266.39999999999998,{"$f":"IFERROR(IF(AND(Selection!$G$3/F118<=1,(L118+N118+O118)>=1),Selection!$G$3/F118,\"\"),\"\")","v":""},{"$f":"IFERROR(IF(AND(Selection!$G$12/F118<=1,(P118+N118+R118)>=1),Selection!$G$12/F118,\"\"),\"\")","v":""},{"$f":"IF('Input sheet'!$C$15='factors-pull down'!$A$133,1,2)","v":1},{"$f":"CONCATENATE(\"DME040N2\",'Part numbers'!$E$192)","v":"DME040N2-E"},false,{"$f":"IFERROR(IF((Selection!$G$3/F118)<=1,(ROUNDUP((Selection!$G$3/F118),0))*E118,FALSE),FALSE)","v":10},false,{"$f":"AND($L$45=3,E118=Selection!$C$3)","v":false},false,{"$f":"IFERROR(IF((Selection!$G$12/F118)<=1,(ROUNDUP((Selection!$G$12/F118),0))*E118,FALSE),FALSE)","v":10},{"$f":"AND($L$45=3,E118=Selection!$C$12)","v":false}]
["DME050",{"$f":"CONCATENATE(A119,Selection!$D$28)","v":"DME050 up to 35C"},{"$f":"(VLOOKUP(B119,$A$5:$Y$42,$B$45,FALSE))/Selection!$I$25","v":147.81},{"$f":"(VLOOKUP(B119,$A$5:$Y$42,2,FALSE))/Selection!$I$25","v":32.28},1,147.81,32.28,{"$f":"IFERROR(IF(AND(Selection!$G$3/F119<=1,(L119+N119+O119)>=1),Selection!$G$3/F119,\"\"),\"\")","v":0.4167512346931872},{"$f":"IFERROR(IF(AND(Selection!$G$12/F119<=1,(P119+N119+R119)>=1),Selection!$G$12/F119,\"\"),\"\")","v":""},{"$f":"IF('Input sheet'!$C$15='factors-pull down'!$A$133,1,2)","v":1},{"$f":"CONCATENATE(\"DME050N2\",'Part numbers'!$E$192)","v":"DME050N2-E"},false,{"$f":"IFERROR(IF((Selection!$G$3/F119)<=1,(ROUNDUP((Selection!$G$3/F119),0))*E119,FALSE),FALSE)","v":1},false,{"$f":"AND($L$45=3,E119=Selection!$C$3)","v":true},false,{"$f":"IFERROR(IF((Selection!$G$12/F119)<=1,(ROUNDUP((Selection!$G$12/F119),0))*E119,FALSE),FALSE)","v":false},{"$f":"AND($L$45=3,E119=Selection!$C$12)","v":true}]
["DME050",{"$f":"CONCATENATE(A120,Selection!$D$28)","v":"DME050 up to 35C"},{"$f":"(VLOOKUP(B120,$A$5:$Y$42,$B$45,FALSE))/Selection!$I$25","v":147.81},{"$f":"(VLOOKUP(B120,$A$5:$Y$42,2,FALSE))/Selection!$I$25","v":32.28},2,{"$f":"C120*E120","v":295.62},{"$f":"D120*E120","v":64.56},{"$f":"IFERROR(IF(AND(Selection!$G$3/F120<=1,(L120+N120+O120)>=1),Selection!$G$3/F120,\"\"),\"\")","v":""},{"$f":"IFERROR(IF(AND(Selection!$G$12/F120<=1,(P120+N120+R120)>=1),Selection!$G$12/F120,\"\"),\"\")","v":""},{"$f":"IF('Input sheet'!$C$15='factors-pull down'!$A$133,1,2)","v":1},{"$f":"CONCATENATE(\"DME050N2\",'Part numbers'!$E$192)","v":"DME050N2-E"},false,{"$f":"IFERROR(IF((Selection!$G$3/F120)<=1,(ROUNDUP((Selection!$G$3/F120),0))*E120,FALSE),FALSE)","v":2},false,{"$f":"AND($L$45=3,E120=Selection!$C$3)","v":false},false,{"$f":"IFERROR(IF((Selection!$G$12/F120)<=1,(ROUNDUP((Selection!$G$12/F120),0))*E120,FALSE),FALSE)","v":2},{"$f":"AND($L$45=3,E120=Selection!$C$12)","v":false}]
["DME050",{"$f":"CONCATENATE(A121,Selection!$D$28)","v":"DME050 up to 35C"},{"$f":"(VLOOKUP(B121,$A$5:$Y$42,$B$45,FALSE))/Selection!$I$25","v":147.81},{"$f":"(VLOOKUP(B121,$A$5:$Y$42,2,FALSE))/Selection!$I$25","v":32.28},3,443.43,96.84,{"$f":"IFERROR(IF(AND(Selection!$G$3/F121<=1,(L121+N121+O121)>=1),Selection!$G$3/F121,\"\"),\"\")","v":""},{"$f":"IFERROR(IF(AND(Selection!$G$12/F121<=1,(P121+N121+R121)>=1),Selection!$G$12/F121,\"\"),\"\")","v":""},{"$f":"IF('Input sheet'!$C$15='factors-pull down'!$A$133,1,2)","v":1},{"$f":"CONCATENATE(\"DME050N2\",'Part numbers'!$E$192)","v":"DME050N2-E"},false,{"$f":"IFERROR(IF((Selection!$G$3/F121)<=1,(ROUNDUP((Selection!$G$3/F121),0))*E121,FALSE),FALSE)","v":3},false,{"$f":"AND($L$45=3,E121=Selection!$C$3)","v":false},false,{"$f":"IFERROR(IF((Selection!$G$12/F121)<=1,(ROUNDUP((Selection!$G$12/F121),0))*E121,FALSE),FALSE)","v":3},{"$f":"AND($L$45=3,E121=Selection!$C$12)","v":false}]
["DME050",{"$f":"CONCATENATE(A122,Selection!$D$28)","v":"DME050 up to 35C"},{"$f":"(VLOOKUP(B122,$A$5:$Y$42,$B$45,FALSE))/Selection!$I$25","v":147.81},{"$f":"(VLOOKUP(B122,$A$5:$Y$42,2,FALSE))/Selection!$I$25","v":32.28},4,591.24,129.12,{"$f":"IFERROR(IF(AND(Selection!$G$3/F122<=1,(L122+N122+O122)>=1),Selection!$G$3/F122,\"\"),\"\")","v":""},{"$f":"IFERROR(IF(AND(Selection!$G$12/F122<=1,(P122+N122+R122)>=1),Selection!$G$12/F122,\"\"),\"\")","v":""},{"$f":"IF('Input sheet'!$C$15='factors-pull down'!$A$133,1,2)","v":1},{"$f":"CONCATENATE(\"DME050N2\",'Part numbers'!$E$192)","v":"DME050N2-E"},false,{"$f":"IFERROR(IF((Selection!$G$3/F122)<=1,(ROUNDUP((Selection!$G$3/F122),0))*E122,FALSE),FALSE)","v":4},false,{"$f":"AND($L$45=3,E122=Selection!$C$3)","v":false},false,{"$f":"IFERROR(IF((Selection!$G$12/F122)<=1,(ROUNDUP((Selection!$G$12/F122),0))*E122,FALSE),FALSE)","v":4},{"$f":"AND($L$45=3,E122=Selection!$C$12)","v":false}]
["DME050",{"$f":"CONCATENATE(A123,Selection!$D$28)","v":"DME050 up to 35C"},{"$f":"(VLOOKUP(B123,$A$5:$Y$42,$B$45,FALSE))/Selection!$I$25","v":147.81},{"$f":"(VLOOKUP(B123,$A$5:$Y$42,2,FALSE))/Selection!$I$25","v":32.28},5,739.05,161.4,{"$f":"IFERROR(IF(AND(Selection!$G$3/F123<=1,(L123+N123+O123)>=1),Selection!$G$3/F123,\"\"),\"\")","v":""},{"$f":"IFERROR(IF(AND(Selection!$G$12/F123<=1,(P123+N123+R123)>=1),Selection!$G$12/F123,\"\"),\"\")","v":""},{"$f":"IF('Input sheet'!$C$15='factors-pull down'!$A$133,1,2)","v":1},{"$f":"CONCATENATE(\"DME050N2\",'Part numbers'!$E$192)","v":"DME050N2-E"},false,{"$f":"IFERROR(IF((Selection!$G$3/F123)<=1,(ROUNDUP((Selection!$G$3/F123),0))*E123,FALSE),FALSE)","v":5},false,{"$f":"AND($L$45=3,E123=Selection!$C$3)","v":false},false,{"$f":"IFERROR(IF((Selection!$G$12/F123)<=1,(ROUNDUP((Selection!$G$12/F123),0))*E123,FALSE),FALSE)","v":5},{"$f":"AND($L$45=3,E123=Selection!$C$12)","v":false}]
["DME050",{"$f":"CONCATENATE(A124,Selection!$D$28)","v":"DME050 up to 35C"},{"$f":"(VLOOKUP(B124,$A$5:$Y$42,$B$45,FALSE))/Selection!$I$25","v":147.81},{"$f":"(VLOOKUP(B124,$A$5:$Y$42,2,FALSE))/Selection!$I$25","v":32.28},6,886.86,193.68,{"$f":"IFERROR(IF(AND(Selection!$G$3/F124<=1,(L124+N124+O124)>=1),Selection!$G$3/F124,\"\"),\"\")","v":""},{"$f":"IFERROR(IF(AND(Selection!$G$12/F124<=1,(P124+N124+R124)>=1),Selection!$G$12/F124,\"\"),\"\")","v":""},{"$f":"IF('Input sheet'!$C$15='factors-pull down'!$A$133,1,2)","v":1},{"$f":"CONCATENATE(\"DME050N2\",'Part numbers'!$E$192)","v":"DME050N2-E"},false,{"$f":"IFERROR(IF((Selection!$G$3/F124)<=1,(ROUNDUP((Selection!$G$3/F124),0))*E124,FALSE),FALSE)","v":6},false,{"$f":"AND($L$45=3,E124=Selection!$C$3)","v":false},false,{"$f":"IFERROR(IF((Selection!$G$12/F124)<=1,(ROUNDUP((Selection!$G$12/F124),0))*E124,FALSE),FALSE)","v":6},{"$f":"AND($L$45=3,E124=Selection!$C$12)","v":false}]
["DME050",{"$f":"CONCATENATE(A125,Selection!$D$28)","v":"DME050 up to 35C"},{"$f":"(VLOOKUP(B125,$A$5:$Y$42,$B$45,FALSE))/Selection!$I$25","v":147.81},{"$f":"(VLOOKUP(B125,$A$5:$Y$42,2,FALSE))/Selection!$I$25","v":32.28},7,1034.67,225.96,{"$f":"IFERROR(IF(AND(Selection!$G$3/F125<=1,(L125+N125+O125)>=1),Selection!$G$3/F125,\"\"),\"\")","v":""},{"$f":"IFERROR(IF(AND(Selection!$G$12/F125<=1,(P125+N125+R125)>=1),Selection!$G$12/F125,\"\"),\"\")","v":""},{"$f":"IF('Input sheet'!$C$15='factors-pull down'!$A$133,1,2)","v":1},{"$f":"CONCATENATE(\"DME050N2\",'Part numbers'!$E$192)","v":"DME050N2-E"},false,{"$f":"IFERROR(IF((Selection!$G$3/F125)<=1,(ROUNDUP((Selection!$G$3/F125),0))*E125,FALSE),FALSE)","v":7},false,{"$f":"AND($L$45=3,E125=Selection!$C$3)","v":false},false,{"$f":"IFERROR(IF((Selection!$G$12/F125)<=1,(ROUNDUP((Selection!$G$12/F125),0))*E125,FALSE),FALSE)","v":7},{"$f":"AND($L$45=3,E125=Selection!$C$12)","v":false}]
["DME050",{"$f":"CONCATENATE(A126,Selection!$D$28)","v":"DME050 up to 35C"},{"$f":"(VLOOKUP(B126,$A$5:$Y$42,$B$45,FALSE))/Selection!$I$25","v":147.81},{"$f":"(VLOOKUP(B126,$A$5:$Y$42,2,FALSE))/Selection!$I$25","v":32.28},8,1182.48,258.24,{"$f":"IFERROR(IF(AND(Selection!$G$3/F126<=1,(L126+N126+O126)>=1),Selection!$G$3/F126,\"\"),\"\")","v":""},{"$f":"IFERROR(IF(AND(Selection!$G$12/F126<=1,(P126+N126+R126)>=1),Selection!$G$12/F126,\"\"),\"\")","v":""},{"$f":"IF('Input sheet'!$C$15='factors-pull down'!$A$133,1,2)","v":1},{"$f":"CONCATENATE(\"DME050N2\",'Part numbers'!$E$192)","v":"DME050N2-E"},false,{"$f":"IFERROR(IF((Selection!$G$3/F126)<=1,(ROUNDUP((Selection!$G$3/F126),0))*E126,FALSE),FALSE)","v":8},false,{"$f":"AND($L$45=3,E126=Selection!$C$3)","v":false},false,{"$f":"IFERROR(IF((Selection!$G$12/F126)<=1,(ROUNDUP((Selection!$G$12/F126),0))*E126,FALSE),FALSE)","v":8},{"$f":"AND($L$45=3,E126=Selection!$C$12)","v":false}]
["DME050",{"$f":"CONCATENATE(A127,Selection!$D$28)","v":"DME050 up to 35C"},{"$f":"(VLOOKUP(B127,$A$5:$Y$42,$B$45,FALSE))/Selection!$I$25","v":147.81},{"$f":"(VLOOKUP(B127,$A$5:$Y$42,2,FALSE))/Selection!$I$25","v":32.28},9,{"$f":"C127*E127","v":1330.29},{"$f":"D127*E127","v":290.52},{"$f":"IFERROR(IF(AND(Selection!$G$3/F127<=1,(L127+N127+O127)>=1),Selection!$G$3/F127,\"\"),\"\")","v":""},{"$f":"IFERROR(IF(AND(Selection!$G$12/F127<=1,(P127+N127+R127)>=1),Selection!$G$12/F127,\"\"),\"\")","v":""},{"$f":"IF('Input sheet'!$C$15='factors-pull down'!$A$133,1,2)","v":1},{"$f":"CONCATENATE(\"DME050N2\",'Part numbers'!$E$192)","v":"DME050N2-E"},false,{"$f":"IFERROR(IF((Selection!$G$3/F127)<=1,(ROUNDUP((Selection!$G$3/F127),0))*E127,FALSE),FALSE)","v":9},false,{"$f":"AND($L$45=3,E127=Selection!$C$3)","v":false},false,{"$f":"IFERROR(IF((Selection!$G$12/F127)<=1,(ROUNDUP((Selection!$G$12/F127),0))*E127,FALSE),FALSE)","v":9},{"$f":"AND($L$45=3,E127=Selection!$C$12)","v":false}]
["DME050",{"$f":"CONCATENATE(A128,Selection!$D$28)","v":"DME050 up to 35C"},{"$f":"(VLOOKUP(B128,$A$5:$Y$42,$B$45,FALSE))/Selection!$I$25","v":147.81},{"$f":"(VLOOKUP(B128,$A$5:$Y$42,2,FALSE))/Selection!$I$25","v":32.28},10,1478.1,322.8,{"$f":"IFERROR(IF(AND(Selection!$G$3/F128<=1,(L128+N128+O128)>=1),Selection!$G$3/F128,\"\"),\"\")","v":""},{"$f":"IFERROR(IF(AND(Selection!$G$12/F128<=1,(P128+N128+R128)>=1),Selection!$G$12/F128,\"\"),\"\")","v":""},{"$f":"IF('Input sheet'!$C$15='factors-pull down'!$A$133,1,2)","v":1},{"$f":"CONCATENATE(\"DME050N2\",'Part numbers'!$E$192)","v":"DME050N2-E"},false,{"$f":"IFERROR(IF((Selection!$G$3/F128)<=1,(ROUNDUP((Selection!$G$3/F128),0))*E128,FALSE),FALSE)","v":10},false,{"$f":"AND($L$45=3,E128=Selection!$C$3)","v":false},false,{"$f":"IFERROR(IF((Selection!$G$12/F128)<=1,(ROUNDUP((Selection!$G$12/F128),0))*E128,FALSE),FALSE)","v":10},{"$f":"AND($L$45=3,E128=Selection!$C$12)","v":false}]
["DME060",{"$f":"CONCATENATE(A129,Selection!$D$28)","v":"DME060 up to 35C"},{"$f":"(VLOOKUP(B129,$A$5:$Y$42,$B$45,FALSE))/Selection!$I$25","v":181.79},{"$f":"(VLOOKUP(B129,$A$5:$Y$42,2,FALSE))/Selection!$I$25","v":39.08},1,181.79,39.08,{"$f":"IFERROR(IF(AND(Selection!$G$3/F129<=1,(L129+N129+O129)>=1),Selection!$G$3/F129,\"\"),\"\")","v":0.33885252214093187},{"$f":"IFERROR(IF(AND(Selection!$G$12/F129<=1,(P129+N129+R129)>=1),Selection!$G$12/F129,\"\"),\"\")","v":""},{"$f":"IF('Input sheet'!$C$15='factors-pull down'!$A$133,1,2)","v":1},{"$f":"CONCATENATE(\"DME060N2\",'Part numbers'!$E$192)","v":"DME060N2-E"},false,{"$f":"IFERROR(IF((Selection!$G$3/F129)<=1,(ROUNDUP((Selection!$G$3/F129),0))*E129,FALSE),FALSE)","v":1},false,{"$f":"AND($L$45=3,E129=Selection!$C$3)","v":true},false,{"$f":"IFERROR(IF((Selection!$G$12/F129)<=1,(ROUNDUP((Selection!$G$12/F129),0))*E129,FALSE),FALSE)","v":false},{"$f":"AND($L$45=3,E129=Selection!$C$12)","v":true}]
["DME060",{"$f":"CONCATENATE(A130,Selection!$D$28)","v":"DME060 up to 35C"},{"$f":"(VLOOKUP(B130,$A$5:$Y$42,$B$45,FALSE))/Selection!$I$25","v":181.79},{"$f":"(VLOOKUP(B130,$A$5:$Y$42,2,FALSE))/Selection!$I$25","v":39.08},2,{"$f":"C130*E130","v":363.58},{"$f":"D130*E130","v":78.16},{"$f":"IFERROR(IF(AND(Selection!$G$3/F130<=1,(L130+N130+O130)>=1),Selection!$G$3/F130,\"\"),\"\")","v":""},{"$f":"IFERROR(IF(AND(Selection!$G$12/F130<=1,(P130+N130+R130)>=1),Selection!$G$12/F130,\"\"),\"\")","v":""},{"$f":"IF('Input sheet'!$C$15='factors-pull down'!$A$133,1,2)","v":1},{"$f":"CONCATENATE(\"DME060N2\",'Part numbers'!$E$192)","v":"DME060N2-E"},false,{"$f":"IFERROR(IF((Selection!$G$3/F130)<=1,(ROUNDUP((Selection!$G$3/F130),0))*E130,FALSE),FALSE)","v":2},false,{"$f":"AND($L$45=3,E130=Selection!$C$3)","v":false},false,{"$f":"IFERROR(IF((Selection!$G$12/F130)<=1,(ROUNDUP((Selection!$G$12/F130),0))*E130,FALSE),FALSE)","v":2},{"$f":"AND($L$45=3,E130=Selection!$C$12)","v":false}]
["DME060",{"$f":"CONCATENATE(A131,Selection!$D$28)","v":"DME060 up to 35C"},{"$f":"(VLOOKUP(B131,$A$5:$Y$42,$B$45,FALSE))/Selection!$I$25","v":181.79},{"$f":"(VLOOKUP(B131,$A$5:$Y$42,2,FALSE))/Selection!$I$25","v":39.08},3,{"$f":"C131*E131","v":545.37},{"$f":"D131*E131","v":117.24},{"$f":"IFERROR(IF(AND(Selection!$G$3/F131<=1,(L131+N131+O131)>=1),Selection!$G$3/F131,\"\"),\"\")","v":""},{"$f":"IFERROR(IF(AND(Selection!$G$12/F131<=1,(P131+N131+R131)>=1),Selection!$G$12/F131,\"\"),\"\")","v":""},{"$f":"IF('Input sheet'!$C$15='factors-pull down'!$A$133,1,2)","v":1},{"$f":"CONCATENATE(\"DME060N2\",'Part numbers'!$E$192)","v":"DME060N2-E"},false,{"$f":"IFERROR(IF((Selection!$G$3/F131)<=1,(ROUNDUP((Selection!$G$3/F131),0))*E131,FALSE),FALSE)","v":3},false,{"$f":"AND($L$45=3,E131=Selection!$C$3)","v":false},false,{"$f":"IFERROR(IF((Selection!$G$12/F131)<=1,(ROUNDUP((Selection!$G$12/F131),0))*E131,FALSE),FALSE)","v":3},{"$f":"AND($L$45=3,E131=Selection!$C$12)","v":false}]
["DME060",{"$f":"CONCATENATE(A132,Selection!$D$28)","v":"DME060 up to 35C"},{"$f":"(VLOOKUP(B132,$A$5:$Y$42,$B$45,FALSE))/Selection!$I$25","v":181.79},{"$f":"(VLOOKUP(B132,$A$5:$Y$42,2,FALSE))/Selection!$I$25","v":39.08},4,727.16,156.32,{"$f":"IFERROR(IF(AND(Selection!$G$3/F132<=1,(L132+N132+O132)>=1),Selection!$G$3/F132,\"\"),\"\")","v":""},{"$f":"IFERROR(IF(AND(Selection!$G$12/F132<=1,(P132+N132+R132)>=1),Selection!$G$12/F132,\"\"),\"\")","v":""},{"$f":"IF('Input sheet'!$C$15='factors-pull down'!$A$133,1,2)","v":1},{"$f":"CONCATENATE(\"DME060N2\",'Part numbers'!$E$192)","v":"DME060N2-E"},false,{"$f":"IFERROR(IF((Selection!$G$3/F132)<=1,(ROUNDUP((Selection!$G$3/F132),0))*E132,FALSE),FALSE)","v":4},false,{"$f":"AND($L$45=3,E132=Selection!$C$3)","v":false},false,{"$f":"IFERROR(IF((Selection!$G$12/F132)<=1,(ROUNDUP((Selection!$G$12/F132),0))*E132,FALSE),FALSE)","v":4},{"$f":"AND($L$45=3,E132=Selection!$C$12)","v":false}]
["DME060",{"$f":"CONCATENATE(A133,Selection!$D$28)","v":"DME060 up to 35C"},{"$f":"(VLOOKUP(B133,$A$5:$Y$42,$B$45,FALSE))/Selection!$I$25","v":181.79},{"$f":"(VLOOKUP(B133,$A$5:$Y$42,2,FALSE))/Selection!$I$25","v":39.08},5,908.94999999999993,195.39999999999998,{"$f":"IFERROR(IF(AND(Selection!$G$3/F133<=1,(L133+N133+O133)>=1),Selection!$G$3/F133,\"\"),\"\")","v":""},{"$f":"IFERROR(IF(AND(Selection!$G$12/F133<=1,(P133+N133+R133)>=1),Selection!$G$12/F133,\"\"),\"\")","v":""},{"$f":"IF('Input sheet'!$C$15='factors-pull down'!$A$133,1,2)","v":1},{"$f":"CONCATENATE(\"DME060N2\",'Part numbers'!$E$192)","v":"DME060N2-E"},false,{"$f":"IFERROR(IF((Selection!$G$3/F133)<=1,(ROUNDUP((Selection!$G$3/F133),0))*E133,FALSE),FALSE)","v":5},false,{"$f":"AND($L$45=3,E133=Selection!$C$3)","v":false},false,{"$f":"IFERROR(IF((Selection!$G$12/F133)<=1,(ROUNDUP((Selection!$G$12/F133),0))*E133,FALSE),FALSE)","v":5},{"$f":"AND($L$45=3,E133=Selection!$C$12)","v":false}]
["DME060",{"$f":"CONCATENATE(A134,Selection!$D$28)","v":"DME060 up to 35C"},{"$f":"(VLOOKUP(B134,$A$5:$Y$42,$B$45,FALSE))/Selection!$I$25","v":181.79},{"$f":"(VLOOKUP(B134,$A$5:$Y$42,2,FALSE))/Selection!$I$25","v":39.08},6,1090.74,234.48,{"$f":"IFERROR(IF(AND(Selection!$G$3/F134<=1,(L134+N134+O134)>=1),Selection!$G$3/F134,\"\"),\"\")","v":""},{"$f":"IFERROR(IF(AND(Selection!$G$12/F134<=1,(P134+N134+R134)>=1),Selection!$G$12/F134,\"\"),\"\")","v":""},{"$f":"IF('Input sheet'!$C$15='factors-pull down'!$A$133,1,2)","v":1},{"$f":"CONCATENATE(\"DME060N2\",'Part numbers'!$E$192)","v":"DME060N2-E"},false,{"$f":"IFERROR(IF((Selection!$G$3/F134)<=1,(ROUNDUP((Selection!$G$3/F134),0))*E134,FALSE),FALSE)","v":6},false,{"$f":"AND($L$45=3,E134=Selection!$C$3)","v":false},false,{"$f":"IFERROR(IF((Selection!$G$12/F134)<=1,(ROUNDUP((Selection!$G$12/F134),0))*E134,FALSE),FALSE)","v":6},{"$f":"AND($L$45=3,E134=Selection!$C$12)","v":false}]
["DME060",{"$f":"CONCATENATE(A135,Selection!$D$28)","v":"DME060 up to 35C"},{"$f":"(VLOOKUP(B135,$A$5:$Y$42,$B$45,FALSE))/Selection!$I$25","v":181.79},{"$f":"(VLOOKUP(B135,$A$5:$Y$42,2,FALSE))/Selection!$I$25","v":39.08},7,1272.53,273.56,{"$f":"IFERROR(IF(AND(Selection!$G$3/F135<=1,(L135+N135+O135)>=1),Selection!$G$3/F135,\"\"),\"\")","v":""},{"$f":"IFERROR(IF(AND(Selection!$G$12/F135<=1,(P135+N135+R135)>=1),Selection!$G$12/F135,\"\"),\"\")","v":""},{"$f":"IF('Input sheet'!$C$15='factors-pull down'!$A$133,1,2)","v":1},{"$f":"CONCATENATE(\"DME060N2\",'Part numbers'!$E$192)","v":"DME060N2-E"},false,{"$f":"IFERROR(IF((Selection!$G$3/F135)<=1,(ROUNDUP((Selection!$G$3/F135),0))*E135,FALSE),FALSE)","v":7},false,{"$f":"AND($L$45=3,E135=Selection!$C$3)","v":false},false,{"$f":"IFERROR(IF((Selection!$G$12/F135)<=1,(ROUNDUP((Selection!$G$12/F135),0))*E135,FALSE),FALSE)","v":7},{"$f":"AND($L$45=3,E135=Selection!$C$12)","v":false}]
["DME060",{"$f":"CONCATENATE(A136,Selection!$D$28)","v":"DME060 up to 35C"},{"$f":"(VLOOKUP(B136,$A$5:$Y$42,$B$45,FALSE))/Selection!$I$25","v":181.79},{"$f":"(VLOOKUP(B136,$A$5:$Y$42,2,FALSE))/Selection!$I$25","v":39.08},8,1454.32,312.64,{"$f":"IFERROR(IF(AND(Selection!$G$3/F136<=1,(L136+N136+O136)>=1),Selection!$G$3/F136,\"\"),\"\")","v":""},{"$f":"IFERROR(IF(AND(Selection!$G$12/F136<=1,(P136+N136+R136)>=1),Selection!$G$12/F136,\"\"),\"\")","v":""},{"$f":"IF('Input sheet'!$C$15='factors-pull down'!$A$133,1,2)","v":1},{"$f":"CONCATENATE(\"DME060N2\",'Part numbers'!$E$192)","v":"DME060N2-E"},false,{"$f":"IFERROR(IF((Selection!$G$3/F136)<=1,(ROUNDUP((Selection!$G$3/F136),0))*E136,FALSE),FALSE)","v":8},false,{"$f":"AND($L$45=3,E136=Selection!$C$3)","v":false},false,{"$f":"IFERROR(IF((Selection!$G$12/F136)<=1,(ROUNDUP((Selection!$G$12/F136),0))*E136,FALSE),FALSE)","v":8},{"$f":"AND($L$45=3,E136=Selection!$C$12)","v":false}]
["DME060",{"$f":"CONCATENATE(A137,Selection!$D$28)","v":"DME060 up to 35C"},{"$f":"(VLOOKUP(B137,$A$5:$Y$42,$B$45,FALSE))/Selection!$I$25","v":181.79},{"$f":"(VLOOKUP(B137,$A$5:$Y$42,2,FALSE))/Selection!$I$25","v":39.08},9,1636.11,351.71999999999997,{"$f":"IFERROR(IF(AND(Selection!$G$3/F137<=1,(L137+N137+O137)>=1),Selection!$G$3/F137,\"\"),\"\")","v":""},{"$f":"IFERROR(IF(AND(Selection!$G$12/F137<=1,(P137+N137+R137)>=1),Selection!$G$12/F137,\"\"),\"\")","v":""},{"$f":"IF('Input sheet'!$C$15='factors-pull down'!$A$133,1,2)","v":1},{"$f":"CONCATENATE(\"DME060N2\",'Part numbers'!$E$192)","v":"DME060N2-E"},false,{"$f":"IFERROR(IF((Selection!$G$3/F137)<=1,(ROUNDUP((Selection!$G$3/F137),0))*E137,FALSE),FALSE)","v":9},false,{"$f":"AND($L$45=3,E137=Selection!$C$3)","v":false},false,{"$f":"IFERROR(IF((Selection!$G$12/F137)<=1,(ROUNDUP((Selection!$G$12/F137),0))*E137,FALSE),FALSE)","v":9},{"$f":"AND($L$45=3,E137=Selection!$C$12)","v":false}]
["DME060",{"$f":"CONCATENATE(A138,Selection!$D$28)","v":"DME060 up to 35C"},{"$f":"(VLOOKUP(B138,$A$5:$Y$42,$B$45,FALSE))/Selection!$I$25","v":181.79},{"$f":"(VLOOKUP(B138,$A$5:$Y$42,2,FALSE))/Selection!$I$25","v":39.08},10,1817.8999999999999,390.79999999999995,{"$f":"IFERROR(IF(AND(Selection!$G$3/F138<=1,(L138+N138+O138)>=1),Selection!$G$3/F138,\"\"),\"\")","v":""},{"$f":"IFERROR(IF(AND(Selection!$G$12/F138<=1,(P138+N138+R138)>=1),Selection!$G$12/F138,\"\"),\"\")","v":""},{"$f":"IF('Input sheet'!$C$15='factors-pull down'!$A$133,1,2)","v":1},{"$f":"CONCATENATE(\"DME060N2\",'Part numbers'!$E$192)","v":"DME060N2-E"},false,{"$f":"IFERROR(IF((Selection!$G$3/F138)<=1,(ROUNDUP((Selection!$G$3/F138),0))*E138,FALSE),FALSE)","v":10},false,{"$f":"AND($L$45=3,E138=Selection!$C$3)","v":false},false,{"$f":"IFERROR(IF((Selection!$G$12/F138)<=1,(ROUNDUP((Selection!$G$12/F138),0))*E138,FALSE),FALSE)","v":10},{"$f":"AND($L$45=3,E138=Selection!$C$12)","v":false}]
["DME080",{"$f":"CONCATENATE(A139,Selection!$D$28)","v":"DME080 up to 35C"},{"$f":"(VLOOKUP(B139,$A$5:$Y$42,$B$45,FALSE))/Selection!$I$25","v":244.66},{"$f":"(VLOOKUP(B139,$A$5:$Y$42,2,FALSE))/Selection!$I$25","v":54.37},1,244.66,54.37,{"$f":"IFERROR(IF(AND(Selection!$G$3/F139<=1,(L139+N139+O139)>=1),Selection!$G$3/F139,\"\"),\"\")","v":0.25177797760156956},{"$f":"IFERROR(IF(AND(Selection!$G$12/F139<=1,(P139+N139+R139)>=1),Selection!$G$12/F139,\"\"),\"\")","v":0.79211967628545743},{"$f":"IF('Input sheet'!$C$15='factors-pull down'!$A$133,1,2)","v":1},{"$f":"CONCATENATE(\"DME080N2\",'Part numbers'!$E$192)","v":"DME080N2-E"},false,{"$f":"IFERROR(IF((Selection!$G$3/F139)<=1,(ROUNDUP((Selection!$G$3/F139),0))*E139,FALSE),FALSE)","v":1},false,{"$f":"AND($L$45=3,E139=Selection!$C$3)","v":true},false,{"$f":"IFERROR(IF((Selection!$G$12/F139)<=1,(ROUNDUP((Selection!$G$12/F139),0))*E139,FALSE),FALSE)","v":1},{"$f":"AND($L$45=3,E139=Selection!$C$12)","v":true}]
["DME080",{"$f":"CONCATENATE(A140,Selection!$D$28)","v":"DME080 up to 35C"},{"$f":"(VLOOKUP(B140,$A$5:$Y$42,$B$45,FALSE))/Selection!$I$25","v":244.66},{"$f":"(VLOOKUP(B140,$A$5:$Y$42,2,FALSE))/Selection!$I$25","v":54.37},2,{"$f":"C140*E140","v":489.32},{"$f":"D140*E140","v":108.74},{"$f":"IFERROR(IF(AND(Selection!$G$3/F140<=1,(L140+N140+O140)>=1),Selection!$G$3/F140,\"\"),\"\")","v":""},{"$f":"IFERROR(IF(AND(Selection!$G$12/F140<=1,(P140+N140+R140)>=1),Selection!$G$12/F140,\"\"),\"\")","v":""},{"$f":"IF('Input sheet'!$C$15='factors-pull down'!$A$133,1,2)","v":1},{"$f":"CONCATENATE(\"DME080N2\",'Part numbers'!$E$192)","v":"DME080N2-E"},false,{"$f":"IFERROR(IF((Selection!$G$3/F140)<=1,(ROUNDUP((Selection!$G$3/F140),0))*E140,FALSE),FALSE)","v":2},false,{"$f":"AND($L$45=3,E140=Selection!$C$3)","v":false},false,{"$f":"IFERROR(IF((Selection!$G$12/F140)<=1,(ROUNDUP((Selection!$G$12/F140),0))*E140,FALSE),FALSE)","v":2},{"$f":"AND($L$45=3,E140=Selection!$C$12)","v":false}]
["DME080",{"$f":"CONCATENATE(A141,Selection!$D$28)","v":"DME080 up to 35C"},{"$f":"(VLOOKUP(B141,$A$5:$Y$42,$B$45,FALSE))/Selection!$I$25","v":244.66},{"$f":"(VLOOKUP(B141,$A$5:$Y$42,2,FALSE))/Selection!$I$25","v":54.37},3,{"$f":"C141*E141","v":733.98},163.10999999999999,{"$f":"IFERROR(IF(AND(Selection!$G$3/F141<=1,(L141+N141+O141)>=1),Selection!$G$3/F141,\"\"),\"\")","v":""},{"$f":"IFERROR(IF(AND(Selection!$G$12/F141<=1,(P141+N141+R141)>=1),Selection!$G$12/F141,\"\"),\"\")","v":""},{"$f":"IF('Input sheet'!$C$15='factors-pull down'!$A$133,1,2)","v":1},{"$f":"CONCATENATE(\"DME080N2\",'Part numbers'!$E$192)","v":"DME080N2-E"},false,{"$f":"IFERROR(IF((Selection!$G$3/F141)<=1,(ROUNDUP((Selection!$G$3/F141),0))*E141,FALSE),FALSE)","v":3},false,{"$f":"AND($L$45=3,E141=Selection!$C$3)","v":false},false,{"$f":"IFERROR(IF((Selection!$G$12/F141)<=1,(ROUNDUP((Selection!$G$12/F141),0))*E141,FALSE),FALSE)","v":3},{"$f":"AND($L$45=3,E141=Selection!$C$12)","v":false}]
["DME080",{"$f":"CONCATENATE(A142,Selection!$D$28)","v":"DME080 up to 35C"},{"$f":"(VLOOKUP(B142,$A$5:$Y$42,$B$45,FALSE))/Selection!$I$25","v":244.66},{"$f":"(VLOOKUP(B142,$A$5:$Y$42,2,FALSE))/Selection!$I$25","v":54.37},4,978.64,217.48,{"$f":"IFERROR(IF(AND(Selection!$G$3/F142<=1,(L142+N142+O142)>=1),Selection!$G$3/F142,\"\"),\"\")","v":""},{"$f":"IFERROR(IF(AND(Selection!$G$12/F142<=1,(P142+N142+R142)>=1),Selection!$G$12/F142,\"\"),\"\")","v":""},{"$f":"IF('Input sheet'!$C$15='factors-pull down'!$A$133,1,2)","v":1},{"$f":"CONCATENATE(\"DME080N2\",'Part numbers'!$E$192)","v":"DME080N2-E"},false,{"$f":"IFERROR(IF((Selection!$G$3/F142)<=1,(ROUNDUP((Selection!$G$3/F142),0))*E142,FALSE),FALSE)","v":4},false,{"$f":"AND($L$45=3,E142=Selection!$C$3)","v":false},false,{"$f":"IFERROR(IF((Selection!$G$12/F142)<=1,(ROUNDUP((Selection!$G$12/F142),0))*E142,FALSE),FALSE)","v":4},{"$f":"AND($L$45=3,E142=Selection!$C$12)","v":false}]
["DME080",{"$f":"CONCATENATE(A143,Selection!$D$28)","v":"DME080 up to 35C"},{"$f":"(VLOOKUP(B143,$A$5:$Y$42,$B$45,FALSE))/Selection!$I$25","v":244.66},{"$f":"(VLOOKUP(B143,$A$5:$Y$42,2,FALSE))/Selection!$I$25","v":54.37},5,1223.3,271.84999999999997,{"$f":"IFERROR(IF(AND(Selection!$G$3/F143<=1,(L143+N143+O143)>=1),Selection!$G$3/F143,\"\"),\"\")","v":""},{"$f":"IFERROR(IF(AND(Selection!$G$12/F143<=1,(P143+N143+R143)>=1),Selection!$G$12/F143,\"\"),\"\")","v":""},{"$f":"IF('Input sheet'!$C$15='factors-pull down'!$A$133,1,2)","v":1},{"$f":"CONCATENATE(\"DME080N2\",'Part numbers'!$E$192)","v":"DME080N2-E"},{"$f":"AND($L$45=1,E143=$M$45)","v":false},{"$f":"IFERROR(IF((Selection!$G$3/F143)<=1,(ROUNDUP((Selection!$G$3/F143),0))*E143,FALSE),FALSE)","v":5},{"$f":"AND($L$45=2,E143=2)","v":false},{"$f":"AND($L$45=3,E143=Selection!$C$3)","v":false},false,{"$f":"IFERROR(IF((Selection!$G$12/F143)<=1,(ROUNDUP((Selection!$G$12/F143),0))*E143,FALSE),FALSE)","v":5},{"$f":"AND($L$45=3,E143=Selection!$C$12)","v":false}]
["DME080",{"$f":"CONCATENATE(A144,Selection!$D$28)","v":"DME080 up to 35C"},{"$f":"(VLOOKUP(B144,$A$5:$Y$42,$B$45,FALSE))/Selection!$I$25","v":244.66},{"$f":"(VLOOKUP(B144,$A$5:$Y$42,2,FALSE))/Selection!$I$25","v":54.37},6,1467.96,326.21999999999997,{"$f":"IFERROR(IF(AND(Selection!$G$3/F144<=1,(L144+N144+O144)>=1),Selection!$G$3/F144,\"\"),\"\")","v":""},{"$f":"IFERROR(IF(AND(Selection!$G$12/F144<=1,(P144+N144+R144)>=1),Selection!$G$12/F144,\"\"),\"\")","v":""},{"$f":"IF('Input sheet'!$C$15='factors-pull down'!$A$133,1,2)","v":1},{"$f":"CONCATENATE(\"DME080N2\",'Part numbers'!$E$192)","v":"DME080N2-E"},false,{"$f":"IFERROR(IF((Selection!$G$3/F144)<=1,(ROUNDUP((Selection!$G$3/F144),0))*E144,FALSE),FALSE)","v":6},false,{"$f":"AND($L$45=3,E144=Selection!$C$3)","v":false},false,{"$f":"IFERROR(IF((Selection!$G$12/F144)<=1,(ROUNDUP((Selection!$G$12/F144),0))*E144,FALSE),FALSE)","v":6},{"$f":"AND($L$45=3,E144=Selection!$C$12)","v":false}]
["DME080",{"$f":"CONCATENATE(A145,Selection!$D$28)","v":"DME080 up to 35C"},{"$f":"(VLOOKUP(B145,$A$5:$Y$42,$B$45,FALSE))/Selection!$I$25","v":244.66},{"$f":"(VLOOKUP(B145,$A$5:$Y$42,2,FALSE))/Selection!$I$25","v":54.37},7,1712.62,380.59,{"$f":"IFERROR(IF(AND(Selection!$G$3/F145<=1,(L145+N145+O145)>=1),Selection!$G$3/F145,\"\"),\"\")","v":""},{"$f":"IFERROR(IF(AND(Selection!$G$12/F145<=1,(P145+N145+R145)>=1),Selection!$G$12/F145,\"\"),\"\")","v":""},{"$f":"IF('Input sheet'!$C$15='factors-pull down'!$A$133,1,2)","v":1},{"$f":"CONCATENATE(\"DME080N2\",'Part numbers'!$E$192)","v":"DME080N2-E"},false,{"$f":"IFERROR(IF((Selection!$G$3/F145)<=1,(ROUNDUP((Selection!$G$3/F145),0))*E145,FALSE),FALSE)","v":7},false,{"$f":"AND($L$45=3,E145=Selection!$C$3)","v":false},false,{"$f":"IFERROR(IF((Selection!$G$12/F145)<=1,(ROUNDUP((Selection!$G$12/F145),0))*E145,FALSE),FALSE)","v":7},{"$f":"AND($L$45=3,E145=Selection!$C$12)","v":false}]
["DME080",{"$f":"CONCATENATE(A146,Selection!$D$28)","v":"DME080 up to 35C"},{"$f":"(VLOOKUP(B146,$A$5:$Y$42,$B$45,FALSE))/Selection!$I$25","v":244.66},{"$f":"(VLOOKUP(B146,$A$5:$Y$42,2,FALSE))/Selection!$I$25","v":54.37},8,1957.28,434.96,{"$f":"IFERROR(IF(AND(Selection!$G$3/F146<=1,(L146+N146+O146)>=1),Selection!$G$3/F146,\"\"),\"\")","v":""},{"$f":"IFERROR(IF(AND(Selection!$G$12/F146<=1,(P146+N146+R146)>=1),Selection!$G$12/F146,\"\"),\"\")","v":""},{"$f":"IF('Input sheet'!$C$15='factors-pull down'!$A$133,1,2)","v":1},{"$f":"CONCATENATE(\"DME080N2\",'Part numbers'!$E$192)","v":"DME080N2-E"},false,{"$f":"IFERROR(IF((Selection!$G$3/F146)<=1,(ROUNDUP((Selection!$G$3/F146),0))*E146,FALSE),FALSE)","v":8},false,{"$f":"AND($L$45=3,E146=Selection!$C$3)","v":false},false,{"$f":"IFERROR(IF((Selection!$G$12/F146)<=1,(ROUNDUP((Selection!$G$12/F146),0))*E146,FALSE),FALSE)","v":8},{"$f":"AND($L$45=3,E146=Selection!$C$12)","v":false}]
["DME080",{"$f":"CONCATENATE(A147,Selection!$D$28)","v":"DME080 up to 35C"},{"$f":"(VLOOKUP(B147,$A$5:$Y$42,$B$45,FALSE))/Selection!$I$25","v":244.66},{"$f":"(VLOOKUP(B147,$A$5:$Y$42,2,FALSE))/Selection!$I$25","v":54.37},9,2201.94,489.33,{"$f":"IFERROR(IF(AND(Selection!$G$3/F147<=1,(L147+N147+O147)>=1),Selection!$G$3/F147,\"\"),\"\")","v":""},{"$f":"IFERROR(IF(AND(Selection!$G$12/F147<=1,(P147+N147+R147)>=1),Selection!$G$12/F147,\"\"),\"\")","v":""},{"$f":"IF('Input sheet'!$C$15='factors-pull down'!$A$133,1,2)","v":1},{"$f":"CONCATENATE(\"DME080N2\",'Part numbers'!$E$192)","v":"DME080N2-E"},false,{"$f":"IFERROR(IF((Selection!$G$3/F147)<=1,(ROUNDUP((Selection!$G$3/F147),0))*E147,FALSE),FALSE)","v":9},false,{"$f":"AND($L$45=3,E147=Selection!$C$3)","v":false},false,{"$f":"IFERROR(IF((Selection!$G$12/F147)<=1,(ROUNDUP((Selection!$G$12/F147),0))*E147,FALSE),FALSE)","v":9},{"$f":"AND($L$45=3,E147=Selection!$C$12)","v":false}]
["DME080",{"$f":"CONCATENATE(A148,Selection!$D$28)","v":"DME080 up to 35C"},{"$f":"(VLOOKUP(B148,$A$5:$Y$42,$B$45,FALSE))/Selection!$I$25","v":244.66},{"$f":"(VLOOKUP(B148,$A$5:$Y$42,2,FALSE))/Selection!$I$25","v":54.37},10,2446.6,543.69999999999993,{"$f":"IFERROR(IF(AND(Selection!$G$3/F148<=1,(L148+N148+O148)>=1),Selection!$G$3/F148,\"\"),\"\")","v":""},{"$f":"IFERROR(IF(AND(Selection!$G$12/F148<=1,(P148+N148+R148)>=1),Selection!$G$12/F148,\"\"),\"\")","v":""},{"$f":"IF('Input sheet'!$C$15='factors-pull down'!$A$133,1,2)","v":1},{"$f":"CONCATENATE(\"DME080N2\",'Part numbers'!$E$192)","v":"DME080N2-E"},false,{"$f":"IFERROR(IF((Selection!$G$3/F148)<=1,(ROUNDUP((Selection!$G$3/F148),0))*E148,FALSE),FALSE)","v":10},false,{"$f":"AND($L$45=3,E148=Selection!$C$3)","v":false},false,{"$f":"IFERROR(IF((Selection!$G$12/F148)<=1,(ROUNDUP((Selection!$G$12/F148),0))*E148,FALSE),FALSE)","v":10},{"$f":"AND($L$45=3,E148=Selection!$C$12)","v":false}]
["MXS102c",{"$f":"CONCATENATE(A149,Selection!$D$28)","v":"MXS102c up to 35C"},{"$f":"(VLOOKUP(B149,$A$5:$Y$42,$B$45,FALSE))/Selection!$I$25","v":342},{"$f":"(VLOOKUP(B149,$A$5:$Y$42,2,FALSE))/Selection!$I$25","v":66},1,342,{"$f":"D149*E149","v":66},{"$f":"IFERROR(IF(AND(Selection!$G$3/F149<=1,(L149+N149+O149)>=1),Selection!$G$3/F149,\"\"),\"\")","v":0.18011695906432748},{"$f":"IFERROR(IF(AND(Selection!$G$12/F149<=1,(P149+N149+R149)>=1),Selection!$G$12/F149,\"\"),\"\")","v":0.56666666666666665},{"$f":"IF('Input sheet'!$C$15='factors-pull down'!$A$133,1,2)","v":1},"MX102C-N2",false,{"$f":"IFERROR(IF((Selection!$G$3/F149)<=1,(ROUNDUP((Selection!$G$3/F149),0))*E149,FALSE),FALSE)","v":1},false,{"$f":"AND($L$45=3,E149=Selection!$C$3)","v":true},false,{"$f":"IFERROR(IF((Selection!$G$12/F149)<=1,(ROUNDUP((Selection!$G$12/F149),0))*E149,FALSE),FALSE)","v":1},{"$f":"AND($L$45=3,E149=Selection!$C$12)","v":true}]
["MXS102c",{"$f":"CONCATENATE(A150,Selection!$D$28)","v":"MXS102c up to 35C"},{"$f":"(VLOOKUP(B150,$A$5:$Y$42,$B$45,FALSE))/Selection!$I$25","v":342},{"$f":"(VLOOKUP(B150,$A$5:$Y$42,2,FALSE))/Selection!$I$25","v":66},2,{"$f":"C150*E150","v":684},{"$f":"D150*E150","v":132},{"$f":"IFERROR(IF(AND(Selection!$G$3/F150<=1,(L150+N150+O150)>=1),Selection!$G$3/F150,\"\"),\"\")","v":""},{"$f":"IFERROR(IF(AND(Selection!$G$12/F150<=1,(P150+N150+R150)>=1),Selection!$G$12/F150,\"\"),\"\")","v":""},{"$f":"IF('Input sheet'!$C$15='factors-pull down'!$A$133,1,2)","v":1},"MX102C-N2",false,{"$f":"IFERROR(IF((Selection!$G$3/F150)<=1,(ROUNDUP((Selection!$G$3/F150),0))*E150,FALSE),FALSE)","v":2},false,{"$f":"AND($L$45=3,E150=Selection!$C$3)","v":false},false,{"$f":"IFERROR(IF((Selection!$G$12/F150)<=1,(ROUNDUP((Selection!$G$12/F150),0))*E150,FALSE),FALSE)","v":2},{"$f":"AND($L$45=3,E150=Selection!$C$12)","v":false}]
["MXS102c",{"$f":"CONCATENATE(A151,Selection!$D$28)","v":"MXS102c up to 35C"},{"$f":"(VLOOKUP(B151,$A$5:$Y$42,$B$45,FALSE))/Selection!$I$25","v":342},{"$f":"(VLOOKUP(B151,$A$5:$Y$42,2,FALSE))/Selection!$I$25","v":66},3,{"$f":"C151*E151","v":1026},{"$f":"D151*E151","v":198},{"$f":"IFERROR(IF(AND(Selection!$G$3/F151<=1,(L151+N151+O151)>=1),Selection!$G$3/F151,\"\"),\"\")","v":""},{"$f":"IFERROR(IF(AND(Selection!$G$12/F151<=1,(P151+N151+R151)>=1),Selection!$G$12/F151,\"\"),\"\")","v":""},{"$f":"IF('Input sheet'!$C$15='factors-pull down'!$A$133,1,2)","v":1},"MX102C-N2",false,{"$f":"IFERROR(IF((Selection!$G$3/F151)<=1,(ROUNDUP((Selection!$G$3/F151),0))*E151,FALSE),FALSE)","v":3},false,{"$f":"AND($L$45=3,E151=Selection!$C$3)","v":false},false,{"$f":"IFERROR(IF((Selection!$G$12/F151)<=1,(ROUNDUP((Selection!$G$12/F151),0))*E151,FALSE),FALSE)","v":3},{"$f":"AND($L$45=3,E151=Selection!$C$12)","v":false}]
["MXS102c",{"$f":"CONCATENATE(A152,Selection!$D$28)","v":"MXS102c up to 35C"},{"$f":"(VLOOKUP(B152,$A$5:$Y$42,$B$45,FALSE))/Selection!$I$25","v":342},{"$f":"(VLOOKUP(B152,$A$5:$Y$42,2,FALSE))/Selection!$I$25","v":66},4,1368,264,{"$f":"IFERROR(IF(AND(Selection!$G$3/F152<=1,(L152+N152+O152)>=1),Selection!$G$3/F152,\"\"),\"\")","v":""},{"$f":"IFERROR(IF(AND(Selection!$G$12/F152<=1,(P152+N152+R152)>=1),Selection!$G$12/F152,\"\"),\"\")","v":""},{"$f":"IF('Input sheet'!$C$15='factors-pull down'!$A$133,1,2)","v":1},"MX102C-N2",false,{"$f":"IFERROR(IF((Selection!$G$3/F152)<=1,(ROUNDUP((Selection!$G$3/F152),0))*E152,FALSE),FALSE)","v":4},false,{"$f":"AND($L$45=3,E152=Selection!$C$3)","v":false},false,{"$f":"IFERROR(IF((Selection!$G$12/F152)<=1,(ROUNDUP((Selection!$G$12/F152),0))*E152,FALSE),FALSE)","v":4},{"$f":"AND($L$45=3,E152=Selection!$C$12)","v":false}]
["MXS102c",{"$f":"CONCATENATE(A153,Selection!$D$28)","v":"MXS102c up to 35C"},{"$f":"(VLOOKUP(B153,$A$5:$Y$42,$B$45,FALSE))/Selection!$I$25","v":342},{"$f":"(VLOOKUP(B153,$A$5:$Y$42,2,FALSE))/Selection!$I$25","v":66},5,1710,330,{"$f":"IFERROR(IF(AND(Selection!$G$3/F153<=1,(L153+N153+O153)>=1),Selection!$G$3/F153,\"\"),\"\")","v":""},{"$f":"IFERROR(IF(AND(Selection!$G$12/F153<=1,(P153+N153+R153)>=1),Selection!$G$12/F153,\"\"),\"\")","v":""},{"$f":"IF('Input sheet'!$C$15='factors-pull down'!$A$133,1,2)","v":1},"MX102C-N2",false,{"$f":"IFERROR(IF((Selection!$G$3/F153)<=1,(ROUNDUP((Selection!$G$3/F153),0))*E153,FALSE),FALSE)","v":5},false,{"$f":"AND($L$45=3,E153=Selection!$C$3)","v":false},false,{"$f":"IFERROR(IF((Selection!$G$12/F153)<=1,(ROUNDUP((Selection!$G$12/F153),0))*E153,FALSE),FALSE)","v":5},{"$f":"AND($L$45=3,E153=Selection!$C$12)","v":false}]
["MXS102c",{"$f":"CONCATENATE(A154,Selection!$D$28)","v":"MXS102c up to 35C"},{"$f":"(VLOOKUP(B154,$A$5:$Y$42,$B$45,FALSE))/Selection!$I$25","v":342},{"$f":"(VLOOKUP(B154,$A$5:$Y$42,2,FALSE))/Selection!$I$25","v":66},6,2052,396,{"$f":"IFERROR(IF(AND(Selection!$G$3/F154<=1,(L154+N154+O154)>=1),Selection!$G$3/F154,\"\"),\"\")","v":""},{"$f":"IFERROR(IF(AND(Selection!$G$12/F154<=1,(P154+N154+R154)>=1),Selection!$G$12/F154,\"\"),\"\")","v":""},{"$f":"IF('Input sheet'!$C$15='factors-pull down'!$A$133,1,2)","v":1},"MX102C-N2",false,{"$f":"IFERROR(IF((Selection!$G$3/F154)<=1,(ROUNDUP((Selection!$G$3/F154),0))*E154,FALSE),FALSE)","v":6},false,{"$f":"AND($L$45=3,E154=Selection!$C$3)","v":false},false,{"$f":"IFERROR(IF((Selection!$G$12/F154)<=1,(ROUNDUP((Selection!$G$12/F154),0))*E154,FALSE),FALSE)","v":6},{"$f":"AND($L$45=3,E154=Selection!$C$12)","v":false}]
["MXS102c",{"$f":"CONCATENATE(A155,Selection!$D$28)","v":"MXS102c up to 35C"},{"$f":"(VLOOKUP(B155,$A$5:$Y$42,$B$45,FALSE))/Selection!$I$25","v":342},{"$f":"(VLOOKUP(B155,$A$5:$Y$42,2,FALSE))/Selection!$I$25","v":66},7,2394,462,{"$f":"IFERROR(IF(AND(Selection!$G$3/F155<=1,(L155+N155+O155)>=1),Selection!$G$3/F155,\"\"),\"\")","v":""},{"$f":"IFERROR(IF(AND(Selection!$G$12/F155<=1,(P155+N155+R155)>=1),Selection!$G$12/F155,\"\"),\"\")","v":""},{"$f":"IF('Input sheet'!$C$15='factors-pull down'!$A$133,1,2)","v":1},"MX102C-N2",false,{"$f":"IFERROR(IF((Selection!$G$3/F155)<=1,(ROUNDUP((Selection!$G$3/F155),0))*E155,FALSE),FALSE)","v":7},false,{"$f":"AND($L$45=3,E155=Selection!$C$3)","v":false},false,{"$f":"IFERROR(IF((Selection!$G$12/F155)<=1,(ROUNDUP((Selection!$G$12/F155),0))*E155,FALSE),FALSE)","v":7},{"$f":"AND($L$45=3,E155=Selection!$C$12)","v":false}]
["MXS102c",{"$f":"CONCATENATE(A156,Selection!$D$28)","v":"MXS102c up to 35C"},{"$f":"(VLOOKUP(B156,$A$5:$Y$42,$B$45,FALSE))/Selection!$I$25","v":342},{"$f":"(VLOOKUP(B156,$A$5:$Y$42,2,FALSE))/Selection!$I$25","v":66},8,2736,528,{"$f":"IFERROR(IF(AND(Selection!$G$3/F156<=1,(L156+N156+O156)>=1),Selection!$G$3/F156,\"\"),\"\")","v":""},{"$f":"IFERROR(IF(AND(Selection!$G$12/F156<=1,(P156+N156+R156)>=1),Selection!$G$12/F156,\"\"),\"\")","v":""},{"$f":"IF('Input sheet'!$C$15='factors-pull down'!$A$133,1,2)","v":1},"MX102C-N2",false,{"$f":"IFERROR(IF((Selection!$G$3/F156)<=1,(ROUNDUP((Selection!$G$3/F156),0))*E156,FALSE),FALSE)","v":8},false,{"$f":"AND($L$45=3,E156=Selection!$C$3)","v":false},false,{"$f":"IFERROR(IF((Selection!$G$12/F156)<=1,(ROUNDUP((Selection!$G$12/F156),0))*E156,FALSE),FALSE)","v":8},{"$f":"AND($L$45=3,E156=Selection!$C$12)","v":false}]
["MXS102c",{"$f":"CONCATENATE(A157,Selection!$D$28)","v":"MXS102c up to 35C"},{"$f":"(VLOOKUP(B157,$A$5:$Y$42,$B$45,FALSE))/Selection!$I$25","v":342},{"$f":"(VLOOKUP(B157,$A$5:$Y$42,2,FALSE))/Selection!$I$25","v":66},9,3078,594,{"$f":"IFERROR(IF(AND(Selection!$G$3/F157<=1,(L157+N157+O157)>=1),Selection!$G$3/F157,\"\"),\"\")","v":""},{"$f":"IFERROR(IF(AND(Selection!$G$12/F157<=1,(P157+N157+R157)>=1),Selection!$G$12/F157,\"\"),\"\")","v":""},{"$f":"IF('Input sheet'!$C$15='factors-pull down'!$A$133,1,2)","v":1},"MX102C-N2",false,{"$f":"IFERROR(IF((Selection!$G$3/F157)<=1,(ROUNDUP((Selection!$G$3/F157),0))*E157,FALSE),FALSE)","v":9},false,{"$f":"AND($L$45=3,E157=Selection!$C$3)","v":false},false,{"$f":"IFERROR(IF((Selection!$G$12/F157)<=1,(ROUNDUP((Selection!$G$12/F157),0))*E157,FALSE),FALSE)","v":9},{"$f":"AND($L$45=3,E157=Selection!$C$12)","v":false}]
["MXS102c",{"$f":"CONCATENATE(A158,Selection!$D$28)","v":"MXS102c up to 35C"},{"$f":"(VLOOKUP(B158,$A$5:$Y$42,$B$45,FALSE))/Selection!$I$25","v":342},{"$f":"(VLOOKUP(B158,$A$5:$Y$42,2,FALSE))/Selection!$I$25","v":66},10,3420,660,{"$f":"IFERROR(IF(AND(Selection!$G$3/F158<=1,(L158+N158+O158)>=1),Selection!$G$3/F158,\"\"),\"\")","v":""},{"$f":"IFERROR(IF(AND(Selection!$G$12/F158<=1,(P158+N158+R158)>=1),Selection!$G$12/F158,\"\"),\"\")","v":""},{"$f":"IF('Input sheet'!$C$15='factors-pull down'!$A$133,1,2)","v":1},"MX102C-N2",false,{"$f":"IFERROR(IF((Selection!$G$3/F158)<=1,(ROUNDUP((Selection!$G$3/F158),0))*E158,FALSE),FALSE)","v":10},false,{"$f":"AND($L$45=3,E158=Selection!$C$3)","v":false},false,{"$f":"IFERROR(IF((Selection!$G$12/F158)<=1,(ROUNDUP((Selection!$G$12/F158),0))*E158,FALSE),FALSE)","v":10},{"$f":"AND($L$45=3,E158=Selection!$C$12)","v":false}]
["MXS103c",{"$f":"CONCATENATE(A159,Selection!$D$28)","v":"MXS103c up to 35C"},{"$f":"(VLOOKUP(B159,$A$5:$Y$42,$B$45,FALSE))/Selection!$I$25","v":513},{"$f":"(VLOOKUP(B159,$A$5:$Y$42,2,FALSE))/Selection!$I$25","v":98},1,{"$f":"C159*E159","v":513},{"$f":"D159*E159","v":98},{"$f":"IFERROR(IF(AND(Selection!$G$3/F159<=1,(L159+N159+O159)>=1),Selection!$G$3/F159,\"\"),\"\")","v":0.12007797270955166},{"$f":"IFERROR(IF(AND(Selection!$G$12/F159<=1,(P159+N159+R159)>=1),Selection!$G$12/F159,\"\"),\"\")","v":0.37777777777777782},{"$f":"IF('Input sheet'!$C$15='factors-pull down'!$A$133,1,2)","v":1},"MX103C-N2",false,{"$f":"IFERROR(IF((Selection!$G$3/F159)<=1,(ROUNDUP((Selection!$G$3/F159),0))*E159,FALSE),FALSE)","v":1},false,{"$f":"AND($L$45=3,E159=Selection!$C$3)","v":true},false,{"$f":"IFERROR(IF((Selection!$G$12/F159)<=1,(ROUNDUP((Selection!$G$12/F159),0))*E159,FALSE),FALSE)","v":1},{"$f":"AND($L$45=3,E159=Selection!$C$12)","v":true}]
["MXS103c",{"$f":"CONCATENATE(A160,Selection!$D$28)","v":"MXS103c up to 35C"},{"$f":"(VLOOKUP(B160,$A$5:$Y$42,$B$45,FALSE))/Selection!$I$25","v":513},{"$f":"(VLOOKUP(B160,$A$5:$Y$42,2,FALSE))/Selection!$I$25","v":98},2,{"$f":"C160*E160","v":1026},{"$f":"D160*E160","v":196},{"$f":"IFERROR(IF(AND(Selection!$G$3/F160<=1,(L160+N160+O160)>=1),Selection!$G$3/F160,\"\"),\"\")","v":""},{"$f":"IFERROR(IF(AND(Selection!$G$12/F160<=1,(P160+N160+R160)>=1),Selection!$G$12/F160,\"\"),\"\")","v":""},{"$f":"IF('Input sheet'!$C$15='factors-pull down'!$A$133,1,2)","v":1},"MX103C-N2",false,{"$f":"IFERROR(IF((Selection!$G$3/F160)<=1,(ROUNDUP((Selection!$G$3/F160),0))*E160,FALSE),FALSE)","v":2},false,{"$f":"AND($L$45=3,E160=Selection!$C$3)","v":false},false,{"$f":"IFERROR(IF((Selection!$G$12/F160)<=1,(ROUNDUP((Selection!$G$12/F160),0))*E160,FALSE),FALSE)","v":2},{"$f":"AND($L$45=3,E160=Selection!$C$12)","v":false}]
["MXS103c",{"$f":"CONCATENATE(A161,Selection!$D$28)","v":"MXS103c up to 35C"},{"$f":"(VLOOKUP(B161,$A$5:$Y$42,$B$45,FALSE))/Selection!$I$25","v":513},{"$f":"(VLOOKUP(B161,$A$5:$Y$42,2,FALSE))/Selection!$I$25","v":98},3,1539,294,{"$f":"IFERROR(IF(AND(Selection!$G$3/F161<=1,(L161+N161+O161)>=1),Selection!$G$3/F161,\"\"),\"\")","v":""},{"$f":"IFERROR(IF(AND(Selection!$G$12/F161<=1,(P161+N161+R161)>=1),Selection!$G$12/F161,\"\"),\"\")","v":""},{"$f":"IF('Input sheet'!$C$15='factors-pull down'!$A$133,1,2)","v":1},"MX103C-N2",false,{"$f":"IFERROR(IF((Selection!$G$3/F161)<=1,(ROUNDUP((Selection!$G$3/F161),0))*E161,FALSE),FALSE)","v":3},false,{"$f":"AND($L$45=3,E161=Selection!$C$3)","v":false},false,{"$f":"IFERROR(IF((Selection!$G$12/F161)<=1,(ROUNDUP((Selection!$G$12/F161),0))*E161,FALSE),FALSE)","v":3},{"$f":"AND($L$45=3,E161=Selection!$C$12)","v":false}]
["MXS103c",{"$f":"CONCATENATE(A162,Selection!$D$28)","v":"MXS103c up to 35C"},{"$f":"(VLOOKUP(B162,$A$5:$Y$42,$B$45,FALSE))/Selection!$I$25","v":513},{"$f":"(VLOOKUP(B162,$A$5:$Y$42,2,FALSE))/Selection!$I$25","v":98},4,2052,392,{"$f":"IFERROR(IF(AND(Selection!$G$3/F162<=1,(L162+N162+O162)>=1),Selection!$G$3/F162,\"\"),\"\")","v":""},{"$f":"IFERROR(IF(AND(Selection!$G$12/F162<=1,(P162+N162+R162)>=1),Selection!$G$12/F162,\"\"),\"\")","v":""},{"$f":"IF('Input sheet'!$C$15='factors-pull down'!$A$133,1,2)","v":1},"MX103C-N2",false,{"$f":"IFERROR(IF((Selection!$G$3/F162)<=1,(ROUNDUP((Selection!$G$3/F162),0))*E162,FALSE),FALSE)","v":4},false,{"$f":"AND($L$45=3,E162=Selection!$C$3)","v":false},false,{"$f":"IFERROR(IF((Selection!$G$12/F162)<=1,(ROUNDUP((Selection!$G$12/F162),0))*E162,FALSE),FALSE)","v":4},{"$f":"AND($L$45=3,E162=Selection!$C$12)","v":false}]
["MXS103c",{"$f":"CONCATENATE(A163,Selection!$D$28)","v":"MXS103c up to 35C"},{"$f":"(VLOOKUP(B163,$A$5:$Y$42,$B$45,FALSE))/Selection!$I$25","v":513},{"$f":"(VLOOKUP(B163,$A$5:$Y$42,2,FALSE))/Selection!$I$25","v":98},5,2565,490,{"$f":"IFERROR(IF(AND(Selection!$G$3/F163<=1,(L163+N163+O163)>=1),Selection!$G$3/F163,\"\"),\"\")","v":""},{"$f":"IFERROR(IF(AND(Selection!$G$12/F163<=1,(P163+N163+R163)>=1),Selection!$G$12/F163,\"\"),\"\")","v":""},{"$f":"IF('Input sheet'!$C$15='factors-pull down'!$A$133,1,2)","v":1},"MX103C-N2",false,{"$f":"IFERROR(IF((Selection!$G$3/F163)<=1,(ROUNDUP((Selection!$G$3/F163),0))*E163,FALSE),FALSE)","v":5},false,{"$f":"AND($L$45=3,E163=Selection!$C$3)","v":false},false,{"$f":"IFERROR(IF((Selection!$G$12/F163)<=1,(ROUNDUP((Selection!$G$12/F163),0))*E163,FALSE),FALSE)","v":5},{"$f":"AND($L$45=3,E163=Selection!$C$12)","v":false}]
["MXS103c",{"$f":"CONCATENATE(A164,Selection!$D$28)","v":"MXS103c up to 35C"},{"$f":"(VLOOKUP(B164,$A$5:$Y$42,$B$45,FALSE))/Selection!$I$25","v":513},{"$f":"(VLOOKUP(B164,$A$5:$Y$42,2,FALSE))/Selection!$I$25","v":98},6,3078,588,{"$f":"IFERROR(IF(AND(Selection!$G$3/F164<=1,(L164+N164+O164)>=1),Selection!$G$3/F164,\"\"),\"\")","v":""},{"$f":"IFERROR(IF(AND(Selection!$G$12/F164<=1,(P164+N164+R164)>=1),Selection!$G$12/F164,\"\"),\"\")","v":""},{"$f":"IF('Input sheet'!$C$15='factors-pull down'!$A$133,1,2)","v":1},"MX103C-N2",false,{"$f":"IFERROR(IF((Selection!$G$3/F164)<=1,(ROUNDUP((Selection!$G$3/F164),0))*E164,FALSE),FALSE)","v":6},false,{"$f":"AND($L$45=3,E164=Selection!$C$3)","v":false},false,{"$f":"IFERROR(IF((Selection!$G$12/F164)<=1,(ROUNDUP((Selection!$G$12/F164),0))*E164,FALSE),FALSE)","v":6},{"$f":"AND($L$45=3,E164=Selection!$C$12)","v":false}]
["MXS103c",{"$f":"CONCATENATE(A165,Selection!$D$28)","v":"MXS103c up to 35C"},{"$f":"(VLOOKUP(B165,$A$5:$Y$42,$B$45,FALSE))/Selection!$I$25","v":513},{"$f":"(VLOOKUP(B165,$A$5:$Y$42,2,FALSE))/Selection!$I$25","v":98},7,3591,686,{"$f":"IFERROR(IF(AND(Selection!$G$3/F165<=1,(L165+N165+O165)>=1),Selection!$G$3/F165,\"\"),\"\")","v":""},{"$f":"IFERROR(IF(AND(Selection!$G$12/F165<=1,(P165+N165+R165)>=1),Selection!$G$12/F165,\"\"),\"\")","v":""},{"$f":"IF('Input sheet'!$C$15='factors-pull down'!$A$133,1,2)","v":1},"MX103C-N2",false,{"$f":"IFERROR(IF((Selection!$G$3/F165)<=1,(ROUNDUP((Selection!$G$3/F165),0))*E165,FALSE),FALSE)","v":7},false,{"$f":"AND($L$45=3,E165=Selection!$C$3)","v":false},false,{"$f":"IFERROR(IF((Selection!$G$12/F165)<=1,(ROUNDUP((Selection!$G$12/F165),0))*E165,FALSE),FALSE)","v":7},{"$f":"AND($L$45=3,E165=Selection!$C$12)","v":false}]
["MXS103c",{"$f":"CONCATENATE(A166,Selection!$D$28)","v":"MXS103c up to 35C"},{"$f":"(VLOOKUP(B166,$A$5:$Y$42,$B$45,FALSE))/Selection!$I$25","v":513},{"$f":"(VLOOKUP(B166,$A$5:$Y$42,2,FALSE))/Selection!$I$25","v":98},8,4104,784,{"$f":"IFERROR(IF(AND(Selection!$G$3/F166<=1,(L166+N166+O166)>=1),Selection!$G$3/F166,\"\"),\"\")","v":""},{"$f":"IFERROR(IF(AND(Selection!$G$12/F166<=1,(P166+N166+R166)>=1),Selection!$G$12/F166,\"\"),\"\")","v":""},{"$f":"IF('Input sheet'!$C$15='factors-pull down'!$A$133,1,2)","v":1},"MX103C-N2",false,{"$f":"IFERROR(IF((Selection!$G$3/F166)<=1,(ROUNDUP((Selection!$G$3/F166),0))*E166,FALSE),FALSE)","v":8},false,{"$f":"AND($L$45=3,E166=Selection!$C$3)","v":false},false,{"$f":"IFERROR(IF((Selection!$G$12/F166)<=1,(ROUNDUP((Selection!$G$12/F166),0))*E166,FALSE),FALSE)","v":8},{"$f":"AND($L$45=3,E166=Selection!$C$12)","v":false}]
["MXS103c",{"$f":"CONCATENATE(A167,Selection!$D$28)","v":"MXS103c up to 35C"},{"$f":"(VLOOKUP(B167,$A$5:$Y$42,$B$45,FALSE))/Selection!$I$25","v":513},{"$f":"(VLOOKUP(B167,$A$5:$Y$42,2,FALSE))/Selection!$I$25","v":98},9,4617,882,{"$f":"IFERROR(IF(AND(Selection!$G$3/F167<=1,(L167+N167+O167)>=1),Selection!$G$3/F167,\"\"),\"\")","v":""},{"$f":"IFERROR(IF(AND(Selection!$G$12/F167<=1,(P167+N167+R167)>=1),Selection!$G$12/F167,\"\"),\"\")","v":""},{"$f":"IF('Input sheet'!$C$15='factors-pull down'!$A$133,1,2)","v":1},"MX103C-N2",false,{"$f":"IFERROR(IF((Selection!$G$3/F167)<=1,(ROUNDUP((Selection!$G$3/F167),0))*E167,FALSE),FALSE)","v":9},false,{"$f":"AND($L$45=3,E167=Selection!$C$3)","v":false},false,{"$f":"IFERROR(IF((Selection!$G$12/F167)<=1,(ROUNDUP((Selection!$G$12/F167),0))*E167,FALSE),FALSE)","v":9},{"$f":"AND($L$45=3,E167=Selection!$C$12)","v":false}]
["MXS103c",{"$f":"CONCATENATE(A168,Selection!$D$28)","v":"MXS103c up to 35C"},{"$f":"(VLOOKUP(B168,$A$5:$Y$42,$B$45,FALSE))/Selection!$I$25","v":513},{"$f":"(VLOOKUP(B168,$A$5:$Y$42,2,FALSE))/Selection!$I$25","v":98},10,5130,980,{"$f":"IFERROR(IF(AND(Selection!$G$3/F168<=1,(L168+N168+O168)>=1),Selection!$G$3/F168,\"\"),\"\")","v":""},{"$f":"IFERROR(IF(AND(Selection!$G$12/F168<=1,(P168+N168+R168)>=1),Selection!$G$12/F168,\"\"),\"\")","v":""},{"$f":"IF('Input sheet'!$C$15='factors-pull down'!$A$133,1,2)","v":1},"MX103C-N2",false,{"$f":"IFERROR(IF((Selection!$G$3/F168)<=1,(ROUNDUP((Selection!$G$3/F168),0))*E168,FALSE),FALSE)","v":10},false,{"$f":"AND($L$45=3,E168=Selection!$C$3)","v":false},false,{"$f":"IFERROR(IF((Selection!$G$12/F168)<=1,(ROUNDUP((Selection!$G$12/F168),0))*E168,FALSE),FALSE)","v":10},{"$f":"AND($L$45=3,E168=Selection!$C$12)","v":false}]
["MXS103",{"$f":"CONCATENATE(A169,Selection!$D$28)","v":"MXS103 up to 35C"},{"$f":"(VLOOKUP(B169,$A$5:$Y$42,$B$45,FALSE))/Selection!$I$25","v":642},{"$f":"(VLOOKUP(B169,$A$5:$Y$42,2,FALSE))/Selection!$I$25","v":123},1,642,123,{"$f":"IFERROR(IF(AND(Selection!$G$3/F169<=1,(L169+N169+O169)>=1),Selection!$G$3/F169,\"\"),\"\")","v":9.5950155763239883E-2},{"$f":"IFERROR(IF(AND(Selection!$G$12/F169<=1,(P169+N169+R169)>=1),Selection!$G$12/F169,\"\"),\"\")","v":0.30186915887850468},{"$f":"IF('Input sheet'!$C$15='factors-pull down'!$A$133,1,2)","v":1},"MXS103-N2",false,{"$f":"IFERROR(IF((Selection!$G$3/F169)<=1,(ROUNDUP((Selection!$G$3/F169),0))*E169,FALSE),FALSE)","v":1},false,{"$f":"AND($L$45=3,E169=Selection!$C$3)","v":true},false,{"$f":"IFERROR(IF((Selection!$G$12/F169)<=1,(ROUNDUP((Selection!$G$12/F169),0))*E169,FALSE),FALSE)","v":1},{"$f":"AND($L$45=3,E169=Selection!$C$12)","v":true}]
["MXS103",{"$f":"CONCATENATE(A170,Selection!$D$28)","v":"MXS103 up to 35C"},{"$f":"(VLOOKUP(B170,$A$5:$Y$42,$B$45,FALSE))/Selection!$I$25","v":642},{"$f":"(VLOOKUP(B170,$A$5:$Y$42,2,FALSE))/Selection!$I$25","v":123},2,{"$f":"C170*E170","v":1284},{"$f":"D170*E170","v":246},{"$f":"IFERROR(IF(AND(Selection!$G$3/F170<=1,(L170+N170+O170)>=1),Selection!$G$3/F170,\"\"),\"\")","v":""},{"$f":"IFERROR(IF(AND(Selection!$G$12/F170<=1,(P170+N170+R170)>=1),Selection!$G$12/F170,\"\"),\"\")","v":""},{"$f":"IF('Input sheet'!$C$15='factors-pull down'!$A$133,1,2)","v":1},"MXS103-N2",false,{"$f":"IFERROR(IF((Selection!$G$3/F170)<=1,(ROUNDUP((Selection!$G$3/F170),0))*E170,FALSE),FALSE)","v":2},false,{"$f":"AND($L$45=3,E170=Selection!$C$3)","v":false},false,{"$f":"IFERROR(IF((Selection!$G$12/F170)<=1,(ROUNDUP((Selection!$G$12/F170),0))*E170,FALSE),FALSE)","v":2},{"$f":"AND($L$45=3,E170=Selection!$C$12)","v":false}]
["MXS103",{"$f":"CONCATENATE(A171,Selection!$D$28)","v":"MXS103 up to 35C"},{"$f":"(VLOOKUP(B171,$A$5:$Y$42,$B$45,FALSE))/Selection!$I$25","v":642},{"$f":"(VLOOKUP(B171,$A$5:$Y$42,2,FALSE))/Selection!$I$25","v":123},3,1926,369,{"$f":"IFERROR(IF(AND(Selection!$G$3/F171<=1,(L171+N171+O171)>=1),Selection!$G$3/F171,\"\"),\"\")","v":""},{"$f":"IFERROR(IF(AND(Selection!$G$12/F171<=1,(P171+N171+R171)>=1),Selection!$G$12/F171,\"\"),\"\")","v":""},{"$f":"IF('Input sheet'!$C$15='factors-pull down'!$A$133,1,2)","v":1},"MXS103-N2",false,{"$f":"IFERROR(IF((Selection!$G$3/F171)<=1,(ROUNDUP((Selection!$G$3/F171),0))*E171,FALSE),FALSE)","v":3},false,{"$f":"AND($L$45=3,E171=Selection!$C$3)","v":false},false,{"$f":"IFERROR(IF((Selection!$G$12/F171)<=1,(ROUNDUP((Selection!$G$12/F171),0))*E171,FALSE),FALSE)","v":3},{"$f":"AND($L$45=3,E171=Selection!$C$12)","v":false}]
["MXS103",{"$f":"CONCATENATE(A172,Selection!$D$28)","v":"MXS103 up to 35C"},{"$f":"(VLOOKUP(B172,$A$5:$Y$42,$B$45,FALSE))/Selection!$I$25","v":642},{"$f":"(VLOOKUP(B172,$A$5:$Y$42,2,FALSE))/Selection!$I$25","v":123},4,2568,492,{"$f":"IFERROR(IF(AND(Selection!$G$3/F172<=1,(L172+N172+O172)>=1),Selection!$G$3/F172,\"\"),\"\")","v":""},{"$f":"IFERROR(IF(AND(Selection!$G$12/F172<=1,(P172+N172+R172)>=1),Selection!$G$12/F172,\"\"),\"\")","v":""},{"$f":"IF('Input sheet'!$C$15='factors-pull down'!$A$133,1,2)","v":1},"MXS103-N2",false,{"$f":"IFERROR(IF((Selection!$G$3/F172)<=1,(ROUNDUP((Selection!$G$3/F172),0))*E172,FALSE),FALSE)","v":4},false,{"$f":"AND($L$45=3,E172=Selection!$C$3)","v":false},false,{"$f":"IFERROR(IF((Selection!$G$12/F172)<=1,(ROUNDUP((Selection!$G$12/F172),0))*E172,FALSE),FALSE)","v":4},{"$f":"AND($L$45=3,E172=Selection!$C$12)","v":false}]
["MXS103",{"$f":"CONCATENATE(A173,Selection!$D$28)","v":"MXS103 up to 35C"},{"$f":"(VLOOKUP(B173,$A$5:$Y$42,$B$45,FALSE))/Selection!$I$25","v":642},{"$f":"(VLOOKUP(B173,$A$5:$Y$42,2,FALSE))/Selection!$I$25","v":123},5,3210,615,{"$f":"IFERROR(IF(AND(Selection!$G$3/F173<=1,(L173+N173+O173)>=1),Selection!$G$3/F173,\"\"),\"\")","v":""},{"$f":"IFERROR(IF(AND(Selection!$G$12/F173<=1,(P173+N173+R173)>=1),Selection!$G$12/F173,\"\"),\"\")","v":""},{"$f":"IF('Input sheet'!$C$15='factors-pull down'!$A$133,1,2)","v":1},"MXS103-N2",false,{"$f":"IFERROR(IF((Selection!$G$3/F173)<=1,(ROUNDUP((Selection!$G$3/F173),0))*E173,FALSE),FALSE)","v":5},false,{"$f":"AND($L$45=3,E173=Selection!$C$3)","v":false},false,{"$f":"IFERROR(IF((Selection!$G$12/F173)<=1,(ROUNDUP((Selection!$G$12/F173),0))*E173,FALSE),FALSE)","v":5},{"$f":"AND($L$45=3,E173=Selection!$C$12)","v":false}]
["MXS103",{"$f":"CONCATENATE(A174,Selection!$D$28)","v":"MXS103 up to 35C"},{"$f":"(VLOOKUP(B174,$A$5:$Y$42,$B$45,FALSE))/Selection!$I$25","v":642},{"$f":"(VLOOKUP(B174,$A$5:$Y$42,2,FALSE))/Selection!$I$25","v":123},6,3852,738,{"$f":"IFERROR(IF(AND(Selection!$G$3/F174<=1,(L174+N174+O174)>=1),Selection!$G$3/F174,\"\"),\"\")","v":""},{"$f":"IFERROR(IF(AND(Selection!$G$12/F174<=1,(P174+N174+R174)>=1),Selection!$G$12/F174,\"\"),\"\")","v":""},{"$f":"IF('Input sheet'!$C$15='factors-pull down'!$A$133,1,2)","v":1},"MXS103-N2",false,{"$f":"IFERROR(IF((Selection!$G$3/F174)<=1,(ROUNDUP((Selection!$G$3/F174),0))*E174,FALSE),FALSE)","v":6},false,{"$f":"AND($L$45=3,E174=Selection!$C$3)","v":false},false,{"$f":"IFERROR(IF((Selection!$G$12/F174)<=1,(ROUNDUP((Selection!$G$12/F174),0))*E174,FALSE),FALSE)","v":6},{"$f":"AND($L$45=3,E174=Selection!$C$12)","v":false}]
["MXS103",{"$f":"CONCATENATE(A175,Selection!$D$28)","v":"MXS103 up to 35C"},{"$f":"(VLOOKUP(B175,$A$5:$Y$42,$B$45,FALSE))/Selection!$I$25","v":642},{"$f":"(VLOOKUP(B175,$A$5:$Y$42,2,FALSE))/Selection!$I$25","v":123},7,4494,861,{"$f":"IFERROR(IF(AND(Selection!$G$3/F175<=1,(L175+N175+O175)>=1),Selection!$G$3/F175,\"\"),\"\")","v":""},{"$f":"IFERROR(IF(AND(Selection!$G$12/F175<=1,(P175+N175+R175)>=1),Selection!$G$12/F175,\"\"),\"\")","v":""},{"$f":"IF('Input sheet'!$C$15='factors-pull down'!$A$133,1,2)","v":1},"MXS103-N2",{"$f":"AND($L$45=1,E175=$M$45)","v":false},{"$f":"IFERROR(IF((Selection!$G$3/F175)<=1,(ROUNDUP((Selection!$G$3/F175),0))*E175,FALSE),FALSE)","v":7},{"$f":"AND($L$45=2,E175=2)","v":false},{"$f":"AND($L$45=3,E175=Selection!$C$3)","v":false},false,{"$f":"IFERROR(IF((Selection!$G$12/F175)<=1,(ROUNDUP((Selection!$G$12/F175),0))*E175,FALSE),FALSE)","v":7},{"$f":"AND($L$45=3,E175=Selection!$C$12)","v":false}]
["MXS103",{"$f":"CONCATENATE(A176,Selection!$D$28)","v":"MXS103 up to 35C"},{"$f":"(VLOOKUP(B176,$A$5:$Y$42,$B$45,FALSE))/Selection!$I$25","v":642},{"$f":"(VLOOKUP(B176,$A$5:$Y$42,2,FALSE))/Selection!$I$25","v":123},8,5136,984,{"$f":"IFERROR(IF(AND(Selection!$G$3/F176<=1,(L176+N176+O176)>=1),Selection!$G$3/F176,\"\"),\"\")","v":""},{"$f":"IFERROR(IF(AND(Selection!$G$12/F176<=1,(P176+N176+R176)>=1),Selection!$G$12/F176,\"\"),\"\")","v":""},{"$f":"IF('Input sheet'!$C$15='factors-pull down'!$A$133,1,2)","v":1},"MXS103-N2",false,{"$f":"IFERROR(IF((Selection!$G$3/F176)<=1,(ROUNDUP((Selection!$G$3/F176),0))*E176,FALSE),FALSE)","v":8},false,{"$f":"AND($L$45=3,E176=Selection!$C$3)","v":false},{"$f":"AND($L$45=1,E176=$Q$45)","v":false},{"$f":"IFERROR(IF((Selection!$G$12/F176)<=1,(ROUNDUP((Selection!$G$12/F176),0))*E176,FALSE),FALSE)","v":8},{"$f":"AND($L$45=3,E176=Selection!$C$12)","v":false}]
["MXS103",{"$f":"CONCATENATE(A177,Selection!$D$28)","v":"MXS103 up to 35C"},{"$f":"(VLOOKUP(B177,$A$5:$Y$42,$B$45,FALSE))/Selection!$I$25","v":642},{"$f":"(VLOOKUP(B177,$A$5:$Y$42,2,FALSE))/Selection!$I$25","v":123},9,5778,1107,{"$f":"IFERROR(IF(AND(Selection!$G$3/F177<=1,(L177+N177+O177)>=1),Selection!$G$3/F177,\"\"),\"\")","v":""},{"$f":"IFERROR(IF(AND(Selection!$G$12/F177<=1,(P177+N177+R177)>=1),Selection!$G$12/F177,\"\"),\"\")","v":""},{"$f":"IF('Input sheet'!$C$15='factors-pull down'!$A$133,1,2)","v":1},"MXS103-N2",false,{"$f":"IFERROR(IF((Selection!$G$3/F177)<=1,(ROUNDUP((Selection!$G$3/F177),0))*E177,FALSE),FALSE)","v":9},false,{"$f":"AND($L$45=3,E177=Selection!$C$3)","v":false},false,{"$f":"IFERROR(IF((Selection!$G$12/F177)<=1,(ROUNDUP((Selection!$G$12/F177),0))*E177,FALSE),FALSE)","v":9},{"$f":"AND($L$45=3,E177=Selection!$C$12)","v":false}]
["MXS103",{"$f":"CONCATENATE(A178,Selection!$D$28)","v":"MXS103 up to 35C"},{"$f":"(VLOOKUP(B178,$A$5:$Y$42,$B$45,FALSE))/Selection!$I$25","v":642},{"$f":"(VLOOKUP(B178,$A$5:$Y$42,2,FALSE))/Selection!$I$25","v":123},10,6420,1230,{"$f":"IFERROR(IF(AND(Selection!$G$3/F178<=1,(L178+N178+O178)>=1),Selection!$G$3/F178,\"\"),\"\")","v":""},{"$f":"IFERROR(IF(AND(Selection!$G$12/F178<=1,(P178+N178+R178)>=1),Selection!$G$12/F178,\"\"),\"\")","v":""},{"$f":"IF('Input sheet'!$C$15='factors-pull down'!$A$133,1,2)","v":1},"MXS103-N2",false,{"$f":"IFERROR(IF((Selection!$G$3/F178)<=1,(ROUNDUP((Selection!$G$3/F178),0))*E178,FALSE),FALSE)","v":10},false,{"$f":"AND($L$45=3,E178=Selection!$C$3)","v":false},false,{"$f":"IFERROR(IF((Selection!$G$12/F178)<=1,(ROUNDUP((Selection!$G$12/F178),0))*E178,FALSE),FALSE)","v":10},{"$f":"AND($L$45=3,E178=Selection!$C$12)","v":false}]
["MXS104",{"$f":"CONCATENATE(A179,Selection!$D$28)","v":"MXS104 up to 35C"},{"$f":"(VLOOKUP(B179,$A$5:$Y$42,$B$45,FALSE))/Selection!$I$25","v":856},{"$f":"(VLOOKUP(B179,$A$5:$Y$42,2,FALSE))/Selection!$I$25","v":164},1,856,164,{"$f":"IFERROR(IF(AND(Selection!$G$3/F179<=1,(L179+N179+O179)>=1),Selection!$G$3/F179,\"\"),\"\")","v":7.1962616822429909E-2},{"$f":"IFERROR(IF(AND(Selection!$G$12/F179<=1,(P179+N179+R179)>=1),Selection!$G$12/F179,\"\"),\"\")","v":0.22640186915887853},{"$f":"IF('Input sheet'!$C$15='factors-pull down'!$A$133,1,2)","v":1},"MXS104-N2",false,{"$f":"IFERROR(IF((Selection!$G$3/F179)<=1,(ROUNDUP((Selection!$G$3/F179),0))*E179,FALSE),FALSE)","v":1},false,{"$f":"AND($L$45=3,E179=Selection!$C$3)","v":true},false,{"$f":"IFERROR(IF((Selection!$G$12/F179)<=1,(ROUNDUP((Selection!$G$12/F179),0))*E179,FALSE),FALSE)","v":1},{"$f":"AND($L$45=3,E179=Selection!$C$12)","v":true}]
["MXS104",{"$f":"CONCATENATE(A180,Selection!$D$28)","v":"MXS104 up to 35C"},{"$f":"(VLOOKUP(B180,$A$5:$Y$42,$B$45,FALSE))/Selection!$I$25","v":856},{"$f":"(VLOOKUP(B180,$A$5:$Y$42,2,FALSE))/Selection!$I$25","v":164},2,{"$f":"C180*E180","v":1712},{"$f":"D180*E180","v":328},{"$f":"IFERROR(IF(AND(Selection!$G$3/F180<=1,(L180+N180+O180)>=1),Selection!$G$3/F180,\"\"),\"\")","v":""},{"$f":"IFERROR(IF(AND(Selection!$G$12/F180<=1,(P180+N180+R180)>=1),Selection!$G$12/F180,\"\"),\"\")","v":""},{"$f":"IF('Input sheet'!$C$15='factors-pull down'!$A$133,1,2)","v":1},"MXS104-N2",false,{"$f":"IFERROR(IF((Selection!$G$3/F180)<=1,(ROUNDUP((Selection!$G$3/F180),0))*E180,FALSE),FALSE)","v":2},false,{"$f":"AND($L$45=3,E180=Selection!$C$3)","v":false},false,{"$f":"IFERROR(IF((Selection!$G$12/F180)<=1,(ROUNDUP((Selection!$G$12/F180),0))*E180,FALSE),FALSE)","v":2},{"$f":"AND($L$45=3,E180=Selection!$C$12)","v":false}]
["MXS104",{"$f":"CONCATENATE(A181,Selection!$D$28)","v":"MXS104 up to 35C"},{"$f":"(VLOOKUP(B181,$A$5:$Y$42,$B$45,FALSE))/Selection!$I$25","v":856},{"$f":"(VLOOKUP(B181,$A$5:$Y$42,2,FALSE))/Selection!$I$25","v":164},3,2568,492,{"$f":"IFERROR(IF(AND(Selection!$G$3/F181<=1,(L181+N181+O181)>=1),Selection!$G$3/F181,\"\"),\"\")","v":""},{"$f":"IFERROR(IF(AND(Selection!$G$12/F181<=1,(P181+N181+R181)>=1),Selection!$G$12/F181,\"\"),\"\")","v":""},{"$f":"IF('Input sheet'!$C$15='factors-pull down'!$A$133,1,2)","v":1},"MXS104-N2",false,{"$f":"IFERROR(IF((Selection!$G$3/F181)<=1,(ROUNDUP((Selection!$G$3/F181),0))*E181,FALSE),FALSE)","v":3},false,{"$f":"AND($L$45=3,E181=Selection!$C$3)","v":false},false,{"$f":"IFERROR(IF((Selection!$G$12/F181)<=1,(ROUNDUP((Selection!$G$12/F181),0))*E181,FALSE),FALSE)","v":3},{"$f":"AND($L$45=3,E181=Selection!$C$12)","v":false}]
["MXS104",{"$f":"CONCATENATE(A182,Selection!$D$28)","v":"MXS104 up to 35C"},{"$f":"(VLOOKUP(B182,$A$5:$Y$42,$B$45,FALSE))/Selection!$I$25","v":856},{"$f":"(VLOOKUP(B182,$A$5:$Y$42,2,FALSE))/Selection!$I$25","v":164},4,3424,656,{"$f":"IFERROR(IF(AND(Selection!$G$3/F182<=1,(L182+N182+O182)>=1),Selection!$G$3/F182,\"\"),\"\")","v":""},{"$f":"IFERROR(IF(AND(Selection!$G$12/F182<=1,(P182+N182+R182)>=1),Selection!$G$12/F182,\"\"),\"\")","v":""},{"$f":"IF('Input sheet'!$C$15='factors-pull down'!$A$133,1,2)","v":1},"MXS104-N2",false,{"$f":"IFERROR(IF((Selection!$G$3/F182)<=1,(ROUNDUP((Selection!$G$3/F182),0))*E182,FALSE),FALSE)","v":4},false,{"$f":"AND($L$45=3,E182=Selection!$C$3)","v":false},false,{"$f":"IFERROR(IF((Selection!$G$12/F182)<=1,(ROUNDUP((Selection!$G$12/F182),0))*E182,FALSE),FALSE)","v":4},{"$f":"AND($L$45=3,E182=Selection!$C$12)","v":false}]
["MXS104",{"$f":"CONCATENATE(A183,Selection!$D$28)","v":"MXS104 up to 35C"},{"$f":"(VLOOKUP(B183,$A$5:$Y$42,$B$45,FALSE))/Selection!$I$25","v":856},{"$f":"(VLOOKUP(B183,$A$5:$Y$42,2,FALSE))/Selection!$I$25","v":164},5,4280,820,{"$f":"IFERROR(IF(AND(Selection!$G$3/F183<=1,(L183+N183+O183)>=1),Selection!$G$3/F183,\"\"),\"\")","v":""},{"$f":"IFERROR(IF(AND(Selection!$G$12/F183<=1,(P183+N183+R183)>=1),Selection!$G$12/F183,\"\"),\"\")","v":""},{"$f":"IF('Input sheet'!$C$15='factors-pull down'!$A$133,1,2)","v":1},"MXS104-N2",false,{"$f":"IFERROR(IF((Selection!$G$3/F183)<=1,(ROUNDUP((Selection!$G$3/F183),0))*E183,FALSE),FALSE)","v":5},false,{"$f":"AND($L$45=3,E183=Selection!$C$3)","v":false},false,{"$f":"IFERROR(IF((Selection!$G$12/F183)<=1,(ROUNDUP((Selection!$G$12/F183),0))*E183,FALSE),FALSE)","v":5},{"$f":"AND($L$45=3,E183=Selection!$C$12)","v":false}]
["MXS104",{"$f":"CONCATENATE(A184,Selection!$D$28)","v":"MXS104 up to 35C"},{"$f":"(VLOOKUP(B184,$A$5:$Y$42,$B$45,FALSE))/Selection!$I$25","v":856},{"$f":"(VLOOKUP(B184,$A$5:$Y$42,2,FALSE))/Selection!$I$25","v":164},6,5136,984,{"$f":"IFERROR(IF(AND(Selection!$G$3/F184<=1,(L184+N184+O184)>=1),Selection!$G$3/F184,\"\"),\"\")","v":""},{"$f":"IFERROR(IF(AND(Selection!$G$12/F184<=1,(P184+N184+R184)>=1),Selection!$G$12/F184,\"\"),\"\")","v":""},{"$f":"IF('Input sheet'!$C$15='factors-pull down'!$A$133,1,2)","v":1},"MXS104-N2",false,{"$f":"IFERROR(IF((Selection!$G$3/F184)<=1,(ROUNDUP((Selection!$G$3/F184),0))*E184,FALSE),FALSE)","v":6},false,{"$f":"AND($L$45=3,E184=Selection!$C$3)","v":false},false,{"$f":"IFERROR(IF((Selection!$G$12/F184)<=1,(ROUNDUP((Selection!$G$12/F184),0))*E184,FALSE),FALSE)","v":6},{"$f":"AND($L$45=3,E184=Selection!$C$12)","v":false}]
["MXS104",{"$f":"CONCATENATE(A185,Selection!$D$28)","v":"MXS104 up to 35C"},{"$f":"(VLOOKUP(B185,$A$5:$Y$42,$B$45,FALSE))/Selection!$I$25","v":856},{"$f":"(VLOOKUP(B185,$A$5:$Y$42,2,FALSE))/Selection!$I$25","v":164},7,5992,1148,{"$f":"IFERROR(IF(AND(Selection!$G$3/F185<=1,(L185+N185+O185)>=1),Selection!$G$3/F185,\"\"),\"\")","v":""},{"$f":"IFERROR(IF(AND(Selection!$G$12/F185<=1,(P185+N185+R185)>=1),Selection!$G$12/F185,\"\"),\"\")","v":""},{"$f":"IF('Input sheet'!$C$15='factors-pull down'!$A$133,1,2)","v":1},"MXS104-N2",false,{"$f":"IFERROR(IF((Selection!$G$3/F185)<=1,(ROUNDUP((Selection!$G$3/F185),0))*E185,FALSE),FALSE)","v":7},false,{"$f":"AND($L$45=3,E185=Selection!$C$3)","v":false},false,{"$f":"IFERROR(IF((Selection!$G$12/F185)<=1,(ROUNDUP((Selection!$G$12/F185),0))*E185,FALSE),FALSE)","v":7},{"$f":"AND($L$45=3,E185=Selection!$C$12)","v":false}]
["MXS104",{"$f":"CONCATENATE(A186,Selection!$D$28)","v":"MXS104 up to 35C"},{"$f":"(VLOOKUP(B186,$A$5:$Y$42,$B$45,FALSE))/Selection!$I$25","v":856},{"$f":"(VLOOKUP(B186,$A$5:$Y$42,2,FALSE))/Selection!$I$25","v":164},8,6848,1312,{"$f":"IFERROR(IF(AND(Selection!$G$3/F186<=1,(L186+N186+O186)>=1),Selection!$G$3/F186,\"\"),\"\")","v":""},{"$f":"IFERROR(IF(AND(Selection!$G$12/F186<=1,(P186+N186+R186)>=1),Selection!$G$12/F186,\"\"),\"\")","v":""},{"$f":"IF('Input sheet'!$C$15='factors-pull down'!$A$133,1,2)","v":1},"MXS104-N2",false,{"$f":"IFERROR(IF((Selection!$G$3/F186)<=1,(ROUNDUP((Selection!$G$3/F186),0))*E186,FALSE),FALSE)","v":8},false,{"$f":"AND($L$45=3,E186=Selection!$C$3)","v":false},false,{"$f":"IFERROR(IF((Selection!$G$12/F186)<=1,(ROUNDUP((Selection!$G$12/F186),0))*E186,FALSE),FALSE)","v":8},{"$f":"AND($L$45=3,E186=Selection!$C$12)","v":false}]
["MXS104",{"$f":"CONCATENATE(A187,Selection!$D$28)","v":"MXS104 up to 35C"},{"$f":"(VLOOKUP(B187,$A$5:$Y$42,$B$45,FALSE))/Selection!$I$25","v":856},{"$f":"(VLOOKUP(B187,$A$5:$Y$42,2,FALSE))/Selection!$I$25","v":164},9,7704,1476,{"$f":"IFERROR(IF(AND(Selection!$G$3/F187<=1,(L187+N187+O187)>=1),Selection!$G$3/F187,\"\"),\"\")","v":""},{"$f":"IFERROR(IF(AND(Selection!$G$12/F187<=1,(P187+N187+R187)>=1),Selection!$G$12/F187,\"\"),\"\")","v":""},{"$f":"IF('Input sheet'!$C$15='factors-pull down'!$A$133,1,2)","v":1},"MXS104-N2",false,{"$f":"IFERROR(IF((Selection!$G$3/F187)<=1,(ROUNDUP((Selection!$G$3/F187),0))*E187,FALSE),FALSE)","v":9},false,{"$f":"AND($L$45=3,E187=Selection!$C$3)","v":false},false,{"$f":"IFERROR(IF((Selection!$G$12/F187)<=1,(ROUNDUP((Selection!$G$12/F187),0))*E187,FALSE),FALSE)","v":9},{"$f":"AND($L$45=3,E187=Selection!$C$12)","v":false}]
["MXS104",{"$f":"CONCATENATE(A188,Selection!$D$28)","v":"MXS104 up to 35C"},{"$f":"(VLOOKUP(B188,$A$5:$Y$42,$B$45,FALSE))/Selection!$I$25","v":856},{"$f":"(VLOOKUP(B188,$A$5:$Y$42,2,FALSE))/Selection!$I$25","v":164},10,8560,1640,{"$f":"IFERROR(IF(AND(Selection!$G$3/F188<=1,(L188+N188+O188)>=1),Selection!$G$3/F188,\"\"),\"\")","v":""},{"$f":"IFERROR(IF(AND(Selection!$G$12/F188<=1,(P188+N188+R188)>=1),Selection!$G$12/F188,\"\"),\"\")","v":""},{"$f":"IF('Input sheet'!$C$15='factors-pull down'!$A$133,1,2)","v":1},"MXS104-N2",false,{"$f":"IFERROR(IF((Selection!$G$3/F188)<=1,(ROUNDUP((Selection!$G$3/F188),0))*E188,FALSE),FALSE)","v":10},false,{"$f":"AND($L$45=3,E188=Selection!$C$3)","v":false},false,{"$f":"IFERROR(IF((Selection!$G$12/F188)<=1,(ROUNDUP((Selection!$G$12/F188),0))*E188,FALSE),FALSE)","v":10},{"$f":"AND($L$45=3,E188=Selection!$C$12)","v":false}]
[]
[]
["EST Pre-treatment dryer energy savings"]
["Load %","% Avg energy saving @ 8barg, 30degC inlet","% Avg energy saving @ 10barg, 30degC inlet"]
[100,11,27,null,null,null,"NITROSource Pre-treatment dryers part numbers"]
[95,16,31,null,null,null,"Model Numbers - NITROSource Basic",null,"Model Numbers - NITROSource EST"]
[90,20,35,null,null,null,"230V AC 50Hz","115V AC 60Hz","230V AC 50Hz"]
[85,25,38,null,null,null,"DME012N2-E","DME012N2-W","DME012EST-N2-230v"]
[80,29,42,null,null,null,"DME015N2-E","DME015N2-W","DME015EST-N2-230v"]
[75,33,46,null,null,null,"DME020N2-E","DME020N2-W","DME020EST-N2-230v"]
[70,38,49,null,null,null,"DME025N2-E","DME025N2-W","DME025EST-N2-230v"]
[65,42,53,null,null,null,"DME030N2-E","DME030N2-W","DME030EST-N2-230v"]
[60,47,56,null,null,null,"DME040N2-E","DME040N2-W","DME040EST-N2-230v"]
[55,51,60,null,null,null,"DME050N2-E","DME050N2-W","DME050EST-N2-230v"]
[50,56,64,null,null,null,"DME060N2-E","DME060N2-W","DME060EST-N2-230v"]
[45,60,67,null,null,null,"DME080N2-E","DME080N2-W","DME080EST-N2-230v"]
[40,65,71,null,null,null,"85-265V AC 60/50Hz",null,"85-265V AC 60/50Hz"]
[35,69,75,null,null,null,"MXS102C-N2",null,"MXS102C-EST-N2"]
[30,73,78,null,null,null,"MXS103C-N2",null,"MXS103C-EST-N2"]
[25,78,82,null,null,null,"MXS103-N2",null,"MXS103-EST-N2"]
[20,82,85,null,null,null,"MXS104-N2",null,"MXS104-EST-N2"]
[15,87,89]
[10,91,93]
[5,96,96]

{"sheet":"OVR sizing","index":9,"n_rows":56,"n_cols":7,"rows_kept":56,"cut":false,"hidden":true,"merged":[]}
["OVR selection"]
["OVR's is needed for PSA generators when the Ambient temperature is higher then 35°C\nThe flow rate and sizing of the OVR, however, is based on the air Inlet temperature."]
["Correction factor temperature (CFT)",null,null,null,"Correction factor pressure (CFP)"]
["Temperature °C","Oil Lubricated compressor","Oil-free compressor","OVR needed based on ambient temperature","Pressure","CFP"]
["5°C (41°F)",1,1,5,"4",1.6]
["10 °C (50°F)",1,1,10,"4,5",1.6]
["15°C (59°F)",1,1,15,"5",1.33]
["20°C (68°F)",1,1,20,"5,5",1.33]
["25°C (77°F)",1,1,25,"6",1.1399999999999999]
["30°C (86°F)",1,1,30,"6,5",1.1399999999999999]
["35°C (95°F)",1,1,35,"7",1]
["40°C (104°F)",1.25,1.02,40,"7,5",1]
["45°C (113°F)",1.55,1.04,45,"8",1]
["50°C (122°F)",1.9,1.05,50,"8,5",1]
["CFT",{"$f":"VLOOKUP('Input sheet'!B9,A5:B14,2,FALSE)","v":1},{"$f":"VLOOKUP('Input sheet'!B9,A5:C14,3,FALSE)","v":1},{"$f":"VLOOKUP('Input sheet'!B8,A5:D14,4,FALSE)","v":20},"9",1]
["OVR needed/requested:",{"$f":"IF(OR(D15>35,'Input sheet'!B12=Talen!A28),TRUE,\"n/a\")","v":"n/a"},null,null,"9,5",1]
["Select correction factor",{"$f":"(IF('Input sheet'!C16='factors-pull down'!A137,B15,C15))*B16","v":{"$error":"#VALUE!"}},null,null,"10",1]
[null,null,null,null,"10,5"]
[null,null,null,null,"11"]
[null,null,null,null,"11,5"]
[null,null,null,null,"12"]
[null,null,null,null,"12,5"]
[null,null,null,null,"13"]
[null,null,null,null,"13,5"]
[null,null,null,null,"14"]
[null,null,null,null,"14,5"]
[null,null,null,null,"15"]
[null,null,null,null,"15,5"]
[null,null,null,null,"16"]
[null,null,null,null,"CFP",{"$f":"VLOOKUP(Selection!C21,E5:F29,2,FALSE)","v":1.1399999999999999}]
[]
["Minimum filtration capacity",null,{"$f":"Selection!G3*B17*F30","v":{"$error":"#VALUE!"}},{"$f":"Selection!H25","v":"m3/hr"}]
[]
["Model","Flow (m3/hr)","Performance in customer selected flow metric","price reference","Dust filter","For model selection everything is based on Gas thread"]
["OVR300H",314,{"$f":"B35/Selection!$I$25","v":314},1,"AAR030GGMX"]
["OVR350H",637,{"$f":"B36/Selection!$I$25","v":637},1.8532384874578809,"AAR040GGMX"]
["OVR400H",1274,{"$f":"B37/Selection!$I$25","v":1274},2.9400973418195431,"AAR050IGMX"]
["OVE450I",1911,{"$f":"B38/Selection!$I$25","v":1911},3.9052789217521529,"AAR055IGMX"]
["OVR500I",2549,{"$f":"B39/Selection!$I$25","v":2549},5.1231748408835642,"AAR060KGMX"]
["OVR550I",3186,{"$f":"B40/Selection!$I$25","v":3186},6.2714339198801943,"AAR060KGMX"]
[]
[]
["OVR (is article number)","Flow in customer metric","number of OVR's","Total flow in customer metric","% feed-air consumption per PSA generator","article number","price reference"]
["OVR300H",{"$f":"VLOOKUP(A44,$A$35:$C$40,3,FALSE)","v":314},1,{"$f":"B44*C44","v":314},{"$f":"IF(($C$32/D44)<=1,($C$32/D44),\"\")","v":{"$error":"#VALUE!"}},"OVR300HGXX",{"$f":"IFERROR(VLOOKUP(A44,$A$35:$D$40,4,FALSE)*C44*(IF(E44=\"\",\"na\",1)),\"\")","v":""}]
["OVR350H",637,1,{"$f":"B45*C45","v":637},{"$f":"IF(($C$32/D45)<=1,($C$32/D45),\"\")","v":{"$error":"#VALUE!"}},"OVR350HGXX",""]
["OVR400H",1274,1,{"$f":"B46*C46","v":1274},{"$error":"#VALUE!"},"OVR400HGXX",""]
["OVE450I",1911,1,1911,{"$error":"#VALUE!"},"OVE450IGXX",""]
["OVR500I",2549,1,2549,{"$error":"#VALUE!"},"OVR500IGXX",""]
["OVR550I",3186,1,3186,{"$error":"#VALUE!"},"OVR550IGXX",""]
["OVR500I",2549,2,5098,{"$error":"#VALUE!"},"OVR500IGXX",""]
["OVR550I",3186,2,6372,{"$error":"#VALUE!"},"OVR550IGXX",""]
["OVR500I",2549,3,7647,{"$error":"#VALUE!"},"OVR500IGXX",""]
["OVR550I",3186,3,9558,{"$error":"#VALUE!"},"OVR550IGXX",""]
["OVR500I",2549,4,{"$f":"B54*C54","v":10196},{"$f":"IF(($C$32/D54)<=1,($C$32/D54),\"\")","v":{"$error":"#VALUE!"}},"OVR500IGXX",""]
["OVR550I",3186,4,12744,{"$error":"#VALUE!"},"OVR550IGXX",""]
["OVR550I",3186,5,15930,{"$f":"IF(($C$32/D56)<=1,($C$32/D56),\"\")","v":{"$error":"#VALUE!"}},"OVR550IGXX",""]

{"sheet":"Buffer vessel","index":10,"n_rows":23,"n_cols":7,"rows_kept":23,"cut":false,"hidden":true,"merged":[]}
["Buffer vessel"]
[]
["Buffer vessel NITROSource"]
["NITROSource Model","Buffer vessel size - litres","Part Number"]
["N2-20P",250,"606201444"]
["N2-25P",500,"606201450"]
["N2-35P",500,"606201450"]
["N2-45P",750,"606201452"]
["N2-55P",750,"606201452"]
["N2-60P",750,"606201452"]
["N2-65P",1000,"606201456"]
["N2-75P",1000,"606201456"]
["N2-80P",1000,"606201456"]
[]
["Buffer vessel MIDIGAS"]
["Nitrogen Flow in customer metric",{"$f":"Selection!B3","v":22},{"$f":"Selection!H25","v":"m3/hr"},{"$f":"B16*Selection!I25","v":22},"m3/hr","Use vessel row",{"$f":"IFERROR(MATCH(MAX('Buffer vessel'!C19:C23),'Buffer vessel'!C19:C23,0),\"na\")","v":4}]
[]
["Flow rate (m3/hr)","up to (m3/hr)","% of vessel size","Part Number","Vessel Sizes (l)"]
[0,3,{"$f":"IFERROR(IF(($D$16/B19)<=1,($D$16/B19),\"\"),\"\")","v":""},"60 620 0238",50]
[3.1,7.5,{"$f":"IFERROR(IF(($D$16/B20)<=1,($D$16/B20),\"\"),\"\")","v":""},"60 620 1440",150]
[7.6,12.3,"","60 620 1444",250]
[12.4,24,0.91666666666666663,"60 620 1450",500]
[24.1,34,0.6470588235294118,"60 620 1452",750]

{"sheet":"factors-pull down","index":11,"n_rows":147,"n_cols":28,"rows_kept":147,"cut":false,"hidden":true,"merged":[]}
["Purity","5ppm","10ppm","50ppm","100ppm","250ppm","500ppm","0,1%","0,4%","0,5%","1%","2%","3%","4%","5%"]
["Purity colum",1,2,3,4,5,6,7,8,9,10,11,12,13,14]
[]
["MIDIGAS range temperature correction factors"]
[null,"5ppm","10ppm","50ppm","100ppm","250ppm","500ppm",1E-3,4.0000000000000001E-3,5.0000000000000001E-3,0.01,0.02,0.03,0.04,0.05]
["5°C (41°F)",null,0.8,0.8,0.8,0.8,0.8,0.8,null,0.8,0.8,0.8,0.8,0.8,0.8]
["10 °C (50°F)",null,0.9,0.9,0.9,0.9,0.9,0.9,null,0.9,0.9,0.9,0.9,0.9,0.9]
["15°C (59°F)",null,0.94,0.94,0.94,0.94,0.94,0.94,null,0.94,0.94,0.94,0.94,0.94,0.94]
["20°C (68°F)",null,1,1,1,1,1,1,null,1,1,1,1,1,1]
["25°C (77°F)",null,1,1,1,1,1,1,null,1,1,1,1,1,1]
["30°C (86°F)",null,0.98,0.98,0.98,0.98,0.98,0.98,null,0.98,0.98,0.98,0.98,0.98,0.98]
["35°C (95°F)",null,0.95,0.95,0.95,0.95,0.95,0.95,null,0.95,0.95,0.95,0.95,0.95,0.95]
["40°C (104°F)",null,0.9,0.9,0.9,0.9,0.9,0.9,null,0.9,0.9,0.9,0.9,0.9,0.9]
["45°C (113°F)",null,0.85,0.85,0.85,0.85,0.85,0.85,null,0.85,0.85,0.85,0.85,0.85,0.85]
["50°C (122°F)",null,0.72,0.72,0.72,0.72,0.72,0.72,null,0.72,0.72,0.72,0.72,0.72,0.72]
[]
[]
["NitroSource range  temperature correction factors",null,null,null,null,null,null,null,null,null,null,null,null,null,null,"NitroSource range flow cor. Factor"]
[null,"5ppm","10ppm","50ppm","100ppm","250ppm","500ppm",1E-3,4.0000000000000001E-3,5.0000000000000001E-3,0.01,0.02,0.03,0.04,0.05,"5ppm","10 ppm","50ppm","100ppm","250ppm","500ppm",1E-3,5.0000000000000001E-3,0.01,0.02,0.03,0.04,0.05]
["5°C (41°F)"]
["10 °C (50°F)",null,null,null,null,null,null,null,null,0.9,0.9,0.9,0.9,0.9,0.9,null,null,null,null,null,null,null,0.9,0.9,0.9,0.9,0.9,0.9]
["15°C (59°F)",null,null,null,null,null,null,null,null,{"$f":"AVERAGE(J21,J23)","v":0.95},0.95,0.95,0.95,0.95,0.95,null,null,null,null,null,null,null,{"$f":"AVERAGE(W21,W23)","v":0.95},0.95,0.95,0.95,0.95,0.95]
["20°C (68°F)",null,null,null,null,null,null,null,null,1,1,1,1,1,1,null,null,null,null,null,null,null,1,1,1,1,1,1]
["25°C (77°F)",null,null,null,null,null,null,null,null,{"$f":"AVERAGE(J23,J25)","v":1},1,1,1,1,1,null,null,null,null,null,null,null,{"$f":"AVERAGE(W23,W25)","v":1.05},1.05,1.05,1.05,1.05,1.05]
["30°C (86°F)",null,null,null,null,null,null,null,null,1,1,1,1,1,1,null,null,null,null,null,null,null,1.1000000000000001,1.1000000000000001,1.1000000000000001,1.1000000000000001,1.1000000000000001,1.1000000000000001]
["35°C (95°F)",null,null,null,null,null,null,null,null,{"$f":"AVERAGE(J25,J27)","v":0.8},0.9,1,1,1.05,1.05,null,null,null,null,null,null,null,{"$f":"AVERAGE(W25,W27)","v":1.1499999999999999},1.1499999999999999,1.1499999999999999,1.1499999999999999,1.1499999999999999,1.1499999999999999]
["40°C (104°F)",null,null,null,null,null,null,null,null,0.6,0.8,1,1,1.1000000000000001,1.1000000000000001,null,null,null,null,null,null,null,1.2,1.2,1.2,1.2,1.2,1.2]
["45°C (113°F)"]
["50°C (122°F)"]
[]
[]
["NitroFlow range  temperature correction factors",null,null,null,null,null,null,null,null,null,null,null,null,null,null,"NitroFlow range flow cor. Factor"]
[null,"5ppm","10ppm","50ppm","100ppm","250ppm","500ppm",1E-3,4.0000000000000001E-3,5.0000000000000001E-3,0.01,0.02,0.03,0.04,0.05,"5ppm","10 ppm","50ppm","100ppm","250ppm","500ppm",1E-3,5.0000000000000001E-3,0.01,0.02,0.03,0.04,0.05]
["5°C (41°F)"]
["10 °C (50°F)",null,null,null,null,null,null,null,null,0.9,0.9,0.9,0.9,0.9,0.9,null,null,null,null,null,null,null,0.9,0.9,0.9,0.9,0.9,0.9]
["15°C (59°F)",null,null,null,null,null,null,null,null,{"$f":"AVERAGE(J35,J37)","v":0.95},0.95,0.95,0.95,0.95,0.95,null,null,null,null,null,null,null,{"$f":"AVERAGE(W35,W37)","v":0.95},0.95,0.95,0.95,0.95,0.95]
["20°C (68°F)",null,null,null,null,null,null,null,null,1,1,1,1,1,1,null,null,null,null,null,null,null,1,1,1,1,1,1]
["25°C (77°F)",null,null,null,null,null,null,null,null,{"$f":"AVERAGE(J37,J39)","v":1},1,1,1,1,1,null,null,null,null,null,null,null,{"$f":"AVERAGE(W37,W39)","v":1.05},1.05,1.05,1.05,1.05,1.05]
["30°C (86°F)",null,null,null,null,null,null,null,null,1,1,1,1,1,1,null,null,null,null,null,null,null,1.1000000000000001,1.1000000000000001,1.1000000000000001,1.1000000000000001,1.1000000000000001,1.1000000000000001]
["35°C (95°F)",null,null,null,null,null,null,null,null,{"$f":"AVERAGE(J39,J41)","v":0.8},0.9,1,1,1.05,1.05,null,null,null,null,null,null,null,{"$f":"AVERAGE(W39,W41)","v":1.1499999999999999},1.1499999999999999,1.1499999999999999,1.1499999999999999,1.1499999999999999,1.1499999999999999]
["40°C (104°F)",null,null,null,null,null,null,null,null,0.6,0.8,1,1,1.1000000000000001,1.1000000000000001,null,null,null,null,null,null,null,1.2,1.2,1.2,1.2,1.2,1.2]
["45°C (113°F)"]
["50°C (122°F)"]
[]
[]
["NITROSource PSA range temperature correction factors"]
["Temp  | Purity","5ppm","10ppm","50ppm","100ppm","250ppm","500ppm",1E-3,4.0000000000000001E-3,5.0000000000000001E-3,0.01,0.02,0.03,0.04,0.05]
["Ambient Temperature",1,2,3,4,5,6,7,null,8,9,10,11,12,13]
["5°C (41°F)",0.8,0.8,0.8,0.8,0.8,0.8,0.8,0.8,0.8,0.8,0.8,0.8,0.8,0.8]
["10 °C (50°F)",0.9,0.9,0.9,0.9,0.9,0.9,0.9,0.9,0.9,0.9,0.9,0.9,0.9,0.9]
["15°C (59°F)",0.94,0.94,0.94,0.94,0.94,0.94,0.94,0.94,0.94,0.94,0.94,0.94,0.94,0.94]
["20°C (68°F)",1,1,1,1,1,1,1,1,1,1,1,1,1,1]
["25°C (77°F)",0.97499999999999998,0.97499999999999998,0.97750000000000004,0.97750000000000004,0.97750000000000004,0.97750000000000004,0.98,0.98,0.98,0.98,0.98,0.98,0.98,0.98]
["30°C (86°F)",0.95,0.95,0.95499999999999996,0.95499999999999996,0.95499999999999996,0.95499999999999996,0.96,0.96,0.96,0.96,0.96,0.96,0.96,0.96]
["35°C (95°F)",0.85499999999999998,0.85499999999999998,0.87999999999999989,0.87999999999999989,0.87999999999999989,0.87999999999999989,0.90500000000000003,0.90500000000000003,0.90500000000000003,0.90500000000000003,0.90500000000000003,0.90500000000000003,0.90500000000000003,0.90500000000000003]
["40°C (104°F)",0.76,0.76,0.80499999999999994,0.80499999999999994,0.80499999999999994,0.80499999999999994,0.85,0.85,0.85,0.85,0.85,0.85,0.85,0.85]
["45°C (113°F)",0.66,0.66,0.72750000000000004,0.72750000000000004,0.72750000000000004,0.72750000000000004,0.79499999999999993,0.79499999999999993,0.79499999999999993,0.79499999999999993,0.79499999999999993,0.79499999999999993,0.79499999999999993,0.79499999999999993]
["50°C (122°F)",0.56000000000000005,0.56000000000000005,0.65,0.65,0.65,0.65,0.74,0.74,0.74,0.74,0.74,0.74,0.74,0.74]
[]
["Energy Saving Technology"]
["Flow Demand (%)","Predicted Average Energy Savings (%)"]
[0.1,0.71]
[0.15,0.65900000000000003]
[0.2,0.61299999999999999]
[0.25,0.56999999999999995]
[0.3,0.53100000000000003]
[0.35,0.496]
[0.4,0.46500000000000002]
[0.45,0.436]
[0.5,0.41]
[0.55000000000000004,0.38600000000000001]
[0.6,0.36200000000000004]
[0.65,0.33899999999999997]
[0.7,0.315]
[0.75,0.28999999999999998]
[0.8,0.26200000000000001]
[0.85,0.23]
[0.9,0.19399999999999998]
[0.95,0.151]
[1,0.1]
[]
[]
["Dryer temperature"]
["5°C (41°F)"," up to 35C"]
["10 °C (50°F)"," up to 35C"]
["15°C (59°F)"," up to 35C"]
["20°C (68°F)"," up to 35C"]
["25°C (77°F)"," up to 35C"]
["30°C (86°F)"," up to 35C"]
["35°C (95°F)"," up to 45C"]
["40°C (104°F)"," up to 45C"]
["45°C (113°F)"," up to 45C"]
["50°C (122°F)"]
[]
[]
["Pull down menu's"]
[]
[{"$f":"Talen!A12","v":"Select flow dimension"},null,null,0]
[{"$f":"Talen!A13","v":"m3/hr reference temperature 20°C"},null,"m3/hr",1]
[{"$f":"Talen!A14","v":"Nm3/hr reference temperature 0°C"},null,"Nm3/hr ",2]
[{"$f":"Talen!A15","v":"SCFM reference temperature 60°F (15,5°C)"},null,"SCFM",3]
[{"$f":"Talen!A16","v":"SCFH reference temperature 60°F (15,5°C)"},null,"SCFH",4]
[{"$f":"Talen!A17","v":"l/m reference temperature 20°C"},null,"l/m",5]
[]
["Pressure barg","psi","Barg","psi"]
["4",58,"3",43.5]
["4,5",65.3,"3,5",50.8]
["5",72.5,"4",58]
["5,5",79.8,"4,5",65.3]
["6",87,"5",72.5]
["6,5",94.3,"5,5",79.8]
["7",101.5,"6",87]
["7,5",108.8,"6,5",94.3]
["8",116,"7",101.5]
["8,5",123.3,"7,5",108.8]
["9",130.5,"8",116]
["9,5",137.80000000000001,"8,5",123.3]
["10",145,"9",130.5]
["10,5",152.30000000000001,"9,5",137.80000000000001]
["11",159.5,"10",145]
["11,5",166.8,"10,5",152.30000000000001]
["12",174,"11",159.5]
["12,5",181.3,"11,5",166.8]
["13",188.5,"12",174]
["13,5",195.8,"12,5",181.3]
["14",203.1,"13",188.5]
[]
["pressure drop over pre-treatment"]
[0,0]
[1,14.5]
[]
["Power supply"]
["230V-50 Hz","-E"]
["115V-60 Hz","-W"]
[]
["Compressor type "]
[{"$f":"Talen!A37","v":"Oil lubricated"}]
[{"$f":"Talen!A38","v":"Oil-free"}]
[]
["Dryer options"]
[{"$f":"Talen!A25","v":"Minimum number of dryers"},1]
[{"$f":"Talen!A26","v":"Match dryer with number of generators"},3]
[{"$f":"Talen!A27","v":"2 dryers"},2]
[]
["Oil vapour removal needed"]
[{"$f":"Talen!A28","v":"Yes"},1]
[{"$f":"Talen!A29","v":"Automatic selection on feed-air temperature"}]

{"sheet":"Part numbers","index":12,"n_rows":228,"n_cols":48,"rows_kept":228,"cut":false,"hidden":true,"merged":[[9,31,9,39],[174,12,174,13],[174,16,174,17],[174,18,174,22],[174,33,174,34],[174,35,174,42],[172,2,172,14],[172,16,172,22],[172,33,172,42],[173,12,173,13],[173,16,173,17],[173,18,173,22],[173,33,173,34],[173,35,173,42],[169,25,169,26],[169,27,169,28],[169,29,169,30],[175,33,175,34],[175,35,175,42],[169,15,169,16],[169,17,169,18],[169,19,169,20],[169,21,169,22],[169,23,169,24],[169,5,169,6],[169,7,169,8],[169,9,169,10],[169,11,169,12],[169,13,169,14],[164,33,164,42],[165,33,165,34],[165,35,165,42],[166,33,166,34],[166,35,166,42],[162,20,162,21],[162,23,162,29],[163,23,163,24],[163,25,163,29],[164,23,164,24],[164,25,164,29],[12,11,12,12],[3,11,3,16],[4,11,4,12],[5,11,5,12],[6,11,6,12],[7,11,7,12],[8,11,8,12],[9,11,9,12],[10,11,10,12],[11,11,11,12],[14,16,14,24],[15,16,15,17],[16,16,16,17],[16,18,16,24],[17,16,17,17],[19,16,19,17],[19,18,19,19],[19,20,19,21],[19,22,19,23],[21,5,21,15],[21,18,21,24],[19,6,19,7],[19,8,19,9],[19,10,19,11],[19,12,19,13],[19,14,19,15],[38,35,38,44],[21,27,21,37],[22,5,22,6],[22,18,22,19],[22,27,22,28],[23,11,23,12],[23,18,23,19],[23,27,23,28],[24,18,24,19],[26,0,35,44],[36,0,36,44],[37,35,37,44],[104,1,116,1],[169,1,169,2],[169,3,169,4],[39,1,51,1],[52,1,64,1],[65,1,77,1],[78,1,90,1],[91,1,103,1],[117,1,129,1],[130,1,142,1],[143,1,155,1]]}
["NITROSource N2 CATALOGUE NUMBER CODE"]
[]
[]
[null,null,null,null,null,null,null,null,null,null,null,"Model"]
[null,null,null,null,null,null,null,null,null,null,null,20,null,"4 Chambers"]
[null,null,null,null,null,null,null,null,null,null,null,25,null,"6 Chambers"]
[null,null,null,null,null,null,null,null,null,null,null,35,null,"8 Chambers"]
[null,null,null,null,null,null,null,null,null,null,null,45,null,"10 Chambers"]
[null,null,null,null,null,null,null,null,null,null,null,55,null,"12 Chambers"]
[null,null,null,null,null,null,null,null,null,null,null,60,null,"14 Chambers",null,null,null,null,null,null,null,null,null,null,null,null,null,null,null,null,null,"Output Pressure (Barg)"]
[null,null,null,null,null,null,null,null,null,null,null,65,null,"16 Chambers",null,null,null,null,null,null,null,null,null,null,null,null,null,null,null,null,null,"5","5,5","6","6,5","7","7,5","8","8,5","9","9,5","10","10.5","11","11,5","12","12,5","13"]
[null,null,null,null,null,null,null,null,null,null,null,75,null,"18 Chambers",null,null,null,null,null,null,null,null,null,null,null,null,null,null,null,null,"FLOW M3/HR"]
[null,null,null,null,null,null,null,null,null,null,null,80,null,"20 Chambers",null,null,null,null,null,null,null,null,null,null,null,null,null,null,null,null,"LF = 0-60 M3/HR",61,61,66,66,70,74,74,74,78,82,82,86,86,89,89,93,93]
[null,null,null,null,null,null,null,null,null,null,null,null,null,null,null,null,null,null,null,null,null,null,null,null,null,null,null,null,null,null,"MF = 60-120M3/HR",{"$f":"AF13*2","v":122},{"$f":"AG13*2","v":122},132,{"$f":"AI13*2","v":132},140,{"$f":"AK13*2","v":148},148,{"$f":"AM13*2","v":148},156,{"$f":"AO13*2","v":164},164,{"$f":"AQ13*2","v":172},172,{"$f":"AS13*2","v":178},178,{"$f":"AU13*2","v":186},186]
[null,null,null,null,null,null,null,null,null,null,null,null,null,null,null,null,"O2 Purity",null,null,null,null,null,null,null,null,null,null,null,null,null,"HF = 120-300 M3/HR",190,190,205,205,219,232,232,232,245,257,257,268,268,279,279,290,290]
[null,null,null,null,null,null,null,null,null,null,null,null,null,null,null,null,"X",null,"Ultra High Purity (≤10ppm)",null,null,null,null,null,null,{"$f":"IF(Selection!G26<3,\"X\",IF(Selection!G26<7,\"A\",\"B\"))","v":"B"},null,null,null,null,"Note: Worst case = 13 Bar Inlet to the generator with 5 barg set pressure on outlet regulator"]
[null,null,null,null,null,null,null,null,null,null,null,null,null,null,null,null,"A",null,"High Purity (ppm)"]
[null,null,null,null,null,null,null,null,null,null,null,null,null,null,null,null,"B",null,"Low Purity (%)"]
[]
[null,null,null,null,null,null,"N",null,2,null,"-",null,8,null,0,null,"P",null,"A",null,"L",null,"N"]
[null,null,null,null,null,null,null,null,null,null,null,null,null,null,null,null,null,null,null,null,null,null,null,null,null,{"$f":"Selection!B3","v":22},{"$f":"Selection!H25","v":"m3/hr"}]
[null,null,null,null,null,"Technology ",null,null,null,null,null,null,null,null,null,null,null,null,"Flow",null,null,null,null,null,null,{"$f":"Z21*Selection!I25","v":22},"m3/hr","Energy Saving Technology (EST)"]
[null,null,null,null,null,"P",null,"Pressure Swing Adsorption (PSA)",null,null,null,null,null,null,null,null,null,null,"L",null,"Low Flow",null,null,null,null,{"$f":"HLOOKUP('Input sheet'!C14,AF11:AV15,3,FALSE)","v":66},null,"N",null,"No - Does not include this feature",null,null,null,null,null,null,null,null,"N"]
[null,null,null,null,null,null,null,null,null,null,null,null,null,null,null,null,null,null,"M",null,"Medium Flow",null,null,null,null,{"$f":"IF(Z22<Z23,\"L\",IF(Z22<Z25,\"M\",\"H\"))","v":"L"},null,"Y",null,"Yes - Includes this feauture",null,null,null,null,null,null,null,null,{"$f":"IF(Selection!G26<3,\"N\",\"Y\")","v":"Y"}]
[null,null,null,null,null,null,null,null,null,null,null,null,null,null,null,null,null,null,"H",null,"High Flow",null,null,null,null,{"$f":"HLOOKUP('Input sheet'!C14,AF11:AV15,5,FALSE)","v":205}]
[null,null,null,null,null,null,null,"`"]
["NOTES: \n1. Equalising build as standard (No Non-equalising builds avaiable)\n2. Single build for whole of pressure range: 5 - 13Barg\n3. Model code is flow M3/Hr at 0.5% 7 barg 20 degC (Rounded to the nearest 5m3/Hr) (Note: New 14 & 18 Chamber builds)\n4. Ultra High Purity = ≤10ppm (Galvanic Sensor Technology)\n5. High Purity (ppm) = 50ppm, 100ppm, 250ppm, 500ppm, 1000ppm\n6. Low Purity (%) = 0.5%, 1%, 2%. (3-5% range now covered by Nitrosource Membrane Range)\n7. Three build varrients depending on outlet flow @ 5 Barg- L (0-60 M3/Hr) - M (60-120 M3/Hr) - H (120-300 M3/Hr)\n8. New Energy Saving Technology (Note: Not on avaiable on 10ppm generators)"]
[]
[]
[]
[]
[]
[]
[]
[]
[]
["TOP LEVEL DRAWINGS / CATALOGUE NUMBERS"]
[null,null,null,null,null,null,null,null,null,null,null,null,null,null,null,null,null,null,null,null,null,null,null,null,null,null,null,null,null,null,null,null,null,null,null,"STANDARD BUILD  (N)"]
["CATALOGUE NUMBER","CHAMBERS","COUNT",null,null,null,null,null,null,null,null,null,null,null,null,null,null,null,null,null,null,null,null,null,null,null,null,null,null,null,null,null,null,null,null,"EST (Y)"]
["N2-20PALN",4,1]
["N2-20PAMN"]
["N2-20PAHN"]
["N2-20PXLN",null,2]
["N2-20PBLN",null,3]
["N2-20PBMN"]
["N2-20PBHN"]
["N2-20PALY",null,4]
["N2-20PAMY"]
["N2-20PAHY"]
["N2-20PBLY",null,5]
["N2-20PBMY"]
["N2-20PBHY"]
["N2-25PALN",6,6]
["N2-25PAMN"]
["N2-25PAHN"]
["N2-25PXLN",null,7]
["N2-25PBLN",null,8]
["N2-25PBMN",null,9]
["N2-25PBHN"]
["N2-25PALY",null,10]
["N2-25PAMY"]
["N2-25PAHY"]
["N2-25PBLY",null,11]
["N2-25PBMY",null,12]
["N2-25PBHY"]
["N2-35PALN",8,13]
["N2-35PAMN"]
["N2-35PAHN"]
["N2-35PXLN",null,14]
["N2-35PBLN",null,15]
["N2-35PBMN",null,16]
["N2-35PBHN"]
["N2-35PALY",null,17]
["N2-35PAMY"]
["N2-35PAHY"]
["N2-35PBLY",null,18]
["N2-35PBMY",null,19]
["N2-35PBHY"]
["N2-45PALN",10,20]
["N2-45PAMN"]
["N2-45PAHN"]
["N2-45PXLN",null,21]
["N2-45PBLN",null,22]
["N2-45PBMN",null,23]
["N2-45PBHN"]
["N2-45PALY",null,24]
["N2-45PAMY"]
["N2-45PAHY"]
["N2-45PBLY",null,25]
["N2-45PBMY",null,26]
["N2-45PBHY"]
["N2-55PALN",12,27]
["N2-55PAMN"]
["N2-55PAHN"]
["N2-55PXLN",null,28]
["N2-55PBLN",null,29]
["N2-55PBMN",null,30]
["N2-55PBHN",null,31]
["N2-55PALY",null,32]
["N2-55PAMY"]
["N2-55PAHY"]
["N2-55PBLY",null,33]
["N2-55PBMY",null,34]
["N2-55PBHY",null,35]
["N2-60PALN",14,36]
["N2-60PAMN",null,37]
["N2-60PAHN"]
["N2-60PXLN",null,38]
["N2-60PBLN",null,39]
["N2-60PBMN",null,40]
["N2-60PBHN",null,41]
["N2-60PALY",null,42]
["N2-60PAMY",null,43]
["N2-60PAHY"]
["N2-60PBLY",null,44]
["N2-60PBMY",null,45]
["N2-60PBHY",null,46]
["N2-65PALN",16,47]
["N2-65PAMN",null,48]
["N2-65PAHN"]
["N2-65PXLN",null,49]
["N2-65PBLN",null,50]
["N2-65PBMN",null,51]
["N2-65PBHN",null,52]
["N2-65PALY",null,53]
["N2-65PAMY",null,54]
["N2-65PAHY"]
["N2-65PBLY",null,55]
["N2-65PBMY",null,56]
["N2-65PBHY",null,57]
["N2-75PALN",18,58]
["N2-75PAMN",null,59]
["N2-75PAHN"]
["N2-75PXLN",null,60]
["N2-75PBLN",null,61]
["N2-75PBMN",null,62]
["N2-75PBHN",null,63]
["N2-75PALY",null,64]
["N2-75PAMY",null,65]
["N2-75PAHY"]
["N2-75PBLY",null,66]
["N2-75PBMY",null,67]
["N2-75PBHY",null,68]
["N2-80PALN",20,69]
["N2-80PAMN",null,70]
["N2-80PAHN"]
["N2-80PXLN",null,71]
["N2-80PBLN",null,72]
["N2-80PBMN",null,73]
["N2-80PBHN",null,74]
["N2-80PALY",null,75]
["N2-80PAMY",null,76]
["N2-80PAHY"]
["N2-80PBLY",null,77]
["N2-80PBMY",null,78]
["N2-80PBHY",null,79]
[]
[null,null,null,null,null,null,null,null,null,null,null,null,null,null,null,null,null,null,"No. of Chambers"]
[null,null,null,null,null,null,null,null,null,null,null,null,null,null,null,null,null,null,{"$f":"\"2\"","v":"2"},null,"2 Chambers"]
[null,null,null,null,null,null,null,null,null,null,null,null,null,null,null,null,null,null,{"$f":"\"4\"","v":"4"},null,"4 Chambers"]
[null,null,null,null,null,null,null,null,null,null,null,null,null,null,null,null,null,null,{"$f":"\"6\"","v":"6"},null,"6 Chambers"]
[]
[null,null,null,null,null,null,null,null,null,null,null,null,null,null,null,null,null,null,null,null,null,null,null,"Flow Control"]
[null,null,null,null,null,null,null,null,null,null,null,null,null,null,null,null,null,null,null,null,null,null,null,"C",null,"Constant",null,null,null,null,"C"]
[null,null,null,null,null,null,null,null,null,null,null,null,null,null,null,null,null,null,null,null,null,null,null,"P",null,"Pulsed",null,null,null,null,null,null,null,"Maximum Design Pressure"]
[null,null,null,null,null,null,null,null,null,null,null,null,null,null,null,null,null,null,null,null,null,null,null,null,null,null,null,null,null,null,null,null,null,"L",null,"Low Pressure (6 - 10 barg)",null,null,null,null,null,null,null,{"$f":"IF(Selection!C21<10,\"L\",\"H\")","v":"H"}]
[null,null,null,null,null,null,null,null,null,null,null,null,null,null,null,null,null,null,null,null,null,null,null,null,null,null,null,null,null,null,null,null,null,"H",null,"High Pressure(above 10-13 barg)"]
[]
[]
[null,null,null,null,null,"M",null,"I",null,"D",null,"I",null,"G",null,"A",null,"S",null,2,null,"N",null,"C",null,"A",null,"L",null,"N"]
[]
[]
[null,null,null,null,null,null,null,null,null,null,null,null,null,null,null,null,"Mode Of Operation",null,null,null,null,null,null,null,null," O2 Purity",null,null,null,null,null,null,null,"Outlet  Version"]
[null,null,null,null,null,null,null,null,null,null,null,null,null,null,null,null,"N",null,"Non - Equalising",null,null,null,null,"N",null,"A",null,"ppm",null,null,null,{"$f":"IF(Selection!G26<7,\"A\",\"B\")","v":"B"},null,"N",null,"No Analyser",null,null,null,null,null,null,null,"A"]
[null,null,null,null,null,null,null,null,null,null,null,null,null,null,null,null,"E",null,"Equalising(Optional)",null,null,null,null,null,null,"B",null,"%",null,null,null,null,null,"A",null,"With Analyser"]
[]
[null,null,null,null,null,null,null,null,null,null,null,null,null,null,null,null,null,null,null,null,null,null,null,null,null,null,null,null,null,null,null,null,null,"No Analyser unit has LED display as standard"]
[null,null,null,null,null,null,null,null,null,null,null,null,null,null,null,null,null,null,null,null,null,null,null,null,null,null,null,null,null,null,null,null,null,"With Analyser unit has MAXIGAS display as standard"]
[]
["Nitrosource "]
["Nitrosource HiFluxx Main","159.003552"]
["Nitrosource HiFluxx Sub","159.003553"]
[]
["NitroFlow"]
["NitroFlow HP1","159.004032"]
["NitroFlow HP2","159.004033"]
["NitroFlow HP3","159.004034"]
[]
[]
["Pre-treatment Dryers Part Numbers"]
["CatalogueRef","Description",null,null,"Select power range"]
["DME012N2-E","DME012 N2 230V ",null,null,{"$f":"VLOOKUP('Input sheet'!$C$15,'factors-pull down'!A133:B134,2,FALSE)","v":"-E"}]
["DME015N2-E","DME015 N2 230V "]
["DME020N2-E","DME020 N2 230V "]
["DME025N2-E","DME025 N2 230V "]
["DME030N2-E","DME030 N2 230V "]
["DME040N2-E","DME040 N2 230V "]
["DME050N2-E","DME050 N2 230V "]
["DME060N2-E","DME060 N2 230V "]
["DME080N2-E","DME080 N2 230V "]
["DME012N2-W","DME012 N2 110V "]
["DME015N2-W","DME015 N2 110V "]
["DME020N2-W","DME020 N2 110V "]
["DME025N2-W","DME025 N2 110V "]
["DME030N2-W","DME030 N2 110V "]
["DME040N2-W","DME040 N2 110V "]
["DME050N2-W","DME050 N2 110V "]
["DME060N2-W","DME060 N2 110V "]
["DME080N2-W","DME080 N2 110V "]
["DAS1-N2-W","DAS1 N2 110/1/50 BSP AA PE CE"]
["DAS2-N2-W","DAS2 N2 110/1/50 BSP AA PE CE"]
["DAS3-N2-W","DAS3 N2 110/1/50 BSP AA PE CE"]
["DAS4-N2-W","DAS4 N2 110/1/50 BSP AA PE CE"]
["DAS5-N2-W","DAS5 N2 110/1/50 BSP AA PE CE"]
["DAS6-N2-W","DAS6 N2 110/1/50 BSP AA PE CE"]
["DAS7-N2-W","DAS7 N2 110/1/50 BSP AA PE CE"]
["DAS1-N2-E","DAS1 N2 230/1/50 BSP AA PE CE"]
["DAS2-N2-E","DAS2 N2 230/1/50 BSP AA PE CE"]
["DAS3-N2-E","DAS3 N2 230/1/50 BSP AA PE CE"]
["DAS4-N2-E","DAS4 N2 230/1/50 BSP AA PE CE"]
["DAS5-N2-E","DAS5 N2 230/1/50 BSP AA PE CE"]
["DAS6-N2-E","DAS6 N2 230/1/50 BSP AA PE CE"]
["DAS7-N2-E","DAS7 N2 230/1/50 BSP AA PE CE"]
["MX102C-N2","MXS102C NP MINUS 40 N2 "]
["MX103C-N2","MXS103C NP MINUS 40 N2 "]
["MXS103-N2","MXS103 NP MINUS 40 N2 "]
["MXS104-N2","MXS104 NP MINUS 40 N2 "]
["MXS105-N2","MXS105 NP MINUS 40 N2 "]

{"sheet":"Maintenance parts","index":13,"n_rows":79,"n_cols":19,"rows_kept":79,"cut":false,"hidden":true,"merged":[]}
[]
["Generator Part number","select on","maintanance parts","item numers","Amount needed first 60 month"]
["PSA Generator with EST"]
[{"$f":"Selection!H3","v":"N2-25PBLY"},{"$f":"REPLACE(RIGHT(A4,3),2,1,\"X\")","v":"BXY"},{"$f":"IFERROR(VLOOKUP($B4,$B$41:$R$81,3,FALSE),\"\")","v":"12 Month EST Service Kit(Every 12 Months)"},{"$f":"IFERROR(VLOOKUP($B4,$B$41:$R$81,4,FALSE),\"\")","v":"M12.EST.0001"},{"$f":"IFERROR(VLOOKUP($B4,$B$41:$S$81,6,FALSE),\"\")","v":4}]
[{"$f":"A4","v":"N2-25PBLY"},{"$f":"REPLACE(RIGHT(A5,3),2,1,\"X\")","v":"BXY"},{"$f":"IFERROR(VLOOKUP($B5,$B$41:$R$81,7,FALSE),\"\")","v":"24 Month Percentage Service(Every 24 Months)"},{"$f":"IFERROR(VLOOKUP($B5,$B$41:$R$81,8,FALSE),\"\")","v":"M24.PCT.0001"},{"$f":"IFERROR(VLOOKUP($B5,$B$41:$SR$81,10,FALSE),\"\")","v":4}]
[{"$f":"A4","v":"N2-25PBLY"},"BXY",{"$f":"IFERROR(VLOOKUP($B6,$B$41:$R$81,11,FALSE),\"\")","v":"36 Month Standard Service K(Every 36 Months)"},{"$f":"IFERROR(VLOOKUP($B6,$B$41:$R$81,12,FALSE),\"\")","v":"M36.STD.0001"},{"$f":"IFERROR(VLOOKUP($B6,$B$41:$S$81,14,FALSE),\"\")","v":1}]
[{"$f":"A4","v":"N2-25PBLY"},"BXY",{"$f":"IFERROR(VLOOKUP($B7,$B$41:$R$81,15,FALSE),\"\")","v":"60 Month Standard Service Kit (Every 60 Months)"},{"$f":"IFERROR(VLOOKUP($B7,$B$41:$R$81,16,FALSE),\"\")","v":"M60.STD.0001"},{"$f":"IFERROR(VLOOKUP($B7,$B$41:$S$81,18,FALSE),\"\")","v":0}]
["PSA Generator without EST"]
[{"$f":"Selection!H4","v":"N2-25PBLN"},{"$f":"REPLACE(RIGHT(A9,3),2,1,\"X\")","v":"BXN"},{"$f":"IFERROR(VLOOKUP($B9,$B$41:$R$81,3,FALSE),\"\")","v":"12 Month Non EST Service Kit(Every 12 Months)"},{"$f":"IFERROR(VLOOKUP($B9,$B$41:$R$81,4,FALSE),\"\")","v":"M12.NONEST.0001"},{"$f":"IFERROR(VLOOKUP($B9,$B$41:$S$81,6,FALSE),\"\")","v":4}]
[{"$f":"A9","v":"N2-25PBLN"},"BXN",{"$f":"IFERROR(VLOOKUP($B10,$B$41:$R$81,7,FALSE),\"\")","v":"24 Month Percentage Service Kit(Every 24 Months)"},{"$f":"IFERROR(VLOOKUP($B10,$B$41:$R$81,8,FALSE),\"\")","v":"M24.PCT.0001"},{"$f":"IFERROR(VLOOKUP($B10,$B$41:$S$81,10,FALSE),\"\")","v":2}]
[{"$f":"A9","v":"N2-25PBLN"},"BXN",{"$f":"IFERROR(VLOOKUP($B11,$B$41:$R$81,11,FALSE),\"\")","v":"36 Month Standard Service Kit(Every 36 Months)"},{"$f":"IFERROR(VLOOKUP($B11,$B$41:$R$81,12,FALSE),\"\")","v":"M36.STD.0001"},{"$f":"IFERROR(VLOOKUP($B11,$B$41:$S$81,14,FALSE),\"\")","v":1}]
[{"$f":"A9","v":"N2-25PBLN"},"BXN",{"$f":"IFERROR(VLOOKUP($B12,$B$41:$R$81,15,FALSE),\"\")","v":"60 Month Standard Service Kit(Every 60 Months)"},{"$f":"IFERROR(VLOOKUP($B12,$B$41:$R$81,16,FALSE),\"\")","v":"M60.STD.0001"},{"$f":"IFERROR(VLOOKUP($B12,$B$41:$S$81,18,FALSE),\"\")","v":0}]
["Pre-treatment"]
[{"$f":"'Input sheet'!H27","v":""},{"$f":"A14","v":""},{"$f":"IFERROR(VLOOKUP($B14,$B$41:$R$81,3,FALSE),\"\")","v":""},{"$f":"IFERROR(VLOOKUP($B14,$B$41:$R$81,4,FALSE),\"\")","v":""},{"$f":"IFERROR(VLOOKUP($B14,$B$41:$S$81,6,FALSE),\"\")","v":""}]
[{"$f":"Selection!H8","v":""},"",{"$f":"IFERROR(VLOOKUP($B15,$B$41:$R$81,3,FALSE),\"\")","v":""},{"$f":"IFERROR(VLOOKUP($B15,$B$41:$R$81,4,FALSE),\"\")","v":""},{"$f":"IFERROR(VLOOKUP($B15,$B$41:$S$81,6,FALSE),\"\")","v":""}]
[{"$f":"Selection!H10","v":"DME025N2-E"},"DME025N2-E",{"$f":"IFERROR(VLOOKUP($B16,$B$41:$R$81,3,FALSE),\"\")","v":""},{"$f":"IFERROR(VLOOKUP($B16,$B$41:$R$81,4,FALSE),\"\")","v":""},{"$f":"IFERROR(VLOOKUP($B16,$B$41:$R$81,6,FALSE),\"\")","v":""}]
[]
[]
["Membrane generator"]
[{"$f":"Selection!H12","v":"1 x 159.003552 and 4 x 159.003553"},{"$f":"IF(LEFT(A20,9)=\"159.00403\",A20,IF(RIGHT(A20,10)=\"159.003552\",\"159.003552\",IF(RIGHT(A20,10)=\"159.003553\",\"159.003552\")))","v":"159.003552"},{"$f":"IFERROR(VLOOKUP($B20,$B$41:$R$81,3,FALSE),\"\")","v":"Maintenance kit main unit"},{"$f":"IFERROR(VLOOKUP($B20,$B$41:$R$81,4,FALSE),\"\")","v":"159.003569"},{"$f":"IFERROR(VLOOKUP($B20,$B$41:$S$81,6,FALSE),\"\")","v":4}]
[{"$f":"A20","v":"1 x 159.003552 and 4 x 159.003553"},{"$f":"B20","v":"159.003552"},{"$f":"IFERROR(VLOOKUP($B21,$B$41:$R$81,7,FALSE),\"\")","v":"Oxygen sensor"},{"$f":"IFERROR(VLOOKUP($B21,$B$41:$R$81,8,FALSE),\"\")","v":"159.002284"},{"$f":"IFERROR(VLOOKUP($B21,$B$41:$S$81,10,FALSE),\"\")","v":1}]
[{"$f":"A20","v":"1 x 159.003552 and 4 x 159.003553"},{"$f":"IF(RIGHT(A20,10)=\"159.003553\",\"159.003553\")","v":"159.003553"},{"$f":"IFERROR(VLOOKUP($B22,$B$41:$R$81,3,FALSE),\"\")","v":"Maintenance kit sub-unit"},{"$f":"IFERROR(VLOOKUP($B22,$B$41:$R$81,4,FALSE),\"\")","v":"159.003570"},{"$f":"IFERROR((VLOOKUP($B22,$B$41:$S$81,6,FALSE)*(MID('Input sheet'!H33,20,1))),\"\")","v":16}]
[]
["Dryer"]
[{"$f":"Selection!H14","v":"DME080N2-E"},{"$f":"A25","v":"DME080N2-E"},{"$f":"IFERROR(VLOOKUP($B25,$B$41:$R$81,3,FALSE),\"\")","v":""},{"$f":"IFERROR(VLOOKUP($B25,$B$41:$R$81,4,FALSE),\"\")","v":""},{"$f":"IFERROR(5/VLOOKUP($B25,$B$41:$R$81,5,FALSE),\"\")","v":""}]
[]
[]
[]
[]
[]
[]
[]
[]
[]
[]
[]
[]
[]
[]
["Part","select on","type","name 1","item number","number per year","number for 60 mounth","name 2","item number","number per year","number for 60 mounth","name 3","item number","number per year","number for 60 mounth","name 4","item number","number per year","number for 60 mounth"]
["N2XXPAXN",{"$f":"REPLACE(RIGHT(A41,3),2,1,\"X\")","v":"AXN"},"N2P PPM Generators without EST Functionality (Model Nos. N2XXPAXN)","12 Month Non EST Service Kit (Every 12 Months)","M12.NONEST.0001",1,4,"24 Month PPM Service Kit (Every 24 Months)","M24.PPM.0001",0.5,2,"36 Month Standard Service Kit (Every 36 Months)","M36.STD.0001",{"$f":"1/3","v":0.33333333333333331},1,"60 Month Standard Service Kit (Every 60 Months)","M60.STD.0001",0.2,0]
["N2XXPAXY",{"$f":"REPLACE(RIGHT(A42,3),2,1,\"X\")","v":"AXY"},"N2P PPM Generators with EST Functionality (Model Nos. N2XXPAXY)","12 Month EST Service Kit (Every 12 Months)","M12.EST.0001",1,4,"24 Month PPM Service Kit (Every 24 Months)","M24.PPM.0001",{"$f":"0.5*2","v":1},4,"36 Month Standard Service Kit (Every 36 Months)","M36.STD.0001",{"$f":"1/3","v":0.33333333333333331},1,"60 Month Standard Service Kit (Every 60 Months)","M60.STD.0001",0.2,0]
["N2XXPXXN","XXN","N2P Ultra high purity Generators without EST Functionality (Model Nos. N2XXPAXN)","12 Month Non EST Service Kit (Every 12 Months)","M12.NONEST.0001",1,4,"24 Month PPM Service Kit (Every 24 Months)","M24.PPM.0001",0.5,2,"36 Month Standard Service Kit (Every 36 Months)","M36.STD.0001",{"$f":"1/3","v":0.33333333333333331},1,"60 Month Standard Service Kit (Every 60 Months)","M60.STD.0001",0.2,0]
["N2XXPBXN","BXN","N2P % Generators without EST Functionality (Model Nos. N2XXPBXN)","12 Month Non EST Service Kit(Every 12 Months)","M12.NONEST.0001",1,4,"24 Month Percentage Service Kit(Every 24 Months)","M24.PCT.0001",0.5,2,"36 Month Standard Service Kit(Every 36 Months)","M36.STD.0001",{"$f":"1/3","v":0.33333333333333331},1,"60 Month Standard Service Kit(Every 60 Months)","M60.STD.0001",0.2,0]
["N2XXPBXY","BXY","N2P % Generators with EST Functionality (Model Nos. N2XXPBXY)","12 Month EST Service Kit(Every 12 Months)","M12.EST.0001",1,4,"24 Month Percentage Service(Every 24 Months)","M24.PCT.0001",{"$f":"0.5*2","v":1},4,"36 Month Standard Service K(Every 36 Months)","M36.STD.0001",{"$f":"1/3","v":0.33333333333333331},1,"60 Month Standard Service Kit (Every 60 Months)","M60.STD.0001",0.2,0]
[]
["Midigas","Midigas"]
["MIDIGASXNCALA",{"$f":"REPLACE(RIGHT(A48,3),2,1,\"X\")","v":"AXA"},"Midigas ppm with analyser","Kit: MIST–X Silencer (1x)\nKit: Filter Element (1x)","606280162\n010AR",1,4,"Kit: PPM Oxygen Cell (1x)\nKit: Valve Overhaul\nAir Inlet Valve Kit\nExhaust Valve Kit\nO2 Valve Kit","606400002\n606510003\n608330002\n608330002\n606500010",0.5,2]
["MIDIGASXNCBLA","BXA","Midigas % with analyser","Kit: MIST–X Silencer (1x)\nKit: Filter Element (1x)","606280162\n010AR",1,4,"Kit: % Oxygen Cell (1x)\nKit: Valve Overhaul\nAir Inlet Valve Kit\nExhaust Valve Kit\nO2 Valve Kit","606400001\n606510003\n608330002\n608330002\n606500010",0.5,2]
[]
[]
[]
["OVR","OVR"]
["OVR300HGXX","OVR300HGXX",null,"Replacement Cartridge","300OVR",1,4]
["OVR350HGXX","OVR350HGXX",null,"Replacement Cartridge","350OVR",1,4]
["OVR400HGXX","OVR400HGXX",null,"Replacement Cartridge","400OVR",1,4]
["OVE450IGXX","OVE450IGXX",null,"Replacement Cartridge","450OVR",1,4]
["OVR500IGXX","OVR500IGXX",null,"Replacement Cartridge","500OVR",1,4]
["OVR550IGXX","OVR550IGXX",null,"Replacement Cartridge","550OVR",1,4]
["Dust after filter","Dust after filter"]
["AAR030GGMX","AAR030GGMX",null,"Element","030AAR",1,4]
["AAR040GGMX","AAR040GGMX",null,"Element","040AAR",1,4]
["AAR050IGMX","AAR050IGMX",null,"Element","050AAR",1,4]
["AAR055IGMX","AAR055IGMX",null,"Element","055AAR",1,4]
["AAR060KGMX","AAR060KGMX",null,"Element","060AAR",1,4]
["AAR060KGMX","AAR060KGMX",null,"Element","060AAR",1,4]
[]
["Dryers","Dryers"]
[]
[]
[]
["Nitrosource ","Nitrosource "]
["159.003552","159.003552",null,"Maintenance kit main unit","159.003569",1,4,"Oxygen sensor","159.002284",{"$f":"1/3","v":0.33333333333333331},1]
["159.003553","159.003553",null,"Maintenance kit sub-unit","159.003570",1,4]
[]
["NitroFlow","NitroFlow"]
["159.004032","159.004032",null,"Maintenance kit generator","159.004045",1,4,"O2-sensor","159.002284",{"$f":"1/3","v":0.33333333333333331},1]
["159.004033","159.004033",null,"Maintenance kit generator","159.004045",1,4,"O2-sensor","159.002284",{"$f":"1/3","v":0.33333333333333331},1]
["159.004034","159.004034",null,"Maintenance kit generator","159.004045",1,4,"O2-sensor","159.002284",{"$f":"1/3","v":0.33333333333333331},1]